Package: MSMB Version: 1.25.0 Command: /home/biocbuild/bbs-3.21-bioc/R/bin/R CMD INSTALL MSMB StartedAt: 2025-02-13 10:56:34 -0500 (Thu, 13 Feb 2025) EndedAt: 2025-02-13 10:56:37 -0500 (Thu, 13 Feb 2025) EllapsedTime: 2.2 seconds RetCode: 0 Status: OK