Package: MSMB Version: 1.25.0 Command: /home/biocbuild/bbs-3.21-bioc/R/bin/R CMD build --keep-empty-dirs --no-resave-data MSMB StartedAt: 2025-02-13 11:30:44 -0500 (Thu, 13 Feb 2025) EndedAt: 2025-02-13 11:30:51 -0500 (Thu, 13 Feb 2025) EllapsedTime: 7.3 seconds RetCode: 0 Status: OK PackageFile: MSMB_1.25.0.tar.gz PackageFileSize: 5.05 MiB