Package: GSE159526 Version: 1.13.0 Command: /home/biocbuild/bbs-3.21-bioc/R/bin/R CMD INSTALL GSE159526 StartedAt: 2025-02-18 10:55:35 -0500 (Tue, 18 Feb 2025) EndedAt: 2025-02-18 10:55:37 -0500 (Tue, 18 Feb 2025) EllapsedTime: 1.4 seconds RetCode: 0 Status: OK