Package: GSE13015 Version: 1.15.0 Command: /home/biocbuild/bbs-3.21-bioc/R/bin/R CMD INSTALL GSE13015 StartedAt: 2025-02-18 10:58:43 -0500 (Tue, 18 Feb 2025) EndedAt: 2025-02-18 10:58:59 -0500 (Tue, 18 Feb 2025) EllapsedTime: 15.4 seconds RetCode: 0 Status: OK