Package: GSE13015 Version: 1.15.0 Command: /home/biocbuild/bbs-3.21-bioc/R/bin/R CMD check --install=check:GSE13015.install-out.txt --library=/home/biocbuild/bbs-3.21-bioc/R/site-library --timings GSE13015_1.15.0.tar.gz StartedAt: 2025-02-18 12:08:27 -0500 (Tue, 18 Feb 2025) EndedAt: 2025-02-18 12:09:40 -0500 (Tue, 18 Feb 2025) EllapsedTime: 72.1 seconds RetCode: 0 Status: OK CheckDir: GSE13015.Rcheck Warnings: 0