Welcome to mirrors.dotsrc.org

All our mirrors of open source software are available via http, https, ftp and an onion service. More information about our mirrors including statistics and contact information is available on our mirror info pages.

For information about dotsrc.org and our other services please go to our website.

Index of /bioconductor/checkResults/devel/data-experiment-LATEST/

File Name  ↓ File Size  ↓ Date  ↓ 
Parent directory/--
ALL/-2025-02-13 20:01:25
ALLMLL/-2025-02-13 20:01:25
ARRmData/-2025-02-13 20:01:25
ASICSdata/-2025-02-13 20:01:25
Affyhgu133A2Expr/-2025-02-13 20:01:25
Affyhgu133Plus2Expr/-2025-02-13 20:01:25
Affyhgu133aExpr/-2025-02-13 20:01:25
AffymetrixDataTestFiles/-2025-02-13 20:01:25
Affymoe4302Expr/-2025-02-13 20:01:25
AmpAffyExample/-2025-02-13 20:01:25
AneuFinderData/-2025-02-13 20:01:25
AshkenazimSonChr21/-2025-02-13 20:01:25
AssessORFData/-2025-02-13 20:01:25
BeadArrayUseCases/-2025-02-13 20:01:25
BeadSorted.Saliva.EPIC/-2025-02-13 20:01:25
BioImageDbs/-2025-02-13 20:01:25
BioPlex/-2025-02-13 20:01:25
BloodCancerMultiOmics2017/-2025-02-13 20:01:25
CCl4/-2025-02-13 20:01:25
CLL/-2025-02-13 20:01:25
CLLmethylation/-2025-02-13 20:01:25
COHCAPanno/-2025-02-13 20:01:25
CONFESSdata/-2025-02-13 20:01:25
COPDSexualDimorphism.data/-2025-02-13 20:01:25
COSMIC.67/-2025-02-13 20:01:25
CRCL18/-2025-02-13 20:01:25
CardinalWorkflows/-2025-02-13 20:01:25
CellMapperData/-2025-02-13 20:01:25
ChAMPdata/-2025-02-13 20:01:25
ChIPXpressData/-2025-02-13 20:01:25
ChIPexoQualExample/-2025-02-13 20:01:25
ChimpHumanBrainData/-2025-02-13 20:01:25
CluMSIDdata/-2025-02-13 20:01:25
CoSIAdata/-2025-02-13 20:01:25
ConnectivityMap/-2025-02-13 20:01:25
CopyNeutralIMA/-2025-02-13 20:01:25
CopyhelpeR/-2025-02-13 20:01:25
CytoMethIC/-2025-02-13 20:01:25
DAPARdata/-2025-02-13 20:01:25
DExMAdata/-2025-02-13 20:01:25
DLBCL/-2025-02-13 20:01:25
DMRcatedata/-2025-02-13 20:01:25
DNAZooData/-2025-02-13 20:01:25
DeSousa2013/-2025-02-13 20:01:25
DonaPLLP2013/-2025-02-13 20:01:25
DropletTestFiles/-2025-02-13 20:01:25
DrugVsDiseasedata/-2025-02-13 20:01:25
DuoClustering2018/-2025-02-13 20:01:25
DvDdata/-2025-02-13 20:01:25
EGSEAdata/-2025-02-13 20:01:25
ELMER.data/-2025-02-13 20:01:25
EatonEtAlChIPseq/-2025-02-13 20:01:25
EpiMix.data/-2025-02-13 20:01:25
EpipwR.data/-2025-02-13 20:01:25
FANTOM3and4CAGE/-2025-02-13 20:01:25
FIs/-2025-02-13 20:01:25
FieldEffectCrc/-2025-02-13 20:01:25
Fletcher2013a/-2025-02-13 20:01:25
Fletcher2013b/-2025-02-13 20:01:25
FlowSorted.Blood.450k/-2025-02-13 20:01:25
FlowSorted.Blood.EPIC/-2025-02-13 20:01:25
FlowSorted.CordBlood.450k/-2025-02-13 20:01:25
FlowSorted.CordBloodCombined.450k/-2025-02-13 20:01:25
FlowSorted.CordBloodNorway.450k/-2025-02-13 20:01:25
FlowSorted.DLPFC.450k/-2025-02-13 20:01:25
GIGSEAdata/-2025-02-13 20:01:25
GSBenchMark/-2025-02-13 20:01:25
GSE103322/-2025-02-13 20:01:25
GSE13015/-2025-02-13 20:01:25
GSE159526/-2025-02-13 20:01:25
GSE62944/-2025-02-13 20:01:25
GSVAdata/-2025-02-13 20:01:25
GWASdata/-2025-02-13 20:01:25
GenomicDistributionsData/-2025-02-13 20:01:25
GeuvadisTranscriptExpr/-2025-02-13 20:01:25
HCAData/-2025-02-13 20:01:25
HCATonsilData/-2025-02-13 20:01:25
HD2013SGI/-2025-02-13 20:01:25
HDCytoData/-2025-02-13 20:01:25
HEEBOdata/-2025-02-13 20:01:25
HIVcDNAvantWout03/-2025-02-13 20:01:25
HMP16SData/-2025-02-13 20:01:25
HMP2Data/-2025-02-13 20:01:25
HSMMSingleCell/-2025-02-13 20:01:25
HarmanData/-2025-02-13 20:01:25
HarmonizedTCGAData/-2025-02-13 20:01:25
HelloRangesData/-2025-02-13 20:01:25
HiBED/-2025-02-13 20:01:25
HiCDataHumanIMR90/-2025-02-13 20:01:25
HiCDataLymphoblast/-2025-02-13 20:01:25
HiContactsData/-2025-02-13 20:01:25
HighlyReplicatedRNASeq/-2025-02-13 20:01:25
Hiiragi2013/-2025-02-13 20:01:25
HumanAffyData/-2025-02-13 20:01:25
IHWpaper/-2025-02-13 20:01:25
ITALICSData/-2025-02-13 20:01:25
Illumina450ProbeVariants.db/-2025-02-13 20:01:25
IlluminaDataTestFiles/-2025-02-13 20:01:25
Iyer517/-2025-02-13 20:01:25
JASPAR2014/-2025-02-13 20:01:25
JASPAR2016/-2025-02-13 20:01:25
JohnsonKinaseData/-2025-02-13 20:01:25
KEGGandMetacoreDzPathwaysGEO/-2025-02-13 20:01:25
KEGGdzPathwaysGEO/-2025-02-13 20:01:25
KOdata/-2025-02-13 20:01:25
LRcellTypeMarkers/-2025-02-13 20:01:25
LegATo/-2025-02-13 20:01:25
LiebermanAidenHiC2009/-2025-02-13 20:01:25
ListerEtAlBSseq/-2025-02-13 20:01:25
LungCancerACvsSCCGEO/-2025-02-13 20:01:25
LungCancerLines/-2025-02-13 20:01:25
M3DExampleData/-2025-02-13 20:01:25
MACSdata/-2025-02-13 20:01:25
MAQCsubset/-2025-02-13 20:01:25
MEDIPSData/-2025-02-13 20:01:25
MEEBOdata/-2025-02-13 20:01:25
MMDiffBamSubset/-2025-02-13 20:01:25
MOFAdata/-2025-02-13 20:01:25
MSMB/-2025-02-13 20:01:25
MUGAExampleData/-2025-02-13 20:01:25
MerfishData/-2025-02-13 20:01:25
MetaGxBreast/-2025-02-13 20:01:25
MetaGxOvarian/-2025-02-13 20:01:25
MetaGxPancreas/-2025-02-13 20:01:25
MetaScope/-2025-02-13 20:01:25
MethylAidData/-2025-02-13 20:01:25
MethylSeqData/-2025-02-13 20:01:25
MicrobiomeBenchmarkData/-2025-02-13 20:01:25
MouseAgingData/-2025-02-13 20:01:25
MouseGastrulationData/-2025-02-13 20:01:25
MouseThymusAgeing/-2025-02-13 20:01:25
NCIgraphData/-2025-02-13 20:01:26
NGScopyData/-2025-02-13 20:01:26
NanoporeRNASeq/-2025-02-13 20:01:26
NestLink/-2025-02-13 20:01:26
NetActivityData/-2025-02-13 20:01:26
Neve2006/-2025-02-13 20:01:26
NxtIRFdata/-2025-02-13 20:01:26
OMICsPCAdata/-2025-02-13 20:01:26
ObMiTi/-2025-02-13 20:01:26
OnassisJavaLibs/-2025-02-13 20:01:26
PCHiCdata/-2025-02-13 20:01:26
PREDAsampledata/-2025-02-13 20:01:26
PWMEnrich.Dmelanogaster.background/-2025-02-13 20:01:26
PWMEnrich.Hsapiens.background/-2025-02-13 20:01:26
PWMEnrich.Mmusculus.background/-2025-02-13 20:01:26
PasillaTranscriptExpr/-2025-02-13 20:01:26
PathNetData/-2025-02-13 20:01:26
PepsNMRData/-2025-02-13 20:01:26
PhyloProfileData/-2025-02-13 20:01:26
ProData/-2025-02-13 20:01:26
ProteinGymR/-2025-02-13 20:01:26
PtH2O2lipids/-2025-02-13 20:01:26
QDNAseq.hg19/-2025-02-13 20:01:26
QDNAseq.mm10/-2025-02-13 20:01:26
QUBICdata/-2025-02-13 20:01:26
RGMQLlib/-2025-02-13 20:01:26
RITANdata/-2025-02-13 20:01:26
RMassBankData/-2025-02-13 20:01:26
RNAmodR.Data/-2025-02-13 20:01:26
RNAseqData.HNRNPC.bam.chr14/-2025-02-13 20:01:26
RRBSdata/-2025-02-13 20:01:26
RTCGA.CNV/-2025-02-13 20:01:26
RTCGA.PANCAN12/-2025-02-13 20:01:26
RTCGA.RPPA/-2025-02-13 20:01:26
RTCGA.clinical/-2025-02-13 20:01:26
RTCGA.mRNA/-2025-02-13 20:01:26
RTCGA.methylation/-2025-02-13 20:01:26
RTCGA.miRNASeq/-2025-02-13 20:01:26
RTCGA.mutations/-2025-02-13 20:01:26
RTCGA.rnaseq/-2025-02-13 20:01:26
RUVnormalizeData/-2025-02-13 20:01:26
RcisTarget.hg19.motifDBs.cisbpOnly.500bp/-2025-02-13 20:01:26
ReactomeGSA.data/-2025-02-13 20:01:26
RegParallel/-2025-02-13 20:01:26
RforProteomics/-2025-02-13 20:01:26
RnBeads.hg19/-2025-02-13 20:01:26
RnBeads.hg38/-2025-02-13 20:01:26
RnBeads.mm10/-2025-02-13 20:01:26
RnBeads.mm9/-2025-02-13 20:01:26
RnBeads.rn5/-2025-02-13 20:01:26
RnaSeqSampleSizeData/-2025-02-13 20:01:26
SBGNview.data/-2025-02-13 20:01:26
SCLCBam/-2025-02-13 20:01:26
SFEData/-2025-02-13 20:01:26
SNAData/-2025-02-13 20:01:26
SNAGEEdata/-2025-02-13 20:01:26
SNPhoodData/-2025-02-13 20:01:26
STexampleData/-2025-02-13 20:01:26
SVM2CRMdata/-2025-02-13 20:01:26
SimBenchData/-2025-02-13 20:01:26
Single.mTEC.Transcriptomes/-2025-02-13 20:01:26
SingleCellMultiModal/-2025-02-13 20:01:26
SingleMoleculeFootprintingData/-2025-02-13 20:01:26
SomatiCAData/-2025-02-13 20:01:26
SomaticCancerAlterations/-2025-02-13 20:01:26
SpatialDatasets/-2025-02-13 20:01:26
SpikeIn/-2025-02-13 20:01:26
SpikeInSubset/-2025-02-13 20:01:26
SubcellularSpatialData/-2025-02-13 20:01:26
TBX20BamSubset/-2025-02-13 20:01:26
TCGAMethylation450k/-2025-02-13 20:01:26
TCGAWorkflowData/-2025-02-13 20:01:26
TCGAbiolinksGUI.data/-2025-02-13 20:01:26
TCGAcrcmRNA/-2025-02-13 20:01:26
TCGAcrcmiRNA/-2025-02-13 20:01:26
TENxBUSData/-2025-02-13 20:01:26
TENxBrainData/-2025-02-13 20:01:26
TENxPBMCData/-2025-02-13 20:01:26
TENxVisiumData/-2025-02-13 20:01:26
TENxXeniumData/-2025-02-13 20:01:26
TMExplorer/-2025-02-13 20:01:26
TabulaMurisData/-2025-02-13 20:01:26
TabulaMurisSenisData/-2025-02-13 20:01:26
TargetScoreData/-2025-02-13 20:01:26
TargetSearchData/-2025-02-13 20:01:26
TimerQuant/-2025-02-13 20:01:26
TransOmicsData/-2025-02-13 20:01:26
TumourMethData/-2025-02-13 20:01:26
VariantToolsData/-2025-02-13 20:01:26
VectraPolarisData/-2025-02-13 20:01:26
WES.1KG.WUGSC/-2025-02-13 20:01:26
WGSmapp/-2025-02-13 20:01:26
WeberDivechaLCdata/-2025-02-13 20:01:26
XhybCasneuf/-2025-02-13 20:01:26
adductData/-2025-02-13 20:01:25
affycompData/-2025-02-13 20:01:25
affydata/-2025-02-13 20:01:25
airway/-2025-02-13 20:01:25
antiProfilesData/-2025-02-13 20:01:25
aracne.networks/-2025-02-13 20:01:25
bcellViper/-2025-02-13 20:01:25
beadarrayExampleData/-2025-02-13 20:01:25
benchmarkfdrData2019/-2025-02-13 20:01:25
beta7/-2025-02-13 20:01:25
biotmleData/-2025-02-13 20:01:25
biscuiteerData/-2025-02-13 20:01:25
bladderbatch/-2025-02-13 20:01:25
blimaTestingData/-2025-02-13 20:01:25
bodymapRat/-2025-02-13 20:01:25
breakpointRdata/-2025-02-13 20:01:25
breastCancerMAINZ/-2025-02-13 20:01:25
breastCancerNKI/-2025-02-13 20:01:25
breastCancerTRANSBIG/-2025-02-13 20:01:25
breastCancerUNT/-2025-02-13 20:01:25
breastCancerUPP/-2025-02-13 20:01:25
breastCancerVDX/-2025-02-13 20:01:25
brgedata/-2025-02-13 20:01:25
bronchialIL13/-2025-02-13 20:01:25
bsseqData/-2025-02-13 20:01:25
bugphyzz/-2025-02-13 20:01:25
cMap2data/-2025-02-13 20:01:25
cancerdata/-2025-02-13 20:01:25
ccdata/-2025-02-13 20:01:25
celarefData/-2025-02-13 20:01:25
celldex/-2025-02-13 20:01:25
cfToolsData/-2025-02-13 20:01:25
chipenrich.data/-2025-02-13 20:01:25
chipseqDBData/-2025-02-13 20:01:25
chromstaRData/-2025-02-13 20:01:25
clustifyrdatahub/-2025-02-13 20:01:25
cnvGSAdata/-2025-02-13 20:01:25
colonCA/-2025-02-13 20:01:25
crisprScoreData/-2025-02-13 20:01:25
curatedAdipoArray/-2025-02-13 20:01:25
curatedAdipoChIP/-2025-02-13 20:01:25
curatedAdipoRNA/-2025-02-13 20:01:25
curatedBladderData/-2025-02-13 20:01:25
curatedBreastData/-2025-02-13 20:01:25
curatedCRCData/-2025-02-13 20:01:25
curatedMetagenomicData/-2025-02-13 20:01:25
curatedOvarianData/-2025-02-13 20:01:25
curatedPCaData/-2025-02-13 20:01:25
curatedTBData/-2025-02-13 20:01:25
curatedTCGAData/-2025-02-13 20:01:25
davidTiling/-2025-02-13 20:01:25
depmap/-2025-02-13 20:01:25
derfinderData/-2025-02-13 20:01:25
diffloopdata/-2025-02-13 20:01:25
diggitdata/-2025-02-13 20:01:25
dorothea/-2025-02-13 20:01:25
dressCheck/-2025-02-13 20:01:25
dyebiasexamples/-2025-02-13 20:01:25
easierData/-2025-02-13 20:01:25
ecoliLeucine/-2025-02-13 20:01:25
emtdata/-2025-02-13 20:01:25
eoPredData/-2025-02-13 20:01:25
epimutacionsData/-2025-02-13 20:01:25
estrogen/-2025-02-13 20:01:25
etec16s/-2025-02-13 20:01:25
ewceData/-2025-02-13 20:01:25
faahKO/-2025-02-13 20:01:25
fabiaData/-2025-02-13 20:01:25
ffpeExampleData/-2025-02-13 20:01:25
fibroEset/-2025-02-13 20:01:25
fission/-2025-02-13 20:01:25
flowPloidyData/-2025-02-13 20:01:25
flowWorkspaceData/-2025-02-13 20:01:25
fourDNData/-2025-02-13 20:01:25
frmaExampleData/-2025-02-13 20:01:25
furrowSeg/-2025-02-13 20:01:25
gDNAinRNAseqData/-2025-02-13 20:01:25
gDRtestData/-2025-02-13 20:01:25
gageData/-2025-02-13 20:01:25
gaschYHS/-2025-02-13 20:01:25
gcspikelite/-2025-02-13 20:01:25
geneLenDataBase/-2025-02-13 20:01:25
genomationData/-2025-02-13 20:01:25
golubEsets/-2025-02-13 20:01:25
gpaExample/-2025-02-13 20:01:25
grndata/-2025-02-13 20:01:25
h5vcData/-2025-02-13 20:01:25
hapmap100khind/-2025-02-13 20:01:25
hapmap100kxba/-2025-02-13 20:01:25
hapmap500knsp/-2025-02-13 20:01:25
hapmap500ksty/-2025-02-13 20:01:25
hapmapsnp5/-2025-02-13 20:01:25
hapmapsnp6/-2025-02-13 20:01:25
harbChIP/-2025-02-13 20:01:25
healthyControlsPresenceChecker/-2025-02-13 20:01:25
healthyFlowData/-2025-02-13 20:01:25
hgu133abarcodevecs/-2025-02-13 20:01:25
hgu133plus2CellScore/-2025-02-13 20:01:25
hgu133plus2barcodevecs/-2025-02-13 20:01:25
hgu2beta7/-2025-02-13 20:01:25
homosapienDEE2CellScore/-2025-02-13 20:01:25
humanHippocampus2024/-2025-02-13 20:01:25
humanStemCell/-2025-02-13 20:01:25
imcdatasets/-2025-02-13 20:01:25
kidpack/-2025-02-13 20:01:25
leeBamViews/-2025-02-13 20:01:25
leukemiasEset/-2025-02-13 20:01:25
lumiBarnes/-2025-02-13 20:01:25
lungExpression/-2025-02-13 20:01:25
lydata/-2025-02-13 20:01:25
mCSEAdata/-2025-02-13 20:01:25
macrophage/-2025-02-13 20:01:25
mammaPrintData/-2025-02-13 20:01:25
maqcExpression4plex/-2025-02-13 20:01:25
marinerData/-2025-02-13 20:01:25
mcsurvdata/-2025-02-13 20:01:25
metaMSdata/-2025-02-13 20:01:25
methylclockData/-2025-02-13 20:01:25
miRNATarget/-2025-02-13 20:01:25
miRcompData/-2025-02-13 20:01:25
microRNAome/-2025-02-13 20:01:25
microbiomeDataSets/-2025-02-13 20:01:25
minfiData/-2025-02-13 20:01:25
minfiDataEPIC/-2025-02-13 20:01:25
minionSummaryData/-2025-02-13 20:01:25
mosaicsExample/-2025-02-13 20:01:25
mouse4302barcodevecs/-2025-02-13 20:01:25
msPurityData/-2025-02-13 20:01:25
msd16s/-2025-02-13 20:01:25
msdata/-2025-02-13 20:01:25
msigdb/-2025-02-13 20:01:25
msqc1/-2025-02-13 20:01:25
mtbls2/-2025-02-13 20:01:25
muleaData/-2025-02-13 20:01:25
multiWGCNAdata/-2025-02-13 20:01:25
muscData/-2025-02-13 20:01:26
mvoutData/-2025-02-13 20:01:26
nanotubes/-2025-02-13 20:01:26
nullrangesData/-2025-02-13 20:01:26
oct4/-2025-02-13 20:01:26
octad.db/-2025-02-13 20:01:26
optimalFlowData/-2025-02-13 20:01:26
orthosData/-2025-02-13 20:01:26
pRolocdata/-2025-02-13 20:01:26
parathyroidSE/-2025-02-13 20:01:26
pasilla/-2025-02-13 20:01:26
pasillaBamSubset/-2025-02-13 20:01:26
pd.atdschip.tiling/-2025-02-13 20:01:26
pepDat/-2025-02-13 20:01:26
plotgardenerData/-2025-02-13 20:01:26
prebsdata/-2025-02-13 20:01:26
preciseTADhub/-2025-02-13 20:01:26
prostateCancerCamcap/-2025-02-13 20:01:26
prostateCancerGrasso/-2025-02-13 20:01:26
prostateCancerStockholm/-2025-02-13 20:01:26
prostateCancerTaylor/-2025-02-13 20:01:26
prostateCancerVarambally/-2025-02-13 20:01:26
ptairData/-2025-02-13 20:01:26
pumadata/-2025-02-13 20:01:26
qPLEXdata/-2025-02-13 20:01:26
rRDPData/-2025-02-13 20:01:26
raerdata/-2025-02-13 20:01:26
rcellminerData/-2025-02-13 20:01:26
rheumaticConditionWOLLBOLD/-2025-02-13 20:01:26
sampleClassifierData/-2025-02-13 20:01:26
scATAC.Explorer/-2025-02-13 20:01:26
scMultiome/-2025-02-13 20:01:26
scRNAseq/-2025-02-13 20:01:26
scTHI.data/-2025-02-13 20:01:26
scaeData/-2025-02-13 20:01:26
scanMiRData/-2025-02-13 20:01:26
scpdata/-2025-02-13 20:01:26
seq2pathway.data/-2025-02-13 20:01:26
seqc/-2025-02-13 20:01:26
serumStimulation/-2025-02-13 20:01:26
sesameData/-2025-02-13 20:01:26
seventyGeneData/-2025-02-13 20:01:26
shinyMethylData/-2025-02-13 20:01:26
signatureSearchData/-2025-02-13 20:01:26
simpIntLists/-2025-02-13 20:01:26
smokingMouse/-2025-02-13 20:01:26
spatialDmelxsim/-2025-02-13 20:01:26
spatialLIBD/-2025-02-13 20:01:26
spqnData/-2025-02-13 20:01:26
stemHypoxia/-2025-02-13 20:01:26
synapterdata/-2025-02-13 20:01:26
systemPipeRdata/-2025-02-13 20:01:26
tartare/-2025-02-13 20:01:26
timecoursedata/-2025-02-13 20:01:26
tinesath1cdf/-2025-02-13 20:01:26
tinesath1probe/-2025-02-13 20:01:26
tissueTreg/-2025-02-13 20:01:26
tofsimsData/-2025-02-13 20:01:26
topdownrdata/-2025-02-13 20:01:26
tuberculosis/-2025-02-13 20:01:26
tweeDEseqCountData/-2025-02-13 20:01:26
tximportData/-2025-02-13 20:01:26
vulcandata/-2025-02-13 20:01:26
xcoredata/-2025-02-13 20:01:26
yeastCC/-2025-02-13 20:01:26
yeastExpData/-2025-02-13 20:01:26
yeastGSData/-2025-02-13 20:01:26
yeastNagalakshmi/-2025-02-13 20:01:26
yeastRNASeq/-2025-02-13 20:01:26
zebrafishRNASeq/-2025-02-13 20:01:26
120px-Blue_Light_Icon.svg.png7.1 KiB2025-02-13 20:01:24
120px-Green_Light_Icon.svg.png7.1 KiB2025-02-13 20:01:24
120px-Red_Light_Icon.svg.png7.0 KiB2025-02-13 20:01:24
BUILD_STATUS_DB.txt47.1 KiB2025-02-13 20:01:24
DEVEL3b.png2.6 KiB2025-02-13 20:01:24
PROPAGATION_STATUS_DB.txt30.7 KiB2025-02-13 20:01:24
Renviron.bioc3.3 KiB2025-02-13 20:01:24
index.html594.6 KiB2025-02-13 20:01:26
meat-index.dcf46.2 KiB2025-02-13 20:01:24
nebbiolo1-NodeInfo.html6.8 KiB2025-02-13 20:01:24
nebbiolo1-R-instpkgs.html517.1 KiB2025-02-13 20:01:24
report.css11.0 KiB2025-02-13 20:01:24
report.js6.0 KiB2025-02-13 20:01:24
report.tgz1.2 MiB2025-02-13 20:01:28
skipped-index.dcf0 B2025-02-13 20:01:24