Package: ontoProcData Version: 0.99.9904 Command: /home/biocbuild/bbs-3.21-bioc/R/bin/R CMD INSTALL ontoProcData StartedAt: 2025-02-12 06:30:07 -0500 (Wed, 12 Feb 2025) EndedAt: 2025-02-12 06:30:09 -0500 (Wed, 12 Feb 2025) EllapsedTime: 2.3 seconds RetCode: 0 Status: OK