=ksƲ̯UfmE ƋUv_l6nݢ4b!I&':?޿w~= l`wR%kKlЙnXvyUSUOAԪP9U~( qR騜knZACEsEW {o.pWV̿PU_U`L4$K5"@RELIGj<#p=յbZ<4<6i\c)ŏQ)\\~ ;Ox tv~c)ϔ# 53J%a41{nJ9Bm@.Hm>^">We2tš(Uk20hQ!(ցqHeOGçg'4>>?_Xʔs!=@x$ <[voN o,l._@#=ȑ7}R.ygqBޜm~sOwq8Apg1˗\]b.I42de&>`'EdEZ~[<Yɕ\]&iiBde+Of67f:X~L`0ސSySEbt"jFD1Dcd?9^`<ԟ(K1ɔǚe8xTh@lFfw'E8y@qPR52#hn!m~|3X?NlPoDՠ8: ʀ z=n08W-twbV1#8Q F& {r]X9.Nw4n @A^?5İ6.P ? 'RTdDCovmZw?=`JM]~-0}ZT>7ħ<[ۑgk+Hei*bR IŬ^1~ N^BRE\F4D<\=@.! բTkoCOHLؒinX&53<ɺ&%K7xfLCCԤIrG'K@* ^ :)K R,zb;oGp !̉ I?{? JMCʛ;{M(ZT2+o5N)#[~@Jbľ)L)-x+4RT ә/ؐ-6f Hv3|*DrƼB>!kvh^+`S9o1))3ץVKad:9ftig'?n_x?;HyJc rWLq+}p?5T"9{A"e84BF+tIM{?P:ZdDQGP Mpܑ+zFXϿׯNս_GxG;uDfnШOS-{y .a ޱeQkԲ p '@iM& !>7$MS,J!&5'TU)2Ð؜R+S5mtzVa( xykgn_mr8+3+]^A[.TmW8h Qۗ/rv|*^-#/$f U:DCC<0 7@aԑEB@rGGouGcg0lG"r̶1,hėx?!fnu4@1PnG^0s1Ơr ˊ/VsabR Rv|&0lRwKЧ~ 'C%PF&!`.U7dn;=vBL\[V5K!r¤I-1]C:v%o o$Kuv%үSJQ>]/Zl]@pR/K*Rrp냢9f=hz̗Nޓttᖇz@5IyPfTVD 7JCc<97]óBbf5F=ϻ1?qlC\ ZM}\oUpBsU(mE/ o`DPr姧'̄-T -ȝ!iM`xεp$_('E-H0A%>?Obݹ@5kc2[o*z ɓe3q<{v< Y;.9ǎvJ-^w?"&* )CgT(E >a] v[p8Լkv i9?jwho4;snl(@sOlMuJ`+ucg.v ` 6_#rG:ΞO1fȲJՅgՀ& 0Lc'ힳiwCvHrjx4۷@nDᰝO]7׊6v(4kܾ)Wx'ǃw ܰaʶ3<#C:d R~`Ԏш.sN`2&Q˹XxuRvT mƸsuuwݻoܞsUOF`&sΰu*3)x qI).Bt"AWY\:G A`Fm_F@m}.9Ò}GDgx|V4Y7Dzנ喪F fsBE}&#$S`0`6kJ)(Uǖq~kUrl^gx~c]15[OWFn}x`gPi\m.ķ]~=ݻ϶Ȗd uҧ(x0S.h|\*u;*ibXI~DQ$@x+ઃY@[ 1QB\(޾e ʺ P/G4&cڸOM9(֋c^ɱ蚜NCpREOJJ:mk|CJk;_"inv3wytzq73[ћJz69d<.QϾ4ݠt\( `XHG,s^KcK켵=20p\*p Ê9M/:V d\:U.a-}D,uoKg`ۣ㸛 uCS/Ê o&=sQatڝ;bbDE&X͇*䍊RqsGXMuN,@KΛc~2XN $w^8\B D캡ee"lsh\HCX 'Nle7\u^;dubX&O>:FOq.6.[ &J!CKИ3ἃjD+Lb-`$**V٧%ݯO23n"H%Ps)i{g4MZsDή Xf-=45~h압Иv%'Ks} Z#_V D6sl%KV]W?zV.Yx'JUSYq8+-g5k}M? ~}\H-g Bpv$fηmYNdKzْ78D5-e|;9.U΀d[3 pA5G<xkx+E?}Dg9?˙YmY/U;r]t8JEd+ǵjV>M_[_WܷV/m'3$u 'km8nJ|i" H1Up"{BV>L(H=Kޥ2cM0nY29!*e_I_)}G(?%96WEku?˝;M S+_/˾>YLN^ZbS<|vfG|F>wE߼x'C&X>o_—"f셟6>}Hf/ |4EDK;=yp궏ȗ}]|WJKT1g/O{3UIG|h(u|}ĥW a|HWv/.gĐ禝@_:=>_gd;W;'Ai麺D^ V?7υrQ<6hE_<|ft[%{unn"1-| ]]' A_(zBt/GKħN?~(?q2g0|`*yR.&P-ٳ] !}F H,zUcckB궲~6t,ZlL:60e|$^NJй/rHՒ8~b"zV;]5ywOm_GeG3$W.VLk_݈ |}7w[otC4o(4ڥ PCgr7Py?g 4>b%MuY|L&Ҟ%"~kQ1 o)q(uir /=qMC"*bCgZɖC`=|y;צFr"ry9$p=6M_0M2 RGڪ,%!d:ɏ-T=NiɃu;^8Ǘ*cY؄r |J&;Cج<}sbyWGE[50 p9$dOrNx>:_R-q*O_;v>sقwX*' rcG n"gq\Q*2OKg{+;J $aN]/Vu {㛨i)ucí <<+^ Ww4O=π3+#νPѳL(UO.JM&P+piUA^5 Dݟg6z|w=?^H=Y%~HE-kz}}s(o3?kٿǦd4Ϩ}6c Lğ>ez[ ^T">vo߾|iK =C M#vpCnk^V Gz7@! uˎ7\WR6hǻVQ$bρ;m>w>=?c}>"SC6b٤8?"/nsSzZ~(Л랟D%;U;#O4 /ݺg^@'Җx{ht(=Eh>xo)Y;M֦l=|UZĪB8%g{فWJ\/P~!,,fO5ojj{q$(v+o?b+e3 tU0 u};3_ l0hƑu?y~3|G<(hur7o̳4X8rBWGۻgV~|8=0oxyTmE|'~\|1 A~akxJGS~Ÿ~x(#γQ=8||gzdEez69um? |RD bkGK6V.^U^taĬg͛O Me5;ɏ*D(?)NxqO޶2ZrK`.x>:ߞ;d^B5 ypk^я[*]8ϗ O-SQ+w w_ˉV\B:?ykd 9 HYͰ p o^eG}(ܦG= ZMu~~'ly"C^ ԿvRX/"Dj[="Zbo[x@D3l&I}>ߛU}X8^f.WzPB$3͋:}fׇּ|AWdNo.D!k:Kz,@>_ 0~9~n*%x;^'S&{Wy>Cq;RX9_P}}#"<܂yL8ݟ<  ڃymx2aoγf>lA>UJT6-ϫ+uUJ.};0en?ÖG!ۃ}ybTvMwKz9޷FkxhM4>;|6 ^<В>{_yFMxԃ6ny_GȔ6~DwoGt^*eKAP;7g̟|EH~ ETb Riy R]O2:N'{Pq-oSkYցT@Y9%3czp7ϊJF\j-S"EOY#0Т17«X(%hwH7>p~0:;^%.!yCd+_Irdd= 4/Bmyz^"稩e~6P9d귻C(x<u&۟Yo/_657]J|pOkQ#~7BbK=[yxiū7bt, W >. 7 ]̻Y[ҏpRY݁( T<>P?C'TRk7CgkW9`~B-Mط =y2^Ѷ'rN~kusNPj+!d^g=m[W?ԛKbG"rЁZ~W-g&9݁^%҉/i^pR /T/2QҶJ#. ^inI s?KW<Ƨ=ʴ=!ޜ[*4rk7K>E]2 *$NB/y#^Qq"V戇k^h4O̍iPMd ݾ>_gx׷cc~?=y}[w#Sy0X^GMck kxTz%#cd6:KϠ0/n|DE`MZb9'+_7f|';zLEH@>Q 􃥎1x sޭUo.3|J!3O'EkhCk?DVG}n쨊5g6@́Z>m#oǡy!K1R|Lt9NtӼ(v> /%b(wi~_usoeڰ`Ҽ̹w؟L'&A@!<z?'M=̟㛿{y缼 ^!_*$-=ݵ?&> (ݞR8 .8Y|!6%%YxN> y%1Vq?v?d>o^=V ?`>to\2ϕRW+]h|?t;T.{ 恷GQ_}QoX.Erfv2>5&>],8a"cf&|5pyl+7 dg|,V4^s2/7KF}8RJ`]%k)^q ]-61:YkY$<<`~wM:U%yJNDha;a '%lYsBEڔZEמ}@3/Y {>2>޵y7g\9g [b)(8O?O/g{3Wg0}Yzs/?` &u妿6w RU ߰z,Q/ކdn۟ߎױ{|RJOhJdWÕ^w o}>~׃eBQ"{]g?w7G&=TC.D́6]v/^%8ZHoY$Յ[ d6Dz|ePW28ShQ8nAz?;}2P=!+*'R0y37E/ Cq4%!:"?~U9%'y|sػA/> dnx :oww<ȞfuNLKlrAex,^`1w _'cmVcM0/rV 'k)օtPY dDa^,M5'=C3>by#g~m{ŒO;2؃W!4o"r7[Kr&*L04oz#-&g!RG#=ye(&yfENx{ in؂/L~?`>Ge+s~׾i(/آԧWJ(C9{y@gz>_u/ߡyF׃$pmjh#~%pr)3 [Gd0ߢ]T^Vl 9ң&f5LoĉԷu+Ⱘ-X}|9x h}D7*Ɏ<"$ޥCP ѿE ΃K+.dk)G5v-v |P,O=Jě#= dT" vP /i^~['"Wuz.8_"[05hm0IO RLirR#}yiAOO0>x_"ɿr)^#W| 7cмR7r|B ?28g[EnO =fx(yM H%:xY^V*|q"KQxjޭ#9}4[% ΡxTW>dxq33'4Ƨ۟Cg3O5G*Cx\Kx2 /`~E߮γaÛMȞU|мj>W !m16)ȻBU>WzQ(HSy?w Lfz~sov7ƨ`Yz:ճn[w@f|kWJ,׳c?2Vȱy}ȷU\;oм2H|5 د7}@ [z _qCk3^-5?ޮ9qP@2IN&e!7a зmBɅ:mKPd[R_N3&ȇ8'AP1+~p~[</Y//9y/`0 _7T]&yΨx@?@8Oտ~&ܬ7k o:yԁ|gۻ/VHo7 >O5 <t< L'!xI by&<Ϗƻe#lAPpMo?s׍M|@ލfhKb5}A'nxGr-*_:*AL#}Rd<@\!g%Ӕ^RÞ9<Wȁmj =_1xFI~z|x W2pP3xe ƫU!b~Uei}k}/cx ~{3 ^g?Gxm ^g ݀eL"^2ڮuG1 Odzf!|/`Q!Ej|g&B|O~qtE~$pe }~)< Q̚?x,E5!,lF~W|sSC b6rcQu1o3z3-q/spw<M"e|P=D)V IZ 9^|\{/ />;7] L!t1z;wLu4GWP?Kxp.mlK>5!y5|_'~`zƳ\bzsZa :``p4Xl~O}EcO\9<Ş_<>V<14uWa ڬcx|$"'enKR{ y)ֈ]Hg`upt?xX9mDo )=xf}\6;s/57xNp|o`},+d~]s_ Xm6x@G>]K8Cݻ=,0ėvx^/YU#{^ (gu݆|\XœQ" 9R3x9\|.v ^𪔕0&eIթAOqVV'3@j g{`8vxc^5e&c~&t>ś̃?t< ^p7r_~R]京dgH?͔D9/B;ھmOmuyǿryk|s|´ l=mC~( avύY'< |d˟ ~~ɋ ׷BvwӅ43w}<>pWrA1akQqgĭZ}k,O>F? Gh%r?zy)ne86p4#4<_|vϛͻysܓTR2T#GӼ^Ŗ$wH>Nt2E(=>h֗IX,}}_ѬQ5K/vRŧ{|f@%a[<`D(›S1R!^'tOD[ß'Lu8?5^>py>yf`5 ?">ϺH}I`)aZ(Q!_X'~A)Vl|o T(Ηx␧,C+1x<9M cϤf1`ٝ >+/xs'2;T/x~/~ouP$D>NkJYg[|w@2R<Ľx>OyRbw:73*}T_ dQѩxFһ=8;?0F6}~< ?'Kq<t`vq=ޗ3 ?)(U CnVpa/\+ߎ@ tP1xg '_Gw\կJxZ"[`xyh<}2/9WQ*ֹ|emB?X{z=u"(ׯG_ju#p3v@}f}Ϟp@|+VNFM|/%bͽ]} X:+{.Y*T/ Ϲx,At˓vxV/v14#%,E ᴇRm߾wyXxK}YxU_%r7׳lD.Պcr$o!ֈlI<Ӣap2[ǟ@LΘ2AXdY<]|9;|rYZk@OjÑPFg^ ~t?]p~+_t|fU~89u}}^eʣ]QPO/i*q#SVO2zy|ī6!B?x.֧woس6o.+O西,93PpOpu)SP _`gd?SQ驢|;%._/Oaҥ~7 oXН/zc+X|Tc\=(9+OWA-xt>-*Ucۍ/!A?;L_ 쿊ǝÊ+TAr WTzg_|A|1m~G=4#Xa-ɕs0:?2gSC]ZAc TG3_ IWx|Dzd8LFs4On %|CNɨH{?Ajp}ÿ1Uaֈx_ }!}[_xc^瀧sޟ7=%vŸ\9/V/0xz9>oviCRdUԘdRtD7̈׾M3~}^ ,ߩ_t?xo?X&xCobhT r{؇_5xK`x'}/h1+*95ZB]DBD_xNEexfƌ'2IiFSd&S^pWK||Q>oY4A.=pg}@gia=^>j 84}}+OxECp o%+hy5`}z8gx.:O-;^S$AW|*V̐(QE@~+gjoh>3E22>k"_|ÀQTU~ b4bX 'sкx~@!b1w xO'xȗ> T?+D.u??x&k)# v wr}BDapUNu ^);Ly oOGؽ87zY6j{%vԳ P/0"x 2uP-"h*'Lj;eT',%S,xUD[Z~(caBBɼĻ):۔z g-Jl/DY!k>@X)3@/3UK_rd>o_#v:X"3VmBd<`/2Hf󅷄눊7/т /%}˷x>:my^ͤ0Ρz {җg)jzݎOknokʧ=;]S?9xiuQz^ƙݯ+ZTyS$ofSbM5OspbPPo}6xZ$8j{)OW7In5 ,w^o=f}?c/|>bv8GX}rnX+יy5'cF`OBȼO ls5|~7n?@q3(w G[9HHy%r+|xf_/=o{p-8t}ʷ$e) >2QeM& TVXb:8#t*7ܲԫI,/&7<U׌ 1^DlRپdm3d)?:=Nꒉkt;t|9A2'C?0?eʙ⪗ug>or3;rȏ$֘S2oH+,.2Idmq۽9p(3xy;gГR`z6߅nway:oxOCtȣ}.@>_O1~O2KyFk>s<.f}4ցM߁xoՄ-~Y* >' tAxLgDΓoΕzsiM5|.2SxVkD_+'VЪ}XӦeYs}{<{1? tRTy#wx[9+ŔRQ$ "~.UEM)kw L8o-g5:D^x10> S|>ߟlyx琽xEҏqU G~5{_˫~=/~qP? EF|B=2WL.)5m K=_cn&%!5|?#h;AJN qOǯ ɗ A=MI" A A<?,e"R-byzO׷8uSgcy?#0䟁,?%ⴞx2F?-׎/?~ CR%8žt^b:~ Ǒ ^#< GȌ=GӓaxŅն_=LgQdrl\^qZu<&>A>o੯:uv<~Kg__i:y=_ғmx]pֶ!ziy+$J/5FUS8mKY-/FsB{>^&E lr\Cbg_+rta>WΠC /o{JD&>俎#TX%Uk_GVݨ(Tp,FZJ x};PeN I /c>o-O4l,(Y_zP󚧿! KWˡ1?bG>M >ퟟ /KoLJtw&o>vy߾|?| b_[^*:,6x}f"7([QrE~L-HہT`Y(E62||Nǟ>ECz.h|Z3T6ǫ0,2?n>1|B ~~ك1>\2޷W#gc?ޓ6?.ݟ8/{&A?^žxB,xG=?y[qxdp_,^F:M%©fEoj<^/FU>C s^R󫰼>ƇUl`_{vƆ/4U䬲nȚW7 wyfow;$+o9߃3?|qOj7{l|{=@A62S-HF ,OcGAm$Ʒ7חlEݵ x@;C_t:JjoUq8ZM7'Bw/p<^"x Z/;=LA>Ie#V 9:ygy&*\W3t<4Gr$'nYs/>D a0d%;5ɦy񮳢+y>vzPCJO zǻ?>[ _x" 4~XZ3^\cчY 3d黃O^c4yd>GिS xZ'=!'v3wa^Ҕg|ߥkh՞#ciƒQ}MӨy4=!H?l_BSY翜 & d~+_EȌE=V)k~C A8[\bkJdg^^\z9Wb Fg)ӟ[t ^ͯգXȌK}h|P}|=\"2~|;3>yf'ETGX;Z`~[?@2bŷ?ck+)'W҅3[_<K*Ez1,]HoKֆ#م[2uGTTxRby=v LzV'+,T{Ur u'L]#ފ;@y TM`=WϴQ ~xZBKܐ`,[}}[~Dc1>Zp}-@O>K ٮ!<>==U4yy=.x|g1{p?CZ0S o׎%(3SU`7<cZVYƵ ZwyםA#\AKFr<֧dw '[ZcR_N!zQy?/`@<{! 0>p[^cj+Q,~(EV $ʿ 73>>^*@O~9_P|sǻB-QrMП(3ow {F З}|'PIu #KoPy=Pzsy=lϋUXZ[ξƇ,Ӑ3,Yi|}P ـׇK)Zmꁾ}㳗H5\R՛, M{ xr$a/CTpVM@)!oer1~yE>?q艃)|{ƿDTξA v>"Uv|yTM zij#KxÅޛ[OJ1/iy`su{R[ukd|/_wjyYq"$8.zS!xfM7孷<_0Re+i)T_RîwÞyw*Ex }َ[FqR?X xn> Dǎ@'ڊXB':{Gtv$?mTn漾ky:+T~7XNqN^۟?~,L5`_Ϯ&Cc-tû~XoN7zpop6~=Z7y`|e?Y~I}4:)F2h+~aK|$OMޕ|TecofyyRq@x|yv_/3$];D/~x>3.i>^ [ |K;_\5ocRqlpAҎ 1fJC0C s!fK5'B퇚AsdMe3{< jbJJ,˻8^Ga!0iyHI2?Z/5/޷57w!a9 T}{/o 1a}a3]`_,/i.p?5r~Yz~=@ n|W8,e>?F -@.|?R ^w!itLܪ0|~e+Տw)i\(|厧2d;m)Qj~n2OT$Jߦgi]ۼ*EQ'MRFC(YIS*%YC r?O4b˿÷*%w޷׋~/źXɢ8h ISAh_3]EV~U=|QHA2tw% Kz?3yZT(s>tΔ C/g}z N]>o=z͒O :՝BJ"4?ȳ0sv.%|w5uϲ߮DƔ/[_91[ E&,%}Oa㫋 ŗ;^=l9/^A2x4y@K y'xxI;ufl8Ǵ{RP!QR8 xɟSgJ O-EQ8z[7!'w<}7x|ڈwg%Z[,h>ng|`7zj M۠~1_qL]"+"2]""Ρ~[Hpo;y^42ɱfd~:Yӎ7l9|z| *K{R5o\G"ͫ5M ī5!޲)Ɯ'{ʊ~(|{V R8zs`噵Oy`nRҾ^F ׶(0TlgVr{2յ#_>t MBڳ{)l*&Mί_ɄIŞ>c|7< %x}}7xO?|'е?E8/E;PrgchW:/'"}_=+־2F&7ųO3B4fBԌ``*Hvgr?Sd{*uވW^F0)UG;U\x? k፦po_x1l_S{B~mazڼwla{iׅg",$r?d:2O#vv0$g0/f` Pdz( gAg9Q4Vhope}ފ>yCWo ݇[؇2ܗ%۠xʏ~koF(Qj>}/xTK/xA'Sd~Y/wUG<`ϻ E,Ly\ )Z9R7K\ƫ6|1qPt.4$d*pN~XN / T#,xPp7bq/ed%p̧ 㻇 D;PjxCM %@ocY"V|Lx='z*Suh> 2O?^@'[T mp|PcT e5c~~C'dſ/4]X+X&f=Xȶ%KODn}|\,S/( l4(b*P5)A-E|N?q Ju͞S7xf4wbqIRxi3 oQ`d(Ǖ*3/{x#ߒ߾~db=MT[#\u>cr[h S~VcnwNv?|*,x4޿W4{>JŀZ꼩#ᡪ>tc=W<{$/xj-K%od%?ʷT!!Ɵv?z[>meϞ7K* P*4x, >z]1Z1 ̏m?Qy*T}?gêW:u {n²\Qn2ch6џ&=o 7x;a2xŌ.Kf4" ^1H #|/8|RE6{ԓ}YRn2aXAÆe6t\&pE᧙]oUx&ߴU,v}/Or/OY!%y}HjHC1_!}Xh2Պ'wMOt\yӻF/x"Uud_c@q2" SUr{P9ᬐhF4>/O |[;o'<'RίYf<;|/KoOUfK\$Ê!^}V|[|>A!)϶%N5Cʷ V!N#A}?'O"H6>"p"]&o<ߞ}>ic%<]C6D4O2\f'_Evu!K*<~}G7euk׎_&zoZ<7\gwzP}W'OD64":/ڹx+PSg:G!V|SO+QD׀3//O!~;/}W% "'̢֯k+,U,NnS}%ê7_[rafǼ9zO ^1z^5P#_g{HΡ4K2L{`qԤS#://ˮxh6TSd_gǻ?5t>4п^+2 lIբ?6#sB3GOs&`{ƛ#x>CV%V '>QCz}/_01xK kZ_e*tD>ƻh/JC{`;@:URm"$c@Y,Mϧ]_R*=0ɮف~d?I;Dߨ^̏rBN:/;`.L̨r,_+\) `GЮĥ=^Zzu;dߦA@|a&]vQ xfЎwq} 5+>8l]AXfJ#'B{Z|VB&c^c9G&蠟tyIc'{ye{Gg4deO~/ xcL3R~>{bVXBXfƌ4E}X皭#A}(5ϧϧXBhߣ`8}O.:?UvQ-y.vxY<7z Naq9[i!f}L'x_/^:Oώ'2'dM(c+vM?= zdιTaǫ]/|oWpBar=CM>J M`_O`)c'K$Χ=Q0^o#𾨂CQYi!d!="ߚD:Y<59)Q0_ T<ޓܨ/cՓ ^~Fy{Y):# # qXjt~8Ck<_WK[kwx>(f}yѾMqx>˼IoOò+G=@StyĶ2Fvxko~1)cs~~rs`{+}Dx}@+}Gt ++` ]k\~/<[ɞ̧^| &*>)f)DQWTL;uz}{8u!PMwx7\hg o ^df\5]T} QIo&T~~lwC|/LX93? vei"ԓ O?|:[ڛ^õ//Gm_oxp/m(/tgX{MBz}@?.#m̮^OCo5x^ݡF=Z C&Ct]Fp!b_P3jҳǢÿۇTKH/o #3(3|wQԋ~!С|h ލ͏[ + Wz}/\ t<뽍,zre-D?K/_#=Du9/z<fXtT-/o'`4"G.ϔ@'#g[{?r^,E "z ϿbߝyP[x̣[(!IO Kp@]!ǃ o+@os<_,W_3/-T/~rt~tĻkH)'z,׼\슻SqT[[O}o5ZM.r+6/bVx=0$;yy x0q l=>aXOu_?x}s@A{yo&BF1V{* rgחzĒx_޷}D! M|E`ĉ9_4Kjhw$µ@Ϗi U7cΒ^Z-coī/}6@~dfw._l;<܅wP7x`>49~"օLX}Oy> br>vxxh'Ǿ`PSy!K`gxq2_w_F&B6ӑI;o5wd3ҳS4ŝP{d~7*ds~Ϯ_ G~aA9g 3v#Y,XOrkd #C%yqRAlf.Y+$z߯_s&q$Pm:yhB""Y-}+5;7h)]ߞ Ikώ 5U1-jwexz]9wf Srя#;?DK?xeV"?YO/?ngpvo_0&DkcOȥ$PּH8rRVslR?<nKcT/3oN,|ԛ>_jOrW2kYrrVH^g/i?/~Cxˠʏeci]kP?8G4>@[b[,c!>h(K:v\55%dODߧ_ HZ"'ItH9 x lǴ>0{.P`~JB8&? Çxފ  ϳW%rCڏ~%~N-7ľ ]`JQ-Tmj؟F!įǫ8G*cy `ߵl"?!>hJ*:ğoROYH)պ{W<1۵55+_D* ̅ǐwH33Λ(e|2L jH SںeR2|w+  HC=UhX/y8N /\Ioo÷yOOuP@i,߯=[:CMjۑf񚡭 !> ?`V :mFu)OC;("+ˏ'{[8}_bb(= ECg.q'잏ln6۴.Gs^kZv^bJDqVv`t9=}/yLK6J|?K|^:H?,i)9.AHK\7?-/p/2^\]s\_T1x,|olW+zQ٭-pﮞ4Tzw˴<Ϧ{I@iTi+Be2gM6^Au-U;<\Clw[ZE dAZ$$gੇX '!7p޸ÛanQ /Ax_?!E(_Q6GûSg>U2)4_'ю<~?$\z_N{uRD'Яg>h֯R[L^Bxgg~ZqRC!/cLwvPe=],on ${N nhR -b6Z' qZ2Bm4xg¨?wūpPZ}95 yZSgWf++t;3Ԗ˄śu˰NqY :mJ`DPe/˨6. 2XR!yS@?xv&@_dyuk/k[FouoB|7(p}e;QhkLgp}!*}RmcelF?rx'r/ 6x}ÿ9zo(`]]Y&Խ\- DO64xZ&ؤ{_b!nџ־\w}SG־\7{~MIܟxw{|dׯB WkMd/|>O>8} Hvk9%+ԇt{FST-*1-{E]+*JB^7}n0_ŅyWg<?ƌ,,6n\G&wdRgle3LMaEݽeY]mNm#YJ}={x!^&LpTGݾXm>:g/Ǝq ؝/l[{W i'\8ƾpA]?辮Tky/=Ãx; ND 5z"fw>Li>3y/@L>,$tymuq6asd4ѻz?)9JGvgZO~o:᣸O?ȒEDޕ t^zo^;tY韞M/ yÊR`n~ox|#J3#,[Cs [ko3PeY˾'gٍJl{l~ŕZ:{b*lߝ2Ӌ1^CB؝mO+Hyx_mb.'{品|Ӆ}?-p=Q2iě` y89ys2(Vv= 8Y%Rc5g BݬM_ /I ^_=VW &Yɨ ˢRv)Bg4wrnTE5ܽ1ΕVx@*5G~ <̧W2ޡg<Ϯ_ gMEC?2{S[6 omt{B7 G<3*O܋kk$m!VĽQܓ1׾dMO+>&7/b2d{0M(Z߄N s{_\.T,Rzh4aq_xXxp,8!#7X݋,B{,R 㽍ɜ?o\r!raT 4?yMBiy0vѽ_Dd _=_+DG=<>/<-> =2\tg>?6xZFhQqRE2 /gctmqޝ|VKNhQ>'b&tyq]r;z}6p_eŔO9NO3~7Y֟pK/K#5]ן0x=o`o' <r`z?J+!,:5 =b*NO`08L?5Aǖ?@KÇεUSB˃\$GOWYf̤ l>XN/_%ǿt߾/>g\ekt\=_B,#lIBDxlr>, ~2<>Ib=?'22f!y࿼mQ?פCN\~|b-ӨĮC ɲ#FqR% RHÞ 9=|AwY|[oC\MWg 5az_CS q`q5+V-1;ʢgȟ_#bKᕩpZ]<=*)єɿ-Cs8}C! z?6xZ̻ O@z,Eޟ}D\x+S”ĉW}oejCF;;yO[hF{^caˌI_a J\~!bǹBNɨbod@; 6a@a˟8h )v=_J P_7h1"}5,}mB7y4x[Eb,z?<}û,DY~V:ݼOFl;~i3KxfVRe۔A-6.Jֱ;_ o:E jUVަ@3xLԫ ^8?oz݈7]Gy=?u,:=?,( 4?6>{R-y{3&_ pJmA86naěm] P hkgTxS~ D 3ABR #cj~͇EC|̺,y>q/, {FVpG.?7ؾ}} i|yfp3^oDd:d ]--B= oeT`w~{6T<ۯϻVUkGP(.Ի289sI,S?:8Ol'DwGޗhd=BL,7{bKuCN=Gwyo?f|fkjD].lj_p}xX] 6x\|oʟ!?"^q/w|wrR2Λ2'+uB|<$>CfR:Hǿ:be9Eۙu3an!vȜNn˶ސI_ImXjv&9Rk) _ly-rtd_/Z.9EOtᮿiɱ^Nz}my؈> p?4BWǛ!_,?±[^-uaL&|F]#Cä {[qJd,?kҟ_|S@o1x^d wȸiJKEa78^!{m^Dy~p4L+{3dMj=lyvmL7˟q_ y=m{o' / HOoy~}BxCy3;}0b킡w9/rQ4;?(chY֘ ,=a$8Fu?oի'3.XRggS~<.^j}_x|):X/J3 Syo T>W*R;<_TUUjl<{ۧ  -ovo,T~x6]/#`||m: o;9g]7W^UG>L AqyE:)˟S@vH7(09.[/ h)G!3_aq4AM˛YaKĊSy#H?ēY+T7a2{aDϸ$8R:Ew# |{"Uf.>@3-eVgӳ}QCCBk(Fy+}1޷@=NeH29ۃie2EVy?2+D_v(Prx| ﲨOp7)O8޴ɝ>oSPx35bB+;t?h|qm N/B~B9h)C0x7Ao?^7ӕ|}9Py`#'>ud'_|z{fNq/0zt AA_$ʔ=ޱI/' }"&>Qx`Z,2=>T%S|EeQˢNvՎo8>ڎoa5SB=?~ QA5H|arB9Nl7O?e՞,)S5%ec/L-oO`g^w8^o!p=[<{Za8&_HD2*-񥲪J\2[.OȞH°ׁ-O/T#C}? G\1}|@#q<'B ^꟫locz<@r)\}KeI}aפc~ϧ-[%=P-WΛ WK@c_L-oy]Ǭ.h/}zk%1\<ϲOnn !ySxkOx!V}N2߯ڵȇ;7#k xErΦ 鷮_Ҕ.6ՇЂ3[ƤtϼOh|Ʌ}DeTΓjrsu/UC}*uA{jxG7\E-H?T7)\uy˛Qkiy||~DosyN ϻn^Ӄ?X^$/=42k% >>WA\ {0>HOUvؒ"Wī$gO /}xoxl7&}w|4x@z}x;rݷ_hڤl|Tև{_ N%bC$|L 첎W˜2•v?ɴyVQ#뙏_W?'ZlNxUڃ>ck.U\z'Zd; }ks6aAŠ3>W=o|BQweVc]xPF.ܨx8W/xO\αe:x!-:~䏼#Dz]:w0{X[22  f:^TpwɅ8_*lk|^L˖g?Džs(p<\[8N.=eyo6,pxw!:D9x2=id{п[ x:z ҍ@T{xy60]Ȃ#'"Ηkzc˛(yv{XWL8?ϷK*轲z;n =0O`EʥW|}Iz;y#]ϯ,ϯ#Tj @P^x@~H< _W>~R;,ktInraDrHd_>~<:]?Vv7-[.Q3ϼ^5kUʔ)ad %D7BPό% ]0`%oϛ\w6x'tPS5|SfPfND߷I%ZsG};#; Ч{{o¶+'?}ES#@w q8fJj@_4 l7a=賛{_H_,Mװ|=#C!M_ t^Ӑ^A MoYīZQ8Ig㳸t>յ zx:e 5mo|g|?[Cwh/\sz}|@|yaiGY!xeUq;\u@j d5ݷZbѯ^Ny-,xqmpt^ ^ z&zl Pgs#Oߦ)݉̃4+ޫ|ަ%arogtAׯx,n EGFؔ7ӷ`/^j 'uN&gUvBE ? ^,ЧBed'-8{ejbO(薐^>.2ك.pomy?Fat[O]T3Qo~xN<=^`x5f*N}{3w~~r|+ӺXmn?(o/F,4= |?_;^ݺDֈ,6bŢ}/_^o/mQLVj#p./l}<agW}#C2fdr1W)JC% ]_1'D8Nc&_Lc-ob? g $HRnyŵbү#yCmrKE=^//rO cIC p^G?;=zqJ}<GUV1 F;GxYԘ7KY^^0dxee=#FGǻ3N>}BH}, oo4]飯uxX<>r:gnf|z|jyYFjA_v~  8C*|OLU<\R ^m =n4-SZM]sWu<=l|oSMP<@|TR͟nOΥ=qE:M} -YKͿ3ɴ;Qkyny,Ӯ=:I Nd~|}~2hO,PnMY'3T)}$ն|a>CXMAxcnWA>_G1:6/^ C݅]KαezS]}ӖR~!Fhdoal ||ü޺4(ѧ<-f:5c'2y㛰sEcpk|MKJ- >Sr|P>E_p_z[ YB R~~?o֝6O!xwHx0Iw mLB?h3FӋՋےFspG/}O&w%t"1@}¤1|WM_/Y5%ٺ%!?ؾTdbyp<վ-3.}=|MqRyp|>_/D $WI V/CcwS'IQ씬 h'P<~_R3][r??fkb_!1>a&9 /|wTz. 󷼊>HϪ?sU0<+M~.Dr)0K>WIuƳn*고|J~fnU<^?U=oIz.j^$q_l7}!Σ7?_A1 |' 7ޗ)2w~[Gߖ?15$SGnŸ_g~5_tJ6O迩k/x)$lp=FT4u@װ`CΖsj^R.2kԳ[~'ϳW@B3lv≗r6=z^_[^)]p/n>j7j;ۚI3?EyH:@}ؠ2گ<_fEk4ޟQ" Q)c$׼T&/uּK=7Syz/?w)3zmUq o)5y?[+փy1eZt|OU\/e|/.}ϞcAz]q#[;PƓ/y;7H=yz;lоBdӝym9j^"2ڽ(rwpt>})g*Aצ~|7/Y̤޶g r>Dltˡ׿l]"C 5^UҠؿ_-Ɨ>.3\ͦ úw?w\+PxoǴ%Rir }hk_,%|CpQA"+GDBʞNsyGR=0D|0> u@Mi޿L7]ЫwWȾ6P/IP~埇}g+jA ou{}.O(3F4T=!վo/D2KI^ Lq ;?_r߰̋χr*{sϗKռI<߿K7]>?-/w-/4!AƢ!+t fŠ_H _5/I0KZeXOϺ2gPMԿWVJS~)üy: )A~nyhyNzOE= Ѧ xs)|ھ[) QGi>7T1}pRc x y[O"J|_?Y|< ~]z tW,c"#LT?D=~㩥HHV _ІW#A>yk^Ą|X^P'-o0CϬv6M]C @Ray5?% 6Jπr65N& ?.PRMxPawiC!P=سt_~t7)},zfCOSy ~Ll99w,f'aA(^._ggAk_˽y`oPq?ʌd}9+|5{U3v ^ , U?noh@睇i P~ ٿ[bR%bPDT_?d ?aĔopw/\ 4b'B } ?Av:Fd 𽌻Ò- xt sM )[rJ>Wx\~~k6y g<]7r`ċt~ }ZB?S_v" >{odގ{]-BOtMCGԀoK{!$ސ־GU*X|_Cp " ./9sb݃ԏr<3G'S+@/;G͓߯9u`/}C /W7XMxy{9z_ KT u1Q2#/橨bTˏ> nM#P/e慔?izFM􉎠xQ\ o'5J 6Y^O/e!0 /ݿx3-h'K^DЋ';+ix y&㫿y$E >YL$N3!Pʪp|}%ҵ 8zhIcsb3Q1gFcì?c]P{^?Ye5Xma2[~n~/}硫m<`ޙI@4u ˻8ŗshgn w-DπgyB.xjly+?~#~]*$,cx9TbyYp&S~Z>8g6*03v"@υACgA(5A "듍;/Sx*J^f ^ Lʈ*VsQGt>'5uA 8:0f?ǃs.^Oտg@=AAvd\z@Aޒy./~nwߍBZbf~*KŞ4z!37!Oz. pRb#qx@=y'_ഗȼɫ/T?g<YX<`5S=xyxvKT5?vp:׉#~hrbEX_s荂z !~vG׹z%&xWxQbدyg5QgG~\WP`+Tr͇ S֣دLep$@;Q~[ E8yg{{k.<K9b_eFų}4YYu;R!W'tNNm_ ́((<Ϯd Ah2.f[)0eM-/NT:A=gA&y+%봎yD{aD)5{z]BfS=89Ӡ/*^n漺%kHQ0m#_'_ 8[}2}_@;Sp]ևUc)1y(5#~$\7auz?Q( p+YT?|d _J`=< >-/=Kyq$Ff7UL󈎀xa W~gal7N'_^ ;0~r1iu\$Jdu@'"3ej4ALwΚ:~d"g"+[׊aKf\":߷ ?y[ p>(RTF,c|x߂طbYȥ*R=YϼL'X CJ.=W/oF2 DsSo^~!E zo0_UZãX7pvYUjky~v/ywq/UzRrcװ3J԰Ц~u\~s}z4h=m]_>_F`;F`Jzk(_l.>*:;⭎o;,$FM-6 bSKm*VlWOi҈_(0w3m2;W.g ?oY/舒/?Q#'İTVFn,#^)L>}b-*z"<QƳFU޵o:ag{<#+f?0wgu>ѭU2}|8'Go#ֵlglŃw'RQp^-iv _N8qĮ[6i]n}9c^]uoා-]wjى2f0׋(5&ɐ`sQ'RϬ,~жǢ/8ZW~`#+/dP ,۟%M=iceOO=|*<~L;S(< AMQT*:!G^гGZ/9MDA2UYT ν^")f%1?u3Ǡ `1_itHgd.[P(qO3Nԇ,Kt?"]N ^O<3ð}ow򥯟߿}īygNs}V'C_ci{ Q&֘7$N o~:7Lj?1^Fx'4xS7 Ofç:pK”f*^(l m&O5qʬ+sx`l?2ʌe{Qd(wo~ejC b#8OґӾ2i|=D ':L+o֢QgR\[M?vIL/G#{@[^ߵ~8~ݏ{8&gol?Z ?<|4&/<$uy^QF!"ux|1ɺ Bj~",7Rf@Y/?.;nf5"1;=\=ۏKpmsymXuVZ9T274=rߣ~9F[̔h\Y07L?Dy>D҂7Slqu5Z^G+Dqr>aaߤN:`Q~eȒW(ϝ,Y.wCyp](EMA)j/ 8Sk8z/"~(|xD12e+OtghlD 2'N󉘺>a/~t5ROEp_"  bL1'# R 3#5]Dc9mnRd<M /g`PRW5^9|zӦf/^ב󆪥Av'=zAC:gD'!8s__Lo+}E0FxiGfgD&BMNr81G:~zV_P8ܳxu#OjH܁Gn#x2쫓߇hHwx_U/r{q~Jߴ:y<3SHFJVߥF;(JF(UbV_It?]@T@z5ǝg=E {me*nk{RUNJ a6^  ,gi[pD^S{I`ghYw kE}P);b;e6=ީSnjXN%,?2pdMcZ Wt&%ڱ۔ʰbY.URYj4I.֊E'[/OKkZR\׼e!ڭ>Q*xV!ej qO- ܱuO{oЅ|ifGڥKs5 b>"-_…~>qs]C1rGppG΃ b5vF Z]?R-{7iSxwA.;arg;=גq_KMsw#T+R>{Nںo)0Ic>т/!^1F{s PđzslJ! ӡA3Kϖ^}`]xSU˃1MH#lk1ΊaMHH6lX&YXexܷ.қ|+;/ls\ JQ(ϳfqoUI~'dDži9/j̪\o%LkYҟJM{&e''54 1NJlj)Zި.&@ (ZvzFI5aj%H[7]_5*a_. 2YI?ꣳW͡2g8F=˖zZեANPhvRgu=%üemՀ̵_xhT(eJ?I%U9j<KBtQm}:K,+BP W?I#=ty|\)%RdVH~}Wlx{)wl³7*eK {\0՟._<7ȄP{IjIN[AC(ug8#+!ǃ^t4S(MYF4yՇ{:ȅDC06m הkɥQ0;( b/7Ӷ#\o[SKZ_H*'it;<^|;xG/YbOV ,k1-=hhJ#|ЧJ}zcۋ,Fpg7}'&][1ArCq{ uZ1u4UYD4/8~0eW=_<5Xj\U(պ:-I٩ BuTŒt EQB}tV(pT e9$Zh;Gr}܂_cJdϱ>9̝z*hv6"@!}sɣK[UL\<!/G_,Ei qՙyl?ͮ3 f 9!` M5dedzr"O-`O19~{;6ݱwQKm}: S2x= K\.z7F*7z(D{7T8@5'|eэ=?HF70B ps}|yѫ4JvS3Ĺ=\850&,EŜI :8xjd% JqPzCDpJ^o?%Xj{`wg1"^ȣJF.~wԐ>BQI?V1moj'7*6Pq)6PrHr+s@}2[HI׵Fx,mJ9P$pMJ(ZeU Quu@Y X9k/o[Jm&'wDwg>T_nѫаB޶\}Vl9֐=K&Us㽼""y 8˫%ɻϛ"9DkPL۳OCj!#\ ^ygb#~y1AX>UklܧHŞHY)ݝ|j[_Oq N68~&8]6 7 J|2:(e3ys sD̷%Jy`_.9CBd`KL5b V{Axbz3lgCk ha{Nx^q M칪G+7ft5Bc[1v:f?W^?`Jײ5TQ Wx1./V^r9 NF6J3i4{5\E\bd PcL)p7К=ˀ*},7Ĝ6 EG.ca[ضe{7}Pg=B54StOep(1( ?2xn#K3-pkάмQ'A%9\6I޲4D *2v˶\ku(T:YReu- ՆiEu]_֤G|. ̪ݼ?s=S*Nw4vc1 \kXO9v&CE%ppuj^Ī?_ Cub]V aj me[Rx&0 K~C _?N]weۘۘ>ZoRcjߟўjVmM`pa-`X WQHQHD/悈B"($G!/,k6wQ)GEġ Dx"<@ K "<@y$G7q `[p> DϿl.qےx,ryJJ&%iIiy_Ȱ;* 0 q&_R, Ŀ`Xű_<dOUh %W%EY+X/Rܨ8X+w0kkRS5tOGGg=ܕ'(?/C'&eOM~FOKb柹s>֦z_L`! ( hoZ& ^TI *rbvڇߎ?A+՝OpU (onnV{Ho`Uй#B/*L_b?!oTvS^csS@@|*P %PuPdAG(x~Eȝ;^$U5EKQb=`'E?e}z٩h"wsTE((;7Q`EE$\\5Uܢe"lآ`ҌZ$JZ%"l c\Ka_"?3OXOXOX'''lYNa?aօ/e9d8rgjeP&DY8h?e,5+yM|)P6+C; 7f:/z5x2I^ij#ie\?KH+Hپ;p_ʸUb-mƛ83hu\\\=kQ&$dhG&$&dƏXpLHm| ҙ1@L[0ݡbbdp KsM-EZxED= zShYZW<ҀVFĈKW,X&ziZZ.&zlG*f(=eXPYEr^%#]2L\hnX?nt -xՆ_R!MN h2aKd*mDGjs ޜYԉ̦C` B> ke6Yx1.EtTnb8-{p67{nI,`Xa}^# g#94qQvHg[t <у^ M)?4$1W Ez^i?ҙ#\>M3$^|8{`CsC| !YpEL۵D\l V/`E߂!:~3 M'"Ա3(-9 8;OƋJ"LoCǎ1lfw'|f 4VXp)ʽ-UIz ]yf'T biV?M8M[\^i#3*֋j㥌ok)?gͦHN6dNqYU߯>)ʄJ+њ QPRA^UDRT9`J=!8qb̨U/Tdw;9Bqoi&'$2$);RĊH;'e24'AͬԌ3Cf_RR0+`yWI##p)(Xzż0"Ν= K'yEY"bb5 #NDD4DFD]FD,'t, q)Qke$ɉUj.ןE38@jBSqa7,њtn",MYnZUfN:޻W>ozpTx$87>UDN *2ePWcnݧ4JW|TۺC1z5F3Q-4>`L ϚszLkX=)ٍCc^P5;.3*O ָ~tpg(9W#o^ѲqS֑O1!P UŊV3u{M={DU0H+O;8D5 2M'N?Wv\= [ʒ/SAo&5Tխ7bd ͔Lxc)wWMf4c"d̶]ݲ01fvu[FK#i$œt.ǢQލÖh,w0YJ' ?=]/ƠcߙꞸ}1.5%Ğs\c]!aA$> =C[,kusr,&4ZEZȄ՘ꡇΡy˗pN<ӌY09t+0fD^=cL$Dn(='8Ւ; JutH >rE}/[o嬐İXzJ:_jCDOzN;ub5"dyhFPZ]cPb׵YLJ?p6ہ"t)1ϧMU|!}UᷡJ,_բ@t7LCмDŽe lk},-%2}|4+R^[$Q [.)qLd X¦/UH\%>T䨒Ah~;LdxҌHNxF} ]U@@/O)T.BF]Ӝ|9#4eu=Sz9GU$df3--6'hYZH|ŧhfu},Xv Mv}~ /$&c?IqIX8lKs4u)mW/+z9+xdyl-kznۍi!<}p˼y UcRWWI=i%5|+PQ`Ě0Fs񨰪%MU|I `i=/c0GԢxt)@W|t,ceCVQԝ:Rwli Eb<Ϧ~p\$ P5{ʆ֯`Tc rY1YH#GW )NuchyYDz PtbNDz$'N W\lJ_ g@\j5~VkATֱ,G$}z²7{x6'JVRL_A;[:j.EvSA.N4X M\ݕ(/3|$uHǿ3_Ih@oGJGg;f{DazM[,XY`6KcHCP|'fsf1~ѡf,I-!xSW'XԤ(WT|c6!^,#S858S}SPmˀAiP ( ٠_ɂԺo&]H_o-tG9l ;?$ XV|ViN yx7 لk -fEO̍'#M0:pv+X/d27$bf5!}8"z\~\{yq\ƤVhm%~,͉%g}[9ϲ)Zf͚NF1NUVa#+)%z=$}nZM}R0q_vL< Z<;Nylr @~"XsOLj&:E#ҦV#;xZҏ|Ϭ..yG- \,v%1E"٣ 0%NQ LȾ+9:+BLΥfhQ_ջ{ h"n)7.dU$^B~Dُb2Mď\kN<2()Z'ak}0[{th3h(b$t-1MO)EJvpǷ}|4ldZl>S0NG-J^mB>5L\>^4m~1>,iA?lJZM+,m)Q$صB*6ٸK e|ʚiG˨=-!8]Vf"49D2 (VqL5tqW h+xɎ5!r<|%e5:e V ؆sm)4Y&Ta?PZEa #/R!) q<gCk7?FYg+g@u)akUsjfg7x&a'GsIqЫ]h7|2؅"PС [ZqrT-B4+'<8fp`9EI(ً㟣ϱxcHKI~& @-C 2> ܂W}W?C$4`(L St| 8mxMcր5}~BAL6t|aH)5X}Ƣv[H%ow4/mHi5H1ҧR>' |*ITT=%'ݓ[=xY'{u3M'^FTId'q= +IGJ?@?@IOb?@,Wߠ _-7п؟堚rAhQYpPS;jLG hSLB: !2 0L3?*#C!( vX?+3I,=W簟 W_5K-F6,i8ʒg0YC4^2Y$0U ,Z,SRMD~4Gj8.Q#a=j秴$Rn ?'Jm!9Q(:` p A&r,s(fX`a]XlZxow6oiq42 g`+o8, }<JK8 *`w4_9p0ʇ.},j Pw >$>:"^)h 1`X * !_K hqg:%WKl0 lNR_;yJ?E?`u4Wc- f`0]xRzd|P`3*hڴ5=hMtQP׾ 6Fi hߨE|Fe<78ww^$M/Ey^p͔^u&iJ/%ݔm]uFCJ:*Q NzT9&?:'1sVA?vV?@zs"d.Yb,*/xZFYsrA$X2|h.I2H<9ɍ!BOFRNE7Nz.:2tͲ.t\itBd~nI~!„1{Qw8BDi)"& E#xxHxHԉ+xLH<@8ăe.H d.A;R;%k%lt(5' M$LÐQyߏ'YU38/Zp͘A`U`ͧw "3> ^`3?DՕ&HocR~񱥞~.k }ţA T$&ă5O,Z9 ܂]sޱ!i;Zy&<6tTlZ):avwUim@~f!Q4ڻ:i.n ,IwbL?R?:Ř?V@}@ }h@TQAuug4J.vR"tʋA籞%hw VI<ˣKbOi.%} (D'0KhK^,fֿx.s'.)?IwX^ ͏M>@Sb~* ߉bGG8::ut8p 'Ǚ͝ pH>H1ՎĜDZhEH2PC␁Yi!c \?@͡bjuck: [[!ƶ:R=kkOaJ@wج_RpT7΄88Iou6c-(՞P(d5?!D$ZڼVm5WwN%K_H)c״UBC@%# JRLXBr'sŲE=vf~W(Gw4W xv~~Wym~8s}--FBgd\?k`MQX8ŏ\($#ztOgb dzn|Z7ú^c x5e+5vu./B#~3!$\{|_F 1,Tn^TnvWW0v2L?1n>!JT!#BzL3??!09RcW6g ~?k4a?#x?,^?i[Vt* R0QE(,LHj$ń)@ab x%:hJ- / :e .l*_I#c=+95TQvf0OG7W ID1;1pŐ$Sɑ"༑Ը_Z8_,33pL1~|.fy\1T #Օ{sRR77wKOj71e_hӡbI Y[]/0Z _wL1CzC(:ck'3e'i(OJ#ٓM[V?e WW)̯BpQW>eWR^'BWy^SexUQ*_?)6+l 0jX{m ,o@)}!tSP*$OD{O`Cɜwή1/+P%j8Kd9qAB 8Z@/S#T٢^HUfFK +$E*? # Y@<ajFDvH>;1w-bH)Ec)t  $YpDp5PR@n =_3 :R+}0 `0J'a40:`ӨW F$`恙|at\`GWD6$IKå]NO}~թ{]ڿy/BX.BXa6?N\e.9g! *$9RXֵE=Q%ogOY~m7wvaG>uIp[ۖƱY8'|)6%x_uR8OM=o0Gܿku7=`C]"]g8w'?q=~_9]'=\Ÿ,Yq?]3欗//?[^-dg >ez,|̃sR96e}oI[w~ͣy57+3;Nf[gvNzՏ޾Nlj_?xƶ_wW~DWz }n?e?ز/|yWt;y-Ͼo-Oy O-ǽǞC6}=l;s35~Ўm^7w=G"m7N kUUQkxu#wڶqkWvF& .K]>uGޔoﻆȥWޕ-8uÒKG־pg?{MLϟ_9o8V|볿>.z|-=?<[t'q+mwFov;ß5;}϶=]tw% _~蒏ܳu^2iHկN=;SM~8y=t;+/?|%3?GܬMwݑs1[vlhC}c2x(/ZS}7vm#o[3v7iRt^:[r9;G>"t9q?Z67zrNs͓7':b2Otw\Զx,|3~O&_~yKϧ6~kNWNdSمGE&}3l|9O?y/_}/iӦ;θ}k;戯?4\fknhXE~3wxU_YĺOĜNB-8仧yܝ3_*\F?5z7O%t]Koܡ~m=c0s;uWؿ=#ⱑ휜|{ף;-hf޾-xpWk%=f&]t3N{'4ݵ˯ՅgESƽԡ5|\1[^?sw|<=>3:+nF) h'Ocֺ>p/~xOmL| ̾oW{^wݝ) n,GVکG_̻ж ]sޫW'pDW|Msݳ}|tov`ݿ>~̦~\>ҾyWnj;mIO#'|xYzW[5G{Gݺ_Gܽknz?=|$?E#=^5'N~ȓh?CK2_\x[]欋^zO9Oz+ww{\K9wussu|o}>7<Юo/o돽ߎIo3ӳ:{;:c}3 #ݓ'.n>rg-~wSyЪνg\5 ~cJܾȄRiec'2vC3 2FR%TR QɖhJ-$ PhQ}wvι=綤jo5ߠy^xmAB)Nӷyӧ:%^bhJب!>1G[oE, Fdd<#z:gp[l鉈~^E jmsNk|~o.;iwdSG"Kekw[~E3 `N_Ki=憄f"Pߥ9n@vðH5x\&gu"WeŒCZ\ r7>{HGi& A܀QOpmkOPlop4򃅸BƍO ֢;WTHԵ򲹭gȔw-gd2h >j _·C̓x=4,/o*rIk}WpyLK)OKO)x#W#A[nLsnݽt3A wmm;zν&/ƺti\u%zyjx71)~kS?*CȘ'tфT@X`olZqGKZz|y V45_|L&ḱm^X>ʟ.ZJwoQ.it>'MG6/I.{8R5nVLѵR,]&^\SJ#WTADT)߮$-ԯ;"qݬ5-dy]*~qc UNHglۚ S ]EY})[v7wl|'%"#AhW |͋T X۴{=`H3lSո8TK;\dyoOՉ)]/qX=E/WGrI5Kӡ#k%=8vUsH:zQ9Emvn]-y{|weIR,Yݓ8p6?lH%|Fw+ũW\DDN K+Thr )M[3Of +[#G:j)gCGFH% ݾ2{ΊXUZ.1MwMmt;nuƋL):.rDj妻]h~B Xjĉ-δ'p/=zX5D\1g#bu;mݎʑ7taZq%uUq#քh$`Ӳ YfS]**}J`8./0;"'Ye})OB߾Ѯkz7W_in/c#Iu3Z(#q|1?ܺ`ʅ~I!.4)梁#޺eָ[|K[dh>owi= –Dbeec[̔Sm/LTi}jNbYoPu'; ;usiP0qh5s80~[CVz5W9֕ڋGJUo-|j%3o}jɔ7y3$Np^ڴ8OF!4e\jQo=yWYF5U80#vyJ՚]mVQ˕^m-1=3wEVDzxbղ6ݖ̞UwYvَh ?PJqANUVƗ(}6L:,*ߒ˄ EiT3&\;XK7TTT,;Ƶ>o+۹؇mw6:_Z{K;k989wɝ,YYxbՊKw.V8m")la!=Ц/n 4ex&Bva dww5~KDڶ*.hyC׵Uyyy+_PV2'O<}雼X:V EY*q/(eA元\eGkq8[0V 70ޭvQi9})vmGQ^= 6E5w,#sD"zƾg fWUW:Xc 9q&\\:Rar(}@Ll#ULiItu5E/ьHMOOoڞb֖bSg!B]]yvMz)"@ ) %zMM$84E ¾dUO(wRԷ'48~_O©rI`[sic#R0^29Z[fyҶǦqu ~ K7={CJ.CY[gײ;K8ѐwg@?JiΡU 09}٥Zр*i*=foGuyy?,k_!]rJ~"RxϠLnbO Ul<՟L4rnꔴ۩f_p}UvXnD{2sIß~MtdbKjw\ŶUȡklWya!lGXUj8gY -9Pcb̾3§!wHj9hRuRdr2/4w lvطRJ>bQchRIMp5V) _1OaߓH"r_QreeIuLW%̘ȯ2t6tŕ@<+@z9dXEz@;9zy` ‘.D,:<ٱƴ/D";CDٝHAH׉6XG 2Ʒqrˤq PHߌkF}$G@󂽡HWۯ"w\^^qeMz N~#sI(Ooh]s̘o!чFqD_R =@arꏕ{+m4qT#şQDeǝ??~MtrfDր#k!G[Ñ^.LAMH2 WRPȌ9EYyϪ?iO rc%?$ό4&Rg| }8fo"I!+@|T%U/98<#yMU1HH ?K )IQd?ɝMt":/i#D.D0,L$s If4Gp@Qb:IÓH% FiOdFc`NADQ!B1':c` "}+c Е>z܉62^`UAg[ !!< 5Z&VɉLSiBM/6 $zBo1_.c"/(P{L1?&ߟ cL?&7sw-ə|=_=ݝHc(p4*Ƀ" +eDz~DAAYUIAY?ԡ$'X /T M}.BO0P_ҧW"R ޣ3<@)}TshvrƢ{0DGhq&d!oL1f1r`ؾcL 1 roa0aēAdb 8 fLxrb&.+0f߄4zwe?e_2~IT ?>JJ iƱ |?PJPIG~c*?vD6|NF:s6|0Uscy(=ߝ&U н?^D<3/I|e1=F7{ݲ;ib?<\+0/Ii bMt=ɗ-n!gɍl+Ϳ ?%QJJJLim'Ǽy7 n?mOQN?9%i[e@fʯߌD9~oTɯXB7~)#l\h li2*0WI6Z&܏Dd4q2} [~yґM'hOl}1Mde?We$}3诡 jzK' 'H'P!uH 9 #ǰQ~$G|ǿ`ޅ: 9;bB'r๩#WNiXǸLvȿJv%I> & G3|IN05!Pk/= @PH@=ѕGXZ[90‘K8yK'={oH05Nl>~'$=Akλsڲ\yc /S/oT>Sݱ_"-W} %8iٞ"""^lvyꗟUIdW^g xVkubgZB9{5\ 2ݏvJHBAiV)Jć<ܹ v+/rt4foq=jeyW^O}xi'"_q=Ilc%)GlOaի SIԵ2>xmf=ʱU}6}U֪}Y6(>'D_0V Ɛ̸D.bU>gdBjwMk5K5jf-AR/_{I{9UPO/:ʰAx3bdݷTSBLzG7Y]tCl͊<*fn,}?_5O~͐>BY-VUwz2=fI=`Uֳy0K7VVL<ޗC}SBQ4>/,)&cF3cB-,DYJȞ-eIQ)llIv33~ϧ<<{Ϲ{s=ܥW'_"G\U~#C Gԉ(*KQ+6Uq[Ksjڡʜ@."q V(r]l{1lp [= hژBw;ۼ ߟqӷܞ|(GG fGC&ä'bK Nؼâ%f=u攕Pskϱ>'/c: /ߴ-xğc,I *ھĤ_S%ss$?%ŤlDV@ʇ9 ]-0=?oa,*}Jp-r mE H] _UVi9BXrrR23Z2ԥ1n7b¦:_ql@l|jAARL`u$:ee yLqlTVs#Іa \S- r܅=Mku: >:5ƪRxYZvldp(GM.?e>yB!XﺓN+lMw` u_ؑ5~|l9$&ӫ Iv|xvh[oS3\Tihh.&$Gx_-`jhqU Ejƫ)-o' 7AXCT_㄃Ë;߾}kQsn@9~4Q6͓UrtJ̽spWCE[a{ujMuZNߕ NR vYqh5|,/nXto=T+ZUzˌzǷL<=;m[qዜ\{;l (/5|z]ӯm2J7sqUoxlh[ǩPZ3=~;6ї1ڰAҵѧEڲ~L?u\AY&y֭x}xyW5ͦIgQcY meo{#{8Tu9W*O`)_gϾ(PWL%d[ī;?fsht.47Iq8:kɫ,K=դ =wM=OoX`G.{4+Y%+";˺J`ZY9S:D{WɎGϯzWC|Kg JG z;ՒLF2}qk9h3HzWdMYtWАmB1qPB\$ΰx}ݝчlmM=(g,hr&U&gnONg GVލPB (}LRT[W^EH'3e>[igֱ^d9㇊eɇPPo:آl1)}m"EOv W_峋sRÁwmYTF9*+̭ yijJ 0e>b-}T~+m"Ʈq6ct ގҏXxIj4|i=G~Q~ 83ozK1XC,.ݟqK!%Z |)*E  M k #2Z^IisߜRA`לx1r;cRi>ڂ،Kl\MoB . }bS 4$Gkp]H2Pqӡ)Us M|RU[*[j%Br>r2LkJ IK.m(ns1.*2rf.nnaCOM?S.x'j/w7(裥=ѷncFf!]|Ji+`+&8:|5&{{ 8Ŀ&#$d}g<׊TfנS2筷(h.5Uz+^2~q7tןwBOaR^{*=;:{?_ *(h׉ٚTN3]}C[hFvQ_[qql|+mo\Z4r֯F܁ĆN/bZ)T)CUዑ)XǶǷ[?3Sؑ%Lx.-c~]a0Zy]㬍ShLCu);U*'Zb0aOEo:DTvѴh.Ca<-9,w Ambjbgİ~ }C؋7TaQH^TRx@`-oMhٍWКǏ\̄#vDV %,Nƕ}DFPBuLz#ZvTE;~ףEiB PKȸfV;6d3$xZjKRQLv~QNCb}/N69n͞ O?~a3c>kTeSRo=𣹱5ZYlJfaO4ܥ\*tA3 V/lzz"i8BkwAo_@~~#&-wtIpKG!f⸊piL>/26^ m8*֜-I^ע,1yLN xr,qf?;!$0p.I5^(y\w6n0WcZn?~I6+h X,:E|i))a6vQ+Sx`2GBi8 KۺkJv"kxg[^-n>zcV1&usNu̬(:qVB1G 7}!l|8f氡 V,6)-ǔ,(0/ӝ>$syz<Ӊm>,0kmZXql%4q^ISR98׫ċ:-]aGl6GԄΪJ4<ץ8ǡv]_NqBo}'Jhdz_fWX`Os3",=GXT_iWTӽ2"&mn}ZkooԢk6LYU+}bjn1uf k)1BӮMjTn4j喈:ݐHfPzjЩ ~}8p--ݞ>/Y51-7wdO}&:btBT=s4aaN8Q[KC_Fl}f$tiHs$ō~FCuct쬌泳T[0="齇ioi5:aԔ6`s.feyR;;Z; ;_q{YF!ly8G]xSy4o ,lrFCk>?eb 1=Iz|ô 3(t|XSmr;Y Bձ:=LGoy^s^;l/*wڋUw8Q:kRy!.mΜҦ@Ȝ+>|/w\dd'>.WMF H_ ޥL ZUGG;>}ڱ.jA8ܴfwr!|̹wϵ_>a!*^,0F[woHklzSe_}Z(39u~䡶KU;331Y)/7\/F=ğT3f~RLףJ[a_&&.!۶J*'bEQQ^^ZzemL$;-[ XC8W?=τ9 U,|/'3vhdvQtlŽ}m_6)~YW4J(՟Kތ*W+4ZHYDh6G:bRG秡> r: ߕѬNu)RU|[ݦY&yw2n6$zBT wa,y8|||^>z,qɱ5 B%'wCZШh(M<>q2b=j|.#ec4 Q18ܺ3TnGjodyDz_j\X N=:!%f&+_+Ioem#;v׆cnr{8Vq ˽nyѽgXOpX]=!8? <ؖ_gx.3ٯa<3'6C}hgeu%摞D@UW3'5-/;OءxzZBL;F}+'=&\m('ZøORvpp4n,HM!*Tʵ<dܕmNg!AѬo:br-z<ܥIyKT(ʷ;9*nu-Z kX[nYk;i'׽~fYvWX9hmufgIn1TBaQ:#M~V`*63[d1g?>ϩ G3_Q8Us$py;Dp0m S;4޲==ՙ Ckz\9n/1{qk wFȯ"|S SIAlUdzo|䐿RXæ:0c=}zs˳BgZei_CmvmDE`픗+ռgBTrg$vD~1qN~*:4"L"CȨz]Y)@ t߰Pʻ2pg{[߅+Bjs)AšM=֙Й?F l[?פ{s͇[%o1he$Vtcb7olLXVn7ڄT{PmbR={$d?Ed@{{b/}kg4h|glO{}o Vt tVA)^aZZV\(ZGYѮ C]ԤtcW-(S(f7ZK«P3$kijOV+A6Re]9 `!FwtAǣmyS9E'm;k('B?Y\f'0m"˹t藓/x q!J:::[<>, ;\\vtxkwխ[U+V^[E/P;?QJ?F s"J0?rWp?t* ~& J~!~M@᭝]?je+\j݂h;*] *WB]2wU ]=i=zg l@%/`u]E`{ؿ }:E"粑yվ;.Sg#Î_;q{EdQ=jwlr u\gѸf{тaEmsfc鍵T{S _K^d,eX;.X1!m죘Ni$m7kf+ĒzT"N(Ĥx E6Cw =(Pĝ3[I^|=y]!C&rK u{OyȆb) ʼ'* /*^gMUjL -~ܞ%y&N^p_vk:|įIh]uw®]{$Y$X~is>hD\gdec*^|pF\ dbcQsDYfi7;j^>030,u΃͉(r V[y[G YVV">˭tbfvo39~ڍֺFZVA꯽}Rt݌|RF}v!A$T5<=)TϛIXYv t=M:= BTcGJm :Ytryz/+<Kq{emmۇS,&you?G#}|}Jf -f d`gϑwLvNe ;{1Sͣ#¯Ojd 6i]Nz00օ+}_qVʜAܰwL!4[7T+"$*(ĢHZzI 锗O$> VfM pt4lIv,n٢S|eS} B?3( rRPP`.m1 5s5X8ɒᓱVn4sogҜSV t~wc}h'ߴݎqײPD]~6<1~S)i:&-AW($3%++ٳ#C壇>rflc3l#?-)2Al+rgR;=sxKƦP6EMЬJtr>A=srqOV% R l*koDOES%B_ú(N܂[+R+ФW"zA3dg\u̽cv"_Z kTl2l-Xf [+Ѳ )>~R #WKY'Ucs[Ƿ*56~w >0doܻY<-0ܢyd| nN~=Lкn; 2#1sRSj'_,wS2KKluOe}+>u퓇vv{8FĮl&#rEf@[/L VSJTơzq#z:u9vf>~!8*:lL .U]OgO.r8rr2=,3+'JdqvAk%Huzbϒg}w-vvvt [(( щ zLSj KqQWoYFg)Ϟoieu78ojղGwũ{=QKpCú*DMqj6u"5lƿfn^^Pj~5,Y ]KKM붱8c|OxDuTRq=2C*HgN]WNnokX}_]7S;ҸyC6ֹ#qmX#Npf ^+̂_vl;_hj,{A/$,;\ђ䂈Wbԑ:P<xSBϔf?$+a5 .<]٭tʿGuL"ԯe7xL^L>n}x`b!KύTT=흣޳UP# vC=J-M(B%;&TĜ¬H͏z>u| y s/_lz1.PI|'okTX@`<F%Y )\jB͏G| -N$u^ϯsmb  IvW;UCX# *[|D3r X.!~^eOFp^M뼌p+%: 0#"hNN=Wש<w5]ưXI'*B<$k4B\`Pni`羀Vz+xK!znIγ<Ϟ|Y/X~+ CZ9c+L^[ ߅;x>2R;>rF(g{z,ҔNSb^A'\n3$cꜰŹN.!بZ-FH!+heϸZ1Srr'=7k2^v2?"c ޹kbOthSkQ4as㩗Ec0N&h_eS&|񂂂q *xn}p"tssv*.{]ܣsQde[g DG\xFfi'D[ K>u㰲K \U9:޻;&=y>NAl`2W܇-|ٛ׽ WH~V㵴O ި_8[M>D;%Gx4mc䖰xP"IAH֩ȸ;x3QM/+5ӆe }w膤𾈴޵?ꩉ)wج=&c{O@dhVhnzɳqS=kTg1=`#xǃͩ *\%ޭ$#.l@uן0S4qyJ(!iv?r:prgC޼ϩ'߅n*vQϔaQǖIHZZz\c=aFc!ޜa 3rIka(.%&8Fڄ}S&#<%#7v}6ǟl', JvWi7ThwRN8iﲹռMDOg8Aeg +rE5 Bky % ,&9w`?yںnÇk8tgпfx_pKÜe.E@ C??ҮQk!u` 'G:5bb p{QG?szMs5Sc)8ڹejw3Ÿaf٨Dr*cc>OIԏvv>Xj_x7кs{ %fGnXX=3Ƒ=NCEhH_+NW%R{{:UߢL߲:G:\ql,;ÜN`wBMǿ| /^H^=+idTuo*C LԒ&fe#eC]E5mk:ngeL&Ⱦ~V9 & ?(jr֌[(UիgF?Q:]lV7ϫk|X!d—Ζ獟 ɢPrbmXn+dO8rY0׷k^k9]"fMN=:)5ޣxBdBי2fE_*vE|:_ jPWU>;9nU@֫TMľa8rctۨg:*4'!XA[Q-c011@W+Fszv `ax m@}ܝOKye٧gfK( h  촺*Ҷom}'')Ad3.Q ^M\g6oxN9ɿj!$dW3*LH%aJz X(ouh ;0UV>zQaSHz-ƁGp#+i%b ~__psD,x>L?i>z\M=G3׼'PG]PSX*Йb_'5]sj)4{tdyѤ$)- F_fUPPh{¼ʥ,š!&Ӵ$KhC0C;F뫻oO3 < {wUd:R+B?>dr^4nIzzzV,4cΜ ,:rZrqC[aWDw"]\΁e*ϑD >?6}K{87Հw|";̫.NZg< kڎžq%+缃ɫnVp`| ]WSQ̍E6x\ (.FZZbO0A_MIMO {fzn6).)Q꟎jO%!bNf\Ѕc}%o$t*%IK?JDܕ,;t{L): +!#BJuōbMd7V=^%4>ɺ9..O5qm+$;!/r]Ƶ#__;~#I/$#qOrpQw56|f}Cԙ:Dwڵ {,)f'4f\"II#ހ\D*A]@Ho#UrvvZݰ `,HPhM@'etwd k?;;Aݡ+QkioDEV?JEHpFu_!!caѪodw+j+Vij@k*@0AACAAE=E Q0DghAA%-(d1É;][OGQA4GvP9:Y G"GSI 1 8 y@JUtAB"65$;1i(ɁB.:-1 0qo+~풴Ɩ^VNVCUK(*4 S>ÑƂ? q$8XbQ{,Дpy!$j{xJ-hb\P0#T[bH6u~R*8@h HQCɧ#p.>3.K[,CZ(SPX~%k3 PAɕd0m]IѺT:]=0;y7-0I"WZD#mYV^\ #ƍESĖ(K\#m?j6Y$h/lyVPxI@d߫P/UDb0\ .vr)k!=KCP@l ySI{*Ɛ3B: V: Lq5k[@u!H긵'{ǻa, 6zv;bjM2MJdI Uqz"Cp"ي)kO5.&Zf^/A%"_).d/'%ֹBb?/mܝdXm[RԿK4-SE?(=] ѱĤ,oJw6=ߒf`6sƺX@v%C0f4`/k n_}סhOG:;-Z$\"߭6:'\BeGP9oJҷI~gb ɒI'aȁ򱧢h)|I+e-ri y$`-3` .l`sqa*^LFAT =0>9=LNmr@喲,FE2DdpT'%~[6hE bP!O RVS`1 9 u]^ǢDZojkoPOI%LL;Cv  parEy"Ë""K H䈷 .Idi%n6Jp$C?oRJaRJZs NRZnYbNIQb"ːK JgJ:&U LL?mCM0q+OZ`%B\Smͣ"-i9*\bʭw[-S|3Y&%@JP1/ k2 ݲ6dKaHw905" ż:KxHǵa0Iux \l?) P=뎡35jo*!)$!!-,"8,HoF[g" IAi[L͢g7F’(Pb([P#$Iv' -4!J~'0/bxiiP1Xc 0$3\OG_ XCV/jOVN^;vtJ]h@Vŝ;HG[ ?c'E%D<'.$zOu\=zp 8o\=zp  ?;#Q+'zs 3T,0 #~:' '~?9seugV#vOa!h`;| u§9`3?Rp%kǔ ɍԕ WP' ,IAsr0G"$dv|,9zMFO]x%ϯނ" wꪧPdD[2I9"7}QAV Ď֫ T ҍo,(8:21ڂ cccNTxqKCS̍ {7OQZ7>>>)U.wh2U(\O&(M#is {.JKK+_R[7S:pv4ݦ߂9*.J[ǫ[_׋Lo@ɋ$ ͿutA'JQg~lCm1q ,wsf_\1t_ֆ+NohE_KAFT'z=[`~b,\H/ƣV}G2ug""x5vyQQ;6vo<@څCɯ&H+UK/[‹/_1wgu.o5~驵6/dq'UsiSSrc)T*]6-|xLˆCBۖ.VX=|甧m7:&/oQT7 6OF [XiK1WθsL&-ia/ܘ"59 PamkU#6J 7Y>Xpe?P7ۼ{_i{KJ?.|!a|eev}S"m<")r셫/Ր#ǝE^zdՌvvbJAXݝݟml1G44ccF  "N۲HrѣSl,K)QQw.xԺ2>-VfQHnl]|yU)~ͧqsg]%g>8 <%+E6nq'##+NrzS:!,-_,*ngVIV|)=٩S:8dj%em7ɭ!Cy܇SN8WT|`)JNJI8B?0?Lk'NEj"ݼl*i*kjkkB rV|鞶c}Z-r(^uuyڕ ow›@tuy͡>[.Nhr4:mm}T9|Q*շ*nlv/[oll;Q ^#佾6-mY UYNn=.NlyetUiʐ]<фogD|C72ٿR۝[2FV n6wsLefRڨu-W٢53\Yb]2nSc=l[^\r()gi^;-Z$r B(PڃhcpSc$@bD h"Kc"9TmfT\KcUYd FMpfi[3fb6B%FJ)Xܲ(Vk1Hdߣ e$!Ǔ#5hRqy Ye3u[5y$xy: 2E6pW'*;-'m4ӰT6[M}GU|6KW"-,\3BڰBuL5RHE'0[WB8Fk>7I,g A;C@ËȰ{յk  Z܈< A/D dТ7KGD {P ޱU\)*"HXZNiZ0x8wX]%2Y:E*ު ED՜I!CgIһ 2hQk'Y`p"dA z |DDrii ]QD4D*&j0 EԊ ՍIIzk˞÷4´5pȌH&wp20S>]8#ς$y@S5IRRq xusDK } 8 8mm+pi$18mI(p:D% y ړMa'fж71$b60(xMjK.x5 ί[Ό?>Fj}$]$Ku%L.a08=!l raHC¢6WJ0ş8IHN65D-ӑiDkWdD FqMDW}>S4a@:vB< ' P?nռ/ myGxBjz NjDSݚh0; ]x!B ^thNt!~o]zX%q1+``35V7E可 >֪&m=РpҤI8oT̵<%>_NC[%fxS#!Ts$+ hsD&|r0{o.<0@>U00A' EL>&Vhy%"نI땤TqlTD* OROtV5stsᩒHǡ%0Hss$`FAZq!&R2F*- TH\"c qO20tEPCcW41O;!**8Te4`#z!X H!~$^Ok ݀]Ψ*{^։R]s $ð% y5P R1(ىP{Ln<8)<fB8W8,nE|!dDhz^_k0%S]or>: ,knC.X`9U]H8M "]r$!`xc$c1t32g ZUQ7Kn 0?F7gtF'O?C?eYj,H]lÕ .#`U!cd{꿰j}s h|x9[] e ~`^N PnCHMaaÜn2Ü3La~%1b:.;Y[CpZU.0|>ޢVb5p,Ee-6"Rjef<,ʣeJ G_X65U?{6FzX`.8|_m`cIİ-bas 34pL!Enbr d`&3`l_:&8`%`2A|%b9g xjk`-B]EkF?Cw=Ɔ]Xl_g'|^@ ^`Ly yds f P7pG,uvxS sJJ 5 wU,˕jDRei |=p%B9{No{8WXyr-[$Ha.ht `JvC@Iݾ~3=tU*I<=g0n510.u| O9ɢq8qh"HƙbŖf&!F cnQ uC{4=Ơc._E$5| 9[AzL}Ci2/,/"tFKI}h=k--z/ .Kp-!ߝ<0vx3 [*gZ(se bGIz0 kbVn5>/bNV*؞)[d`Ŀn}#.k5|+mE^?ΫV+:Cωla_uygP|~ fx F$nj|j~뇛a XBX?el/Of6B[#z#sl1;)f]Ȉ3=L fDz @C899kڅ+s=FWh΋P~$sV pXVr^(Sx Ơ1_9kuR/'mb炅i)c8+ sx*LC: {jt}M#fĕ&Ð^eohg *LJ(=%䡊Y#?q$V3 #<N )?b9 e: HUPg|RB / 4Є-BX9xqSmԼ+u{Hoڣ l$æ=Z ;{8_vNNr %,''fm+xCS<&Ai>聢ƥih|-"!g?p0cz Wނ /* b) gS{9kp-p]ay|@'Coy WeMZU\_}&6 dÑcq,NjDÔǟDZ1Zn)1f,l}$\8Tg!g`{$W[rm'˴F4 T<2Е51jk5MZeG'6=v%['NHHvӲSo5uS4;큉SL~g BGP%W$U1 % L\ύ/s7Yj- MFS '&Xfv|ˆ3_M T 7ֿSD%J(QD%J(QDW+P