Package: OSCA Version: 1.17.0 Command: /home/biocbuild/bbs-3.21-bioc/R/bin/R CMD INSTALL OSCA StartedAt: 2025-02-14 10:15:08 -0500 (Fri, 14 Feb 2025) EndedAt: 2025-02-14 10:15:10 -0500 (Fri, 14 Feb 2025) EllapsedTime: 2.5 seconds RetCode: 0 Status: OK