Package: MsBackendMgf Version: 1.15.2 Command: /home/rapidbuild/bbs-3.21-bioc-rapid/R/bin/R CMD check --install=check:MsBackendMgf.install-out.txt --library=/home/rapidbuild/bbs-3.21-bioc-rapid/R/site-library --timings MsBackendMgf_1.15.2.tar.gz StartedAt: 2025-02-18 09:21:12 -0500 (Tue, 18 Feb 2025) EndedAt: 2025-02-18 09:22:42 -0500 (Tue, 18 Feb 2025) EllapsedTime: 90.4 seconds RetCode: 0 Status: OK CheckDir: MsBackendMgf.Rcheck Warnings: 0