Package: interactiveDisplay Version: 1.45.1 Command: /home/rapidbuild/bbs-3.21-bioc-rapid/R/bin/R CMD build --keep-empty-dirs --no-resave-data interactiveDisplay StartedAt: 2025-02-24 13:00:48 -0500 (Mon, 24 Feb 2025) EndedAt: 2025-02-24 13:01:30 -0500 (Mon, 24 Feb 2025) EllapsedTime: 42.3 seconds RetCode: 0 Status: OK PackageFile: interactiveDisplay_1.45.1.tar.gz PackageFileSize: 4.561 MiB