Package: glmGamPoi Version: 1.19.4 Command: /home/rapidbuild/bbs-3.21-bioc-rapid/R/bin/R CMD check --install=check:glmGamPoi.install-out.txt --library=/home/rapidbuild/bbs-3.21-bioc-rapid/R/site-library --timings glmGamPoi_1.19.4.tar.gz StartedAt: 2025-02-18 09:01:21 -0500 (Tue, 18 Feb 2025) EndedAt: 2025-02-18 09:09:59 -0500 (Tue, 18 Feb 2025) EllapsedTime: 517.9 seconds RetCode: 1 Status: ERROR CheckDir: glmGamPoi.Rcheck Warnings: NA