Package: biomaRt Version: 2.63.1 Command: /home/rapidbuild/bbs-3.21-bioc-rapid/R/bin/R CMD build --keep-empty-dirs --no-resave-data biomaRt StartedAt: 2025-02-16 06:33:48 -0500 (Sun, 16 Feb 2025) EndedAt: 2025-02-16 06:36:11 -0500 (Sun, 16 Feb 2025) EllapsedTime: 142.9 seconds RetCode: 0 Status: OK PackageFile: biomaRt_2.63.1.tar.gz PackageFileSize: 838.8 KiB