Package: bamsignals
Version: 1.39.0
Maintainer: Johannes Helmuth
MaintainerEmail: johannes.helmuth at laborberlin.com
git_url: https://git.bioconductor.org/packages/bamsignals
git_branch: devel
git_last_commit: df2b237
git_last_commit_date: 2024-10-29 09:59:24 -0500 (Tue, 29 Oct 2024)