Package: S4Arrays Version: 1.7.3 Command: /home/rapidbuild/bbs-3.21-bioc-rapid/R/bin/R CMD INSTALL S4Arrays StartedAt: 2025-02-18 06:13:01 -0500 (Tue, 18 Feb 2025) EndedAt: 2025-02-18 06:13:16 -0500 (Tue, 18 Feb 2025) EllapsedTime: 15.5 seconds RetCode: 0 Status: OK