Package: S4Arrays Version: 1.7.3 Command: /home/rapidbuild/bbs-3.21-bioc-rapid/R/bin/R CMD check --install=check:S4Arrays.install-out.txt --library=/home/rapidbuild/bbs-3.21-bioc-rapid/R/site-library --timings S4Arrays_1.7.3.tar.gz StartedAt: 2025-02-18 09:35:30 -0500 (Tue, 18 Feb 2025) EndedAt: 2025-02-18 09:37:24 -0500 (Tue, 18 Feb 2025) EllapsedTime: 113.7 seconds RetCode: 0 Status: OK CheckDir: S4Arrays.Rcheck Warnings: 0