Package: RaggedExperiment Version: 1.31.1 Command: /home/rapidbuild/bbs-3.21-bioc-rapid/R/bin/R CMD INSTALL RaggedExperiment StartedAt: 2025-02-24 12:16:57 -0500 (Mon, 24 Feb 2025) EndedAt: 2025-02-24 12:17:17 -0500 (Mon, 24 Feb 2025) EllapsedTime: 19.8 seconds RetCode: 0 Status: OK