Package: HDF5Array Version: 1.35.13 Maintainer: Hervé Pagès MaintainerEmail: hpages.on.github at gmail.com git_url: https://git.bioconductor.org/packages/HDF5Array git_branch: devel git_last_commit: 8bdde42 git_last_commit_date: 2025-02-13 14:44:06 -0500 (Thu, 13 Feb 2025)