Package: EDASeq Version: 2.41.0 Command: /home/rapidbuild/bbs-3.21-bioc-rapid/R/bin/R CMD INSTALL EDASeq StartedAt: 2025-02-24 12:23:16 -0500 (Mon, 24 Feb 2025) EndedAt: 2025-02-24 12:23:53 -0500 (Mon, 24 Feb 2025) EllapsedTime: 37.0 seconds RetCode: 0 Status: OK