Package: EBarrays Version: 2.71.0 Command: /home/rapidbuild/bbs-3.21-bioc-rapid/R/bin/R CMD INSTALL EBarrays StartedAt: 2025-02-19 06:10:37 -0500 (Wed, 19 Feb 2025) EndedAt: 2025-02-19 06:10:41 -0500 (Wed, 19 Feb 2025) EllapsedTime: 4.2 seconds RetCode: 0 Status: OK