Welcome to mirrors.dotsrc.org

All our mirrors of open source software are available via http, https, ftp and an onion service. More information about our mirrors including statistics and contact information is available on our mirror info pages.

For information about dotsrc.org and our other services please go to our website.

Index of /bioconductor/checkResults/devel/bioc-rapid-LATEST/

File Name  ↓ File Size  ↓ Date  ↓ 
Parent directory/--
AnnotationDbi/-2025-02-18 15:20:36
AnnotationFilter/-2025-02-18 15:20:36
AnnotationForge/-2025-02-18 15:20:36
AnnotationHub/-2025-02-18 15:20:36
AnnotationHubData/-2025-02-18 15:20:36
BSgenome/-2025-02-18 15:20:36
BSgenomeForge/-2025-02-18 15:20:36
Biobase/-2025-02-18 15:20:36
BiocBaseUtils/-2025-02-18 15:20:36
BiocCheck/-2025-02-18 15:20:36
BiocFileCache/-2025-02-18 15:20:36
BiocGenerics/-2025-02-18 15:20:36
BiocIO/-2025-02-18 15:20:36
BiocNeighbors/-2025-02-18 15:20:36
BiocParallel/-2025-02-18 15:20:36
BiocSingular/-2025-02-18 15:20:36
BiocStyle/-2025-02-18 15:20:36
BiocVersion/-2025-02-18 15:20:36
Biostrings/-2025-02-18 15:20:36
BumpyMatrix/-2025-02-18 15:20:36
Category/-2025-02-18 15:20:36
ChemmineOB/-2025-02-18 15:20:37
ChemmineR/-2025-02-18 15:20:37
ComplexHeatmap/-2025-02-18 15:20:37
CompoundDb/-2025-02-18 15:20:37
ConsensusClusterPlus/-2025-02-18 15:20:37
CytoML/-2025-02-18 15:20:37
DECIPHER/-2025-02-18 15:20:37
DESeq2/-2025-02-18 15:20:37
DEXSeq/-2025-02-18 15:20:37
DNAcopy/-2025-02-18 15:20:37
DOSE/-2025-02-18 15:20:37
DelayedArray/-2025-02-18 15:20:37
DelayedMatrixStats/-2025-02-18 15:20:37
DirichletMultinomial/-2025-02-18 15:20:37
DropletUtils/-2025-02-18 15:20:37
DynDoc/-2025-02-18 15:20:37
EBImage/-2025-02-18 15:20:37
EBarrays/-2025-02-18 15:20:37
EDASeq/-2025-02-18 15:20:37
EnhancedVolcano/-2025-02-18 15:20:37
EnrichedHeatmap/-2025-02-18 15:20:37
ExperimentHub/-2025-02-18 15:20:37
ExperimentHubData/-2025-02-18 15:20:37
GEOquery/-2025-02-18 15:20:37
GOSemSim/-2025-02-18 15:20:37
GOstats/-2025-02-18 15:20:37
GSEABase/-2025-02-18 15:20:37
GSVA/-2025-02-18 15:20:37
GenomeInfoDb/-2025-02-18 15:20:37
GenomicAlignments/-2025-02-18 15:20:37
GenomicFeatures/-2025-02-18 15:20:37
GenomicRanges/-2025-02-18 15:20:37
Gviz/-2025-02-18 15:20:37
HDF5Array/-2025-02-18 15:20:37
HubPub/-2025-02-18 15:20:37
IHW/-2025-02-18 15:20:37
IRanges/-2025-02-18 15:20:37
KEGGREST/-2025-02-18 15:20:37
KEGGgraph/-2025-02-18 15:20:37
LoomExperiment/-2025-02-18 15:20:37
MLInterfaces/-2025-02-18 15:20:37
MSnbase/-2025-02-18 15:20:37
MassSpecWavelet/-2025-02-18 15:20:37
MatrixGenerics/-2025-02-18 15:20:37
MetaboCoreUtils/-2025-02-18 15:20:37
MsBackendMgf/-2025-02-18 15:20:37
MsBackendSql/-2025-02-18 15:20:37
MsCoreUtils/-2025-02-18 15:20:37
MsDataHub/-2025-02-18 15:20:37
MsExperiment/-2025-02-18 15:20:37
MsFeatures/-2025-02-18 15:20:37
MultiAssayExperiment/-2025-02-18 15:20:37
OrganismDbi/-2025-02-18 15:20:37
PSMatch/-2025-02-18 15:20:37
ProtGenerics/-2025-02-18 15:20:37
QFeatures/-2025-02-18 15:20:37
RBGL/-2025-02-18 15:20:38
ROC/-2025-02-18 15:20:38
RProtoBufLib/-2025-02-18 15:20:38
RaggedExperiment/-2025-02-18 15:20:37
Rdisop/-2025-02-18 15:20:38
ReportingTools/-2025-02-18 15:20:38
ResidualMatrix/-2025-02-18 15:20:38
Rgraphviz/-2025-02-18 15:20:38
Rhdf5lib/-2025-02-18 15:20:38
Rhtslib/-2025-02-18 15:20:38
Rsamtools/-2025-02-18 15:20:38
Rsubread/-2025-02-18 15:20:38
S4Arrays/-2025-02-18 15:20:38
S4Vectors/-2025-02-18 15:20:38
SPIA/-2025-02-18 15:20:38
ScaledMatrix/-2025-02-18 15:20:38
ShortRead/-2025-02-18 15:20:38
SingleCellExperiment/-2025-02-18 15:20:38
SingleR/-2025-02-18 15:20:38
SparseArray/-2025-02-18 15:20:38
SpatialExperiment/-2025-02-18 15:20:38
Spectra/-2025-02-18 15:20:38
SummarizedExperiment/-2025-02-18 15:20:38
TCGAbiolinks/-2025-02-18 15:20:38
UCSC.utils/-2025-02-18 15:20:38
VariantAnnotation/-2025-02-18 15:20:38
Wrench/-2025-02-18 15:20:38
XVector/-2025-02-18 15:20:38
affxparser/-2025-02-18 15:20:36
affy/-2025-02-18 15:20:36
affyPLM/-2025-02-18 15:20:36
affyio/-2025-02-18 15:20:36
alabaster.base/-2025-02-18 15:20:36
alabaster.matrix/-2025-02-18 15:20:36
alabaster.ranges/-2025-02-18 15:20:36
alabaster.sce/-2025-02-18 15:20:36
alabaster.schemas/-2025-02-18 15:20:36
alabaster.se/-2025-02-18 15:20:36
annotate/-2025-02-18 15:20:36
apeglm/-2025-02-18 15:20:36
aroma.light/-2025-02-18 15:20:36
assorthead/-2025-02-18 15:20:36
bamsignals/-2025-02-18 15:20:36
basilisk/-2025-02-18 15:20:36
basilisk.utils/-2025-02-18 15:20:36
batchelor/-2025-02-18 15:20:36
beachmat/-2025-02-18 15:20:36
beachmat.hdf5/-2025-02-18 15:20:36
biocViews/-2025-02-18 15:20:36
biocthis/-2025-02-18 15:20:36
biomaRt/-2025-02-18 15:20:36
biomformat/-2025-02-18 15:20:36
biovizBase/-2025-02-18 15:20:36
bluster/-2025-02-18 15:20:36
chihaya/-2025-02-18 15:20:37
clusterProfiler/-2025-02-18 15:20:37
csaw/-2025-02-18 15:20:37
cytolib/-2025-02-18 15:20:37
densvis/-2025-02-18 15:20:37
dir.expiry/-2025-02-18 15:20:37
edgeR/-2025-02-18 15:20:37
eds/-2025-02-18 15:20:37
enrichplot/-2025-02-18 15:20:37
ensembldb/-2025-02-18 15:20:37
fgsea/-2025-02-18 15:20:37
fishpond/-2025-02-18 15:20:37
flowClust/-2025-02-18 15:20:37
flowCore/-2025-02-18 15:20:37
flowStats/-2025-02-18 15:20:37
flowViz/-2025-02-18 15:20:37
flowWorkspace/-2025-02-18 15:20:37
fmcsR/-2025-02-18 15:20:37
gage/-2025-02-18 15:20:37
gcrma/-2025-02-18 15:20:37
gdsfmt/-2025-02-18 15:20:37
genefilter/-2025-02-18 15:20:37
geneplotter/-2025-02-18 15:20:37
ggbio/-2025-02-18 15:20:37
ggcyto/-2025-02-18 15:20:37
ggtree/-2025-02-18 15:20:37
ggtreeExtra/-2025-02-18 15:20:37
glmGamPoi/-2025-02-18 15:20:37
gpls/-2025-02-18 15:20:37
graph/-2025-02-18 15:20:37
gypsum/-2025-02-18 15:20:37
h5mread/-2025-02-18 15:20:37
hpar/-2025-02-18 15:20:37
illuminaio/-2025-02-18 15:20:37
impute/-2025-02-18 15:20:37
interactiveDisplay/-2025-02-18 15:20:37
interactiveDisplayBase/-2025-02-18 15:20:37
karyoploteR/-2025-02-18 15:20:37
keggorthology/-2025-02-18 15:20:37
limma/-2025-02-18 15:20:37
lpsymphony/-2025-02-18 15:20:37
maftools/-2025-02-18 15:20:37
mbkmeans/-2025-02-18 15:20:37
metagenomeSeq/-2025-02-18 15:20:37
metapod/-2025-02-18 15:20:37
microRNA/-2025-02-18 15:20:37
minet/-2025-02-18 15:20:37
multtest/-2025-02-18 15:20:37
mzID/-2025-02-18 15:20:37
mzR/-2025-02-18 15:20:37
ncdfFlow/-2025-02-18 15:20:37
openCyto/-2025-02-18 15:20:37
pRoloc/-2025-02-18 15:20:37
pathview/-2025-02-18 15:20:37
pcaMethods/-2025-02-18 15:20:37
phyloseq/-2025-02-18 15:20:37
preprocessCore/-2025-02-18 15:20:37
pwalign/-2025-02-18 15:20:37
qvalue/-2025-02-18 15:20:37
rBiopaxParser/-2025-02-18 15:20:38
regioneR/-2025-02-18 15:20:38
rhdf5/-2025-02-18 15:20:38
rhdf5filters/-2025-02-18 15:20:38
rpx/-2025-02-18 15:20:38
rtracklayer/-2025-02-18 15:20:38
scater/-2025-02-18 15:20:38
scran/-2025-02-18 15:20:38
scrapper/-2025-02-18 15:20:38
scuttle/-2025-02-18 15:20:38
seqLogo/-2025-02-18 15:20:38
sesame/-2025-02-18 15:20:38
snifter/-2025-02-18 15:20:38
snpStats/-2025-02-18 15:20:38
sparseMatrixStats/-2025-02-18 15:20:38
supraHex/-2025-02-18 15:20:38
sva/-2025-02-18 15:20:38
tkWidgets/-2025-02-18 15:20:38
treeio/-2025-02-18 15:20:38
txdbmaker/-2025-02-18 15:20:38
tximeta/-2025-02-18 15:20:38
tximport/-2025-02-18 15:20:38
vsn/-2025-02-18 15:20:38
widgetTools/-2025-02-18 15:20:38
xcms/-2025-02-18 15:20:38
zellkonverter/-2025-02-18 15:20:38
zlibbioc/-2025-02-18 15:20:38
120px-Blue_Light_Icon.svg.png7.1 KiB2025-02-18 15:20:36
120px-Green_Light_Icon.svg.png7.1 KiB2025-02-18 15:20:36
120px-Red_Light_Icon.svg.png7.0 KiB2025-02-18 15:20:36
BUILD_STATUS_DB.txt19.7 KiB2025-02-18 15:20:36
DEVEL3b.png2.6 KiB2025-02-18 15:20:36
Renviron.bioc3.3 KiB2025-02-18 15:20:36
index.html231.9 KiB2025-02-18 15:20:38
meat-index.dcf23.6 KiB2025-02-18 15:20:36
report.css11.0 KiB2025-02-18 15:20:36
report.js6.0 KiB2025-02-18 15:20:36
report.tgz4.1 MiB2025-02-18 15:20:40
skipped-index.dcf0 B2025-02-18 15:20:36
teran2-NodeInfo.html7.0 KiB2025-02-18 15:20:36
teran2-R-instpkgs.html113.9 KiB2025-02-18 15:20:36