Welcome to mirrors.dotsrc.org

All our mirrors of open source software are available via http, https, ftp and an onion service. More information about our mirrors including statistics and contact information is available on our mirror info pages.

For information about dotsrc.org and our other services please go to our website.

Index of /bioconductor/checkResults/devel/bioc-LATEST/

File Name  ↓ File Size  ↓ Date  ↓ 
Parent directory/--
iSEEtree/-2025-02-19 19:35:48
iSEEu/-2025-02-19 19:35:48
ibh/-2025-02-19 19:35:48
iSEEpathways/-2025-02-19 19:35:48
iasva/-2025-02-19 19:35:48
iSEEhex/-2025-02-19 19:35:48
iSeq/-2025-02-19 19:35:48
iSEEhub/-2025-02-19 19:35:48
iSEEindex/-2025-02-19 19:35:48
iSEEde/-2025-02-19 19:35:25
iSEEfier/-2025-02-19 19:35:25
ZygosityPredictor/-2025-02-19 16:45:26
XVector/-2025-02-19 16:45:25
XNAString/-2025-02-19 16:45:25
Wrench/-2025-02-19 16:45:25
XDE/-2025-02-19 16:45:25
XINA/-2025-02-19 16:45:25
Xeva/-2025-02-19 16:45:25
YAPSA/-2025-02-19 16:45:25
ViSEAGO/-2025-02-19 16:45:24
VaSP/-2025-02-19 16:45:24
VegaMC/-2025-02-19 16:45:24
VDJdive/-2025-02-19 16:45:24
VisiumIO/-2025-02-19 16:45:24
VERSO/-2025-02-19 16:45:24
VennDetail/-2025-02-19 16:45:24
VCFArray/-2025-02-19 16:45:24
Voyager/-2025-02-19 16:45:24
VplotR/-2025-02-19 16:45:24
VAExprs/-2025-02-19 16:45:23
Uniquorn/-2025-02-19 16:45:23
VariantExperiment/-2025-02-19 16:45:23
VariantAnnotation/-2025-02-19 16:45:23
UCSC.utils/-2025-02-19 16:45:23
Ularcirc/-2025-02-19 16:45:23
UPDhmm/-2025-02-19 16:45:23
UNDO/-2025-02-19 16:45:23
VanillaICE/-2025-02-19 16:45:23
VarCon/-2025-02-19 16:45:23
TypeInfo/-2025-02-19 16:45:23
VariantTools/-2025-02-19 16:45:23
UniProt.ws/-2025-02-19 16:45:23
UMI4Cats/-2025-02-19 16:45:23
VariantFiltering/-2025-02-19 16:45:23
UCell/-2025-02-19 16:45:23
Trendy/-2025-02-19 16:45:22
TrIdent/-2025-02-19 16:45:22
TurboNorm/-2025-02-19 16:45:22
TTMap/-2025-02-19 16:45:22
TSCAN/-2025-02-19 16:45:22
TSAR/-2025-02-19 16:45:22
TVTB/-2025-02-19 16:45:22
TRONCO/-2025-02-19 16:45:22
TRESS/-2025-02-19 16:45:22
TreeSummarizedExperiment/-2025-02-19 16:45:21
TrajectoryGeometry/-2025-02-19 16:45:21
TrajectoryUtils/-2025-02-19 16:45:21
TREG/-2025-02-19 16:45:21
TransView/-2025-02-19 16:45:21
TreeAndLeaf/-2025-02-19 16:45:21
TPP2D/-2025-02-19 16:45:20
TMSig/-2025-02-19 16:45:20
ToxicoGx/-2025-02-19 16:45:20
TitanCNA/-2025-02-19 16:45:20
TissueEnrich/-2025-02-19 16:45:20
TPP/-2025-02-19 16:45:20
TileDBArray/-2025-02-19 16:45:20
TOP/-2025-02-19 16:45:20
TIN/-2025-02-19 16:45:20
TnT/-2025-02-19 16:45:20
TOAST/-2025-02-19 16:45:20
TMixClust/-2025-02-19 16:45:20
TDbasedUFEadv/-2025-02-19 16:45:19
TDbasedUFE/-2025-02-19 16:45:19
TEQC/-2025-02-19 16:45:19
TFARM/-2025-02-19 16:45:19
TENxIO/-2025-02-19 16:45:19
TFBSTools/-2025-02-19 16:45:19
TCGAbiolinks/-2025-02-19 16:45:19
TFEA.ChIP/-2025-02-19 16:45:19
TCGAutils/-2025-02-19 16:45:19
TFHAZ/-2025-02-19 16:45:19
TCseq/-2025-02-19 16:45:19
TFutils/-2025-02-19 16:45:19
TEKRABber/-2025-02-19 16:45:19
TADCompare/-2025-02-19 16:45:18
TargetSearch/-2025-02-19 16:45:18
SynExtend/-2025-02-19 16:45:18
TCC/-2025-02-19 16:45:18
TAPseq/-2025-02-19 16:45:18
SwathXtend/-2025-02-19 16:45:18
TBSignatureProfiler/-2025-02-19 16:45:18
TargetScore/-2025-02-19 16:45:18
SynMut/-2025-02-19 16:45:18
TargetDecoy/-2025-02-19 16:45:18
Summix/-2025-02-19 16:45:17
StructuralVariantAnnotation/-2025-02-19 16:45:17
STRINGdb/-2025-02-19 16:45:17
SVMDO/-2025-02-19 16:45:17
SurfR/-2025-02-19 16:45:17
SubCellBarCode/-2025-02-19 16:45:17
SUITOR/-2025-02-19 16:45:17
Streamer/-2025-02-19 16:45:17
SummarizedExperiment/-2025-02-19 16:45:17
SWATH2stats/-2025-02-19 16:45:17
Structstrings/-2025-02-19 16:45:17
STdeconvolve/-2025-02-19 16:45:16
StabMap/-2025-02-19 16:45:16
SPsimSeq/-2025-02-19 16:45:16
Statial/-2025-02-19 16:45:16
SRAdb/-2025-02-19 16:45:16
STATegRa/-2025-02-19 16:45:16
SQLDataFrame/-2025-02-19 16:45:16
SpectralTAD/-2025-02-19 16:45:15
Spectra/-2025-02-19 16:45:15
SPONGE/-2025-02-19 16:45:15
SPLINTER/-2025-02-19 16:45:15
SpliceWiz/-2025-02-19 16:45:15
SpeCond/-2025-02-19 16:45:15
SplicingFactory/-2025-02-19 16:45:15
SPOTlight/-2025-02-19 16:45:15
SplineDV/-2025-02-19 16:45:15
SPEM/-2025-02-19 16:45:15
SpotSweeper/-2025-02-19 16:45:15
SpectraQL/-2025-02-19 16:45:15
SplicingGraphs/-2025-02-19 16:45:15
SpotClean/-2025-02-19 16:45:15
SPIAT/-2025-02-19 16:45:15
SPIA/-2025-02-19 16:45:15
SparseArray/-2025-02-19 16:45:14
Spaniel/-2025-02-19 16:45:14
SpatialDecon/-2025-02-19 16:45:14
SpatialExperimentIO/-2025-02-19 16:45:14
SpatialFeatureExperiment/-2025-02-19 16:45:14
SpatialExperiment/-2025-02-19 16:45:14
SpatialCPie/-2025-02-19 16:45:14
SparseSignatures/-2025-02-19 16:45:14
SpaNorm/-2025-02-19 16:45:14
SpatialOmicsOverlay/-2025-02-19 16:45:14
SpacePAC/-2025-02-19 16:45:14
SNPRelate/-2025-02-19 16:45:13
SpaceMarkers/-2025-02-19 16:45:13
SMITE/-2025-02-19 16:45:13
SMAD/-2025-02-19 16:45:13
SNPediaR/-2025-02-19 16:45:13
SNPhood/-2025-02-19 16:45:13
SOMNiBUS/-2025-02-19 16:45:13
SomaticSignatures/-2025-02-19 16:45:13
SNAGEE/-2025-02-19 16:45:13
SLqPCR/-2025-02-19 16:45:13
SingleMoleculeFootprinting/-2025-02-19 16:45:12
SingleCellExperiment/-2025-02-19 16:45:12
SiPSiC/-2025-02-19 16:45:12
SingleCellAlleleExperiment/-2025-02-19 16:45:12
SingleCellSignalR/-2025-02-19 16:45:12
SingleR/-2025-02-19 16:45:12
SIMLR/-2025-02-19 16:45:12
SICtools/-2025-02-19 16:45:11
ShortRead/-2025-02-19 16:45:11
SIAMCAT/-2025-02-19 16:45:11
SigsPack/-2025-02-19 16:45:11
SharedObject/-2025-02-19 16:45:11
SIM/-2025-02-19 16:45:11
SimFFPE/-2025-02-19 16:45:11
SIMD/-2025-02-19 16:45:11
SigCheck/-2025-02-19 16:45:11
SGSeq/-2025-02-19 16:45:11
SimBu/-2025-02-19 16:45:11
SigFuge/-2025-02-19 16:45:11
SIMAT/-2025-02-19 16:45:11
SGCP/-2025-02-19 16:45:11
SemDist/-2025-02-19 16:45:10
SeqSQC/-2025-02-19 16:45:10
SeqVarTools/-2025-02-19 16:45:10
SELEX/-2025-02-19 16:45:10
SeqArray/-2025-02-19 16:45:10
SeqGate/-2025-02-19 16:45:10
SeqGSEA/-2025-02-19 16:45:10
SEtools/-2025-02-19 16:45:10
SDAMS/-2025-02-19 16:45:09
ScreenR/-2025-02-19 16:45:09
SCnorm/-2025-02-19 16:45:08
SCFA/-2025-02-19 16:45:08
Sconify/-2025-02-19 16:45:08
SCOPE/-2025-02-19 16:45:08
SC3/-2025-02-19 16:45:07
ScaledMatrix/-2025-02-19 16:45:07
SCBN/-2025-02-19 16:45:07
SBGNview/-2025-02-19 16:45:07
SBMLR/-2025-02-19 16:45:07
SCArray.sat/-2025-02-19 16:45:07
Scale4C/-2025-02-19 16:45:07
SCANVIS/-2025-02-19 16:45:07
SCAN.UPC/-2025-02-19 16:45:07
SCArray/-2025-02-19 16:45:07
SANTA/-2025-02-19 16:45:06
RVS/-2025-02-19 16:45:06
SARC/-2025-02-19 16:45:06
RUVSeq/-2025-02-19 16:45:06
SamSPECTRAL/-2025-02-19 16:45:06
Rtreemix/-2025-02-19 16:45:06
RUVnormalize/-2025-02-19 16:45:06
Rvisdiff/-2025-02-19 16:45:06
RUVcorr/-2025-02-19 16:45:06
SAIGEgds/-2025-02-19 16:45:06
S4Arrays/-2025-02-19 16:45:06
S4Vectors/-2025-02-19 16:45:06
RTCGA/-2025-02-19 16:45:05
RSVSim/-2025-02-19 16:45:05
Rtpca/-2025-02-19 16:45:05
RTNsurvival/-2025-02-19 16:45:05
RTCA/-2025-02-19 16:45:05
RProtoBufLib/-2025-02-19 16:45:05
RTCGAToolbox/-2025-02-19 16:45:05
Rsamtools/-2025-02-19 16:45:05
RRHO/-2025-02-19 16:45:05
RTopper/-2025-02-19 16:45:05
Rqc/-2025-02-19 16:45:05
RSeqAn/-2025-02-19 16:45:05
RTN/-2025-02-19 16:45:05
RTNduals/-2025-02-19 16:45:05
RPA/-2025-02-19 16:45:05
Rsubread/-2025-02-19 16:45:05
ROC/-2025-02-19 16:45:04
RNAseqCovarImpute/-2025-02-19 16:45:04
RNASeqPower/-2025-02-19 16:45:04
ROSeq/-2025-02-19 16:45:04
RNAmodR.RiboMethSeq/-2025-02-19 16:45:04
RNAAgeCalc/-2025-02-19 16:45:04
RNAmodR.ML/-2025-02-19 16:45:04
RolDE/-2025-02-19 16:45:04
RnaSeqSampleSize/-2025-02-19 16:45:04
RNAdecay/-2025-02-19 16:45:04
RNAmodR.AlkAnilineSeq/-2025-02-19 16:45:04
ROCpAI/-2025-02-19 16:45:04
ROTS/-2025-02-19 16:45:04
ROntoTools/-2025-02-19 16:45:04
Rnits/-2025-02-19 16:45:04
RnBeads/-2025-02-19 16:45:04
RNAmodR/-2025-02-19 16:45:04
RNAsense/-2025-02-19 16:45:04
RITAN/-2025-02-19 16:45:03
RJMCMCNucleosomes/-2025-02-19 16:45:03
RiboProfiling/-2025-02-19 16:45:03
RiboCrypt/-2025-02-19 16:45:03
RImmPort/-2025-02-19 16:45:03
RIVER/-2025-02-19 16:45:03
RMassBank/-2025-02-19 16:45:03
Rhdf5lib/-2025-02-19 16:45:03
Rhisat2/-2025-02-19 16:45:03
RiboDiPA/-2025-02-19 16:45:03
RLassoCox/-2025-02-19 16:45:03
Rhtslib/-2025-02-19 16:45:03
Rmmquant/-2025-02-19 16:45:03
RLMM/-2025-02-19 16:45:03
Rmagpie/-2025-02-19 16:45:03
RGSEA/-2025-02-19 16:45:02
RESOLVE/-2025-02-19 16:45:02
ResidualMatrix/-2025-02-19 16:45:02
RepViz/-2025-02-19 16:45:02
ReportingTools/-2025-02-19 16:45:02
Rgraphviz/-2025-02-19 16:45:02
RGraph2js/-2025-02-19 16:45:02
RgnTX/-2025-02-19 16:45:02
ReUseData/-2025-02-19 16:45:02
Rfastp/-2025-02-19 16:45:02
Repitools/-2025-02-19 16:45:02
REMP/-2025-02-19 16:45:02
RegionalST/-2025-02-19 16:45:01
ReactomeGSA/-2025-02-19 16:45:01
ReducedExperiment/-2025-02-19 16:45:01
Rdisop/-2025-02-19 16:45:01
ReadqPCR/-2025-02-19 16:45:01
REBET/-2025-02-19 16:45:01
RDRToolbox/-2025-02-19 16:45:01
RedeR/-2025-02-19 16:45:01
ReactomePA/-2025-02-19 16:45:01
ReactomeContentService4R/-2025-02-19 16:45:01
ReactomeGraph4R/-2025-02-19 16:45:01
REDseq/-2025-02-19 16:45:01
RedisParam/-2025-02-19 16:45:01
RegEnrich/-2025-02-19 16:45:01
RCy3/-2025-02-19 16:45:00
RBGL/-2025-02-19 16:45:00
RCX/-2025-02-19 16:45:00
RCASPAR/-2025-02-19 16:45:00
RCyjs/-2025-02-19 16:45:00
Rbowtie2/-2025-02-19 16:45:00
Rcpi/-2025-02-19 16:45:00
RcwlPipelines/-2025-02-19 16:45:00
RBioinf/-2025-02-19 16:45:00
Rcwl/-2025-02-19 16:45:00
Rbwa/-2025-02-19 16:45:00
RCM/-2025-02-19 16:45:00
RbcBook1/-2025-02-19 16:45:00
RBioFormats/-2025-02-19 16:45:00
RCSL/-2025-02-19 16:45:00
Rbowtie/-2025-02-19 16:45:00
RCAS/-2025-02-19 16:45:00
Rbec/-2025-02-19 16:45:00
RcisTarget/-2025-02-19 16:45:00
RBM/-2025-02-19 16:45:00
R453Plus1Toolbox/-2025-02-19 16:44:59
RankProd/-2025-02-19 16:44:59
RAIDS/-2025-02-19 16:44:59
QUBIC/-2025-02-19 16:44:59
Rarr/-2025-02-19 16:44:59
R4RNA/-2025-02-19 16:44:59
RaggedExperiment/-2025-02-19 16:44:59
QuaternaryProd/-2025-02-19 16:44:59
RadioGx/-2025-02-19 16:44:59
QuasR/-2025-02-19 16:44:59
QuartPAC/-2025-02-19 16:44:59
RareVariantVis/-2025-02-19 16:44:59
RAREsim/-2025-02-19 16:44:59
Pviz/-2025-02-19 16:44:58
PWMEnrich/-2025-02-19 16:44:58
Qtlizer/-2025-02-19 16:44:58
QSutils/-2025-02-19 16:44:58
QTLExperiment/-2025-02-19 16:44:58
QDNAseq/-2025-02-19 16:44:58
PureCN/-2025-02-19 16:44:58
ProtGenerics/-2025-02-19 16:44:58
QFeatures/-2025-02-19 16:44:58
PSMatch/-2025-02-19 16:44:58
PROcess/-2025-02-19 16:44:57
PrInCE/-2025-02-19 16:44:57
PRONE/-2025-02-19 16:44:57
ProteoMM/-2025-02-19 16:44:57
PREDA/-2025-02-19 16:44:57
PROMISE/-2025-02-19 16:44:57
PROPS/-2025-02-19 16:44:57
ProteoDisco/-2025-02-19 16:44:57
PROPER/-2025-02-19 16:44:57
Prostar/-2025-02-19 16:44:57
POWSC/-2025-02-19 16:44:56
POMA/-2025-02-19 16:44:56
PLSDAbatch/-2025-02-19 16:44:56
PLPE/-2025-02-19 16:44:56
PolySTest/-2025-02-19 16:44:56
PPInfer/-2025-02-19 16:44:56
Polytect/-2025-02-19 16:44:56
PoDCall/-2025-02-19 16:44:56
Pirat/-2025-02-19 16:44:55
PhenStat/-2025-02-19 16:44:55
PICS/-2025-02-19 16:44:55
Pigengene/-2025-02-19 16:44:55
PIUMA/-2025-02-19 16:44:55
PhyloProfile/-2025-02-19 16:44:55
PICB/-2025-02-19 16:44:55
PhIPData/-2025-02-19 16:44:55
PhenoGeneRanker/-2025-02-19 16:44:55
PharmacoGx/-2025-02-19 16:44:55
PIPETS/-2025-02-19 16:44:55
PhosR/-2025-02-19 16:44:55
PING/-2025-02-19 16:44:55
Pedixplorer/-2025-02-19 16:44:54
PathNet/-2025-02-19 16:44:54
PDATK/-2025-02-19 16:44:54
PepsNMR/-2025-02-19 16:44:54
PECA/-2025-02-19 16:44:54
PCAN/-2025-02-19 16:44:54
PathoStat/-2025-02-19 16:44:54
PepSetTest/-2025-02-19 16:44:54
PeacoQC/-2025-02-19 16:44:54
PCAtools/-2025-02-19 16:44:54
PAIRADISE/-2025-02-19 16:44:53
OUTRIDER/-2025-02-19 16:44:53
OutSplice/-2025-02-19 16:44:53
PAST/-2025-02-19 16:44:53
PANR/-2025-02-19 16:44:53
OTUbase/-2025-02-19 16:44:53
PADOG/-2025-02-19 16:44:53
OVESEG/-2025-02-19 16:44:53
PanViz/-2025-02-19 16:44:53
Path2PPI/-2025-02-19 16:44:53
PAA/-2025-02-19 16:44:53
PanomiR/-2025-02-19 16:44:53
OncoScore/-2025-02-19 16:44:52
ORFik/-2025-02-19 16:44:52
Omixer/-2025-02-19 16:44:52
OPWeight/-2025-02-19 16:44:52
ORFhunteR/-2025-02-19 16:44:52
OrderedList/-2025-02-19 16:44:52
OpenStats/-2025-02-19 16:44:52
OrganismDbi/-2025-02-19 16:44:52
Oscope/-2025-02-19 16:44:52
OSAT/-2025-02-19 16:44:52
OmnipathR/-2025-02-19 16:44:52
Organism.dplyr/-2025-02-19 16:44:52
OLINgui/-2025-02-19 16:44:51
NuPoP/-2025-02-19 16:44:51
OmicCircos/-2025-02-19 16:44:51
OmaDB/-2025-02-19 16:44:51
NTW/-2025-02-19 16:44:51
OmicsMLRepoR/-2025-02-19 16:44:51
OMICsPCA/-2025-02-19 16:44:51
OLIN/-2025-02-19 16:44:51
OCplus/-2025-02-19 16:44:51
OGRE/-2025-02-19 16:44:51
NetSAM/-2025-02-19 16:44:50
NormqPCR/-2025-02-19 16:44:50
Nebulosa/-2025-02-19 16:44:50
NoRCE/-2025-02-19 16:44:50
NPARC/-2025-02-19 16:44:50
NeuCA/-2025-02-19 16:44:50
NewWave/-2025-02-19 16:44:50
NormalyzerDE/-2025-02-19 16:44:50
NetActivity/-2025-02-19 16:44:50
NetPathMiner/-2025-02-19 16:44:50
NOISeq/-2025-02-19 16:44:50
MVCClass/-2025-02-19 16:44:49
NanoTube/-2025-02-19 16:44:49
NanoMethViz/-2025-02-19 16:44:49
NanoStringNCTools/-2025-02-19 16:44:49
NBAMSeq/-2025-02-19 16:44:49
MutationalPatterns/-2025-02-19 16:44:49
MungeSumstats/-2025-02-19 16:44:49
MWASTools/-2025-02-19 16:44:49
NanoStringDiff/-2025-02-19 16:44:49
NADfinder/-2025-02-19 16:44:49
MSstatsLOBD/-2025-02-19 16:44:48
MultiRNAflow/-2025-02-19 16:44:48
MultiDataSet/-2025-02-19 16:44:48
MultiMed/-2025-02-19 16:44:48
MSstatsConvert/-2025-02-19 16:44:48
MSstatsQCgui/-2025-02-19 16:44:48
MSstatsPTM/-2025-02-19 16:44:48
MultimodalExperiment/-2025-02-19 16:44:48
MultiAssayExperiment/-2025-02-19 16:44:48
Mulcom/-2025-02-19 16:44:48
MultiBaC/-2025-02-19 16:44:48
MSstatsLiP/-2025-02-19 16:44:48
MSstatsQC/-2025-02-19 16:44:48
MSstatsShiny/-2025-02-19 16:44:48
MSstats/-2025-02-19 16:44:48
MuData/-2025-02-19 16:44:48
MSstatsBig/-2025-02-19 16:44:48
MSstatsTMT/-2025-02-19 16:44:48
MsBackendRawFileReader/-2025-02-19 16:44:47
MsExperiment/-2025-02-19 16:44:47
MsCoreUtils/-2025-02-19 16:44:47
MSPrep/-2025-02-19 16:44:47
MSnbase/-2025-02-19 16:44:47
MsBackendMassbank/-2025-02-19 16:44:47
MPRAnalyze/-2025-02-19 16:44:47
MsBackendMetaboLights/-2025-02-19 16:44:47
MSnID/-2025-02-19 16:44:47
MsDataHub/-2025-02-19 16:44:47
MsBackendSql/-2025-02-19 16:44:47
MsBackendMsp/-2025-02-19 16:44:47
MsQuality/-2025-02-19 16:44:47
MsBackendMgf/-2025-02-19 16:44:47
MsFeatures/-2025-02-19 16:44:47
MSA2dist/-2025-02-19 16:44:47
MoonlightR/-2025-02-19 16:44:46
MPFE/-2025-02-19 16:44:46
Moonlight2R/-2025-02-19 16:44:46
MoleculeExperiment/-2025-02-19 16:44:46
MOFA2/-2025-02-19 16:44:46
MotifPeeker/-2025-02-19 16:44:46
MOGAMUN/-2025-02-19 16:44:46
MOSClip/-2025-02-19 16:44:46
MouseFM/-2025-02-19 16:44:46
MotifDb/-2025-02-19 16:44:46
MOMA/-2025-02-19 16:44:46
Motif2Site/-2025-02-19 16:44:46
MPAC/-2025-02-19 16:44:46
MOSim/-2025-02-19 16:44:46
Modstrings/-2025-02-19 16:44:45
MMDiff2/-2025-02-19 16:44:45
ModCon/-2025-02-19 16:44:45
MODA/-2025-02-19 16:44:45
MMUPHin/-2025-02-19 16:44:45
MLInterfaces/-2025-02-19 16:44:45
MIRit/-2025-02-19 16:44:45
MLP/-2025-02-19 16:44:45
MLSeq/-2025-02-19 16:44:45
MiPP/-2025-02-19 16:44:44
MicrobiotaProcess/-2025-02-19 16:44:44
MICSQTL/-2025-02-19 16:44:44
MIRA/-2025-02-19 16:44:44
MinimumDistance/-2025-02-19 16:44:44
MiChip/-2025-02-19 16:44:44
MineICA/-2025-02-19 16:44:44
MiRaGE/-2025-02-19 16:44:44
MicrobiomeProfiler/-2025-02-19 16:44:44
MethylMix/-2025-02-19 16:44:43
MethylSeekR/-2025-02-19 16:44:43
MethylAid/-2025-02-19 16:44:43
MGFR/-2025-02-19 16:44:43
MGnifyR/-2025-02-19 16:44:43
MethTargetedNGS/-2025-02-19 16:44:43
MetNet/-2025-02-19 16:44:43
MetMashR/-2025-02-19 16:44:43
Mfuzz/-2025-02-19 16:44:43
MetID/-2025-02-19 16:44:43
MGFM/-2025-02-19 16:44:43
MetCirc/-2025-02-19 16:44:42
MetaCyto/-2025-02-19 16:44:42
MetaNeighbor/-2025-02-19 16:44:42
MetaboDynamics/-2025-02-19 16:44:42
MetaboAnnotation/-2025-02-19 16:44:42
MetaPhOR/-2025-02-19 16:44:42
MetaboSignal/-2025-02-19 16:44:42
MethPed/-2025-02-19 16:44:42
MetaboCoreUtils/-2025-02-19 16:44:42
MethReg/-2025-02-19 16:44:42
MEDIPS/-2025-02-19 16:44:41
MEB/-2025-02-19 16:44:41
MBttest/-2025-02-19 16:44:41
MDTS/-2025-02-19 16:44:41
MEAL/-2025-02-19 16:44:41
MBQN/-2025-02-19 16:44:41
MCbiclust/-2025-02-19 16:44:41
Mergeomics/-2025-02-19 16:44:41
MeasurementError.cor/-2025-02-19 16:44:41
MEAT/-2025-02-19 16:44:41
MeSHDbi/-2025-02-19 16:44:41
MEDME/-2025-02-19 16:44:41
Melissa/-2025-02-19 16:44:41
MEIGOR/-2025-02-19 16:44:41
MesKit/-2025-02-19 16:44:41
MassArray/-2025-02-19 16:44:40
MBECS/-2025-02-19 16:44:40
MatrixRider/-2025-02-19 16:44:40
MAPFX/-2025-02-19 16:44:40
MBCB/-2025-02-19 16:44:40
MatrixQCvis/-2025-02-19 16:44:40
MANOR/-2025-02-19 16:44:40
MBASED/-2025-02-19 16:44:40
MassSpecWavelet/-2025-02-19 16:44:40
MantelCorr/-2025-02-19 16:44:40
MatrixGenerics/-2025-02-19 16:44:40
MBAmethyl/-2025-02-19 16:44:40
MAST/-2025-02-19 16:44:40
M3Drop/-2025-02-19 16:44:39
LymphoSeq/-2025-02-19 16:44:39
M3C/-2025-02-19 16:44:39
MAIT/-2025-02-19 16:44:39
LRcell/-2025-02-19 16:44:39
LRBaseDbi/-2025-02-19 16:44:39
MADSEQ/-2025-02-19 16:44:39
MAGAR/-2025-02-19 16:44:39
MAI/-2025-02-19 16:44:39
LOLA/-2025-02-19 16:44:39
MACSQuantifyR/-2025-02-19 16:44:39
LPE/-2025-02-19 16:44:39
LoomExperiment/-2025-02-19 16:44:39
Macarron/-2025-02-19 16:44:39
Maaslin2/-2025-02-19 16:44:39
MAGeCKFlute/-2025-02-19 16:44:39
MACSr/-2025-02-19 16:44:39
LedPred/-2025-02-19 16:44:38
LOBSTAHS/-2025-02-19 16:44:38
LinkHD/-2025-02-19 16:44:38
LEA/-2025-02-19 16:44:38
Linnorm/-2025-02-19 16:44:38
LinTInd/-2025-02-19 16:44:38
LiquidAssociation/-2025-02-19 16:44:38
LimROTS/-2025-02-19 16:44:38
LACE/-2025-02-19 16:44:37
IsoformSwitchAnalyzeR/-2025-02-19 16:44:37
LBE/-2025-02-19 16:44:37
KBoost/-2025-02-19 16:44:37
KEGGREST/-2025-02-19 16:44:37
KEGGlincs/-2025-02-19 16:44:37
ISoLDE/-2025-02-19 16:44:37
IVAS/-2025-02-19 16:44:37
KnowSeq/-2025-02-19 16:44:37
KinSwingR/-2025-02-19 16:44:37
KEGGgraph/-2025-02-19 16:44:37
KCsmart/-2025-02-19 16:44:37
IWTomics/-2025-02-19 16:44:37
ITALICS/-2025-02-19 16:44:37
iSEE/-2025-02-19 16:44:36
iPAC/-2025-02-19 16:44:36
IsoCorrectoR/-2025-02-19 16:44:36
ISAnalytics/-2025-02-19 16:44:36
IRanges/-2025-02-19 16:44:36
IPO/-2025-02-19 16:44:36
IntEREst/-2025-02-19 16:44:36
ISLET/-2025-02-19 16:44:36
IsoCorrectoRGUI/-2025-02-19 16:44:36
InterCellar/-2025-02-19 16:44:36
IntramiRExploreR/-2025-02-19 16:44:36
iPath/-2025-02-19 16:44:36
IsoBayes/-2025-02-19 16:44:36
IONiseR/-2025-02-19 16:44:36
InteractiveComplexHeatmap/-2025-02-19 16:44:35
iNETgrate/-2025-02-19 16:44:35
INTACT/-2025-02-19 16:44:35
INPower/-2025-02-19 16:44:35
INSPEcT/-2025-02-19 16:44:35
InPAS/-2025-02-19 16:44:35
Informeasure/-2025-02-19 16:44:35
IMPCdata/-2025-02-19 16:44:35
IMAS/-2025-02-19 16:44:35
ILoReg/-2025-02-19 16:44:35
InTAD/-2025-02-19 16:44:35
IHW/-2025-02-19 16:44:35
INDEED/-2025-02-19 16:44:35
InteractionSet/-2025-02-19 16:44:35
IMMAN/-2025-02-19 16:44:35
hypergraph/-2025-02-19 16:44:34
idiogram/-2025-02-19 16:44:34
iClusterPlus/-2025-02-19 16:44:34
idpr/-2025-02-19 16:44:34
iCNV/-2025-02-19 16:44:34
IFAA/-2025-02-19 16:44:34
iCOBRA/-2025-02-19 16:44:34
ideal/-2025-02-19 16:44:34
Icens/-2025-02-19 16:44:34
iBBiG/-2025-02-19 16:44:34
hyperdraw/-2025-02-19 16:44:34
iASeq/-2025-02-19 16:44:34
icetea/-2025-02-19 16:44:34
iCARE/-2025-02-19 16:44:34
IgGeneUsage/-2025-02-19 16:44:34
idr2d/-2025-02-19 16:44:34
iCheck/-2025-02-19 16:44:34
iChip/-2025-02-19 16:44:34
IdeoViz/-2025-02-19 16:44:34
iGC/-2025-02-19 16:44:34
igvR/-2025-02-19 16:44:34
hypeR/-2025-02-19 16:44:34
HPAanalyze/-2025-02-19 16:44:33
hummingbird/-2025-02-19 16:44:33
HilbertCurve/-2025-02-19 16:44:33
hierinf/-2025-02-19 16:44:33
HiLDA/-2025-02-19 16:44:33
HTSFilter/-2025-02-19 16:44:33
HIREewas/-2025-02-19 16:44:33
hpar/-2025-02-19 16:44:33
hierGWAS/-2025-02-19 16:44:33
HoloFoodR/-2025-02-19 16:44:33
HybridExpress/-2025-02-19 16:44:33
HIPPO/-2025-02-19 16:44:33
hicVennDiagram/-2025-02-19 16:44:33
HilbertVis/-2025-02-19 16:44:33
HiCDOC/-2025-02-19 16:44:33
HybridMTest/-2025-02-19 16:44:33
hoodscanR/-2025-02-19 16:44:33
HiTC/-2025-02-19 16:44:33
HMMcopy/-2025-02-19 16:44:33
hmdbQuery/-2025-02-19 16:44:33
HubPub/-2025-02-19 16:44:33
hopach/-2025-02-19 16:44:33
HiContacts/-2025-02-19 16:44:33
hipathia/-2025-02-19 16:44:33
hiReadsProcessor/-2025-02-19 16:44:33
HiCool/-2025-02-19 16:44:33
HiCExperiment/-2025-02-19 16:44:33
HPiP/-2025-02-19 16:44:33
HuBMAPR/-2025-02-19 16:44:33
HiCBricks/-2025-02-19 16:44:32
HEM/-2025-02-19 16:44:32
Harshlight/-2025-02-19 16:44:32
Herper/-2025-02-19 16:44:32
HelloRanges/-2025-02-19 16:44:32
h5vc/-2025-02-19 16:44:32
HELP/-2025-02-19 16:44:32
HERON/-2025-02-19 16:44:32
HDTD/-2025-02-19 16:44:32
HIBAG/-2025-02-19 16:44:32
HiCDCPlus/-2025-02-19 16:44:32
hermes/-2025-02-19 16:44:32
hca/-2025-02-19 16:44:32
HicAggR/-2025-02-19 16:44:32
HarmonizR/-2025-02-19 16:44:32
h5mread/-2025-02-19 16:44:32
Harman/-2025-02-19 16:44:32
hiAnnotator/-2025-02-19 16:44:32
HDF5Array/-2025-02-19 16:44:32
hapFabia/-2025-02-19 16:44:32
HiCcompare/-2025-02-19 16:44:32
Heatplus/-2025-02-19 16:44:32
hdxmsqc/-2025-02-19 16:44:32
HGC/-2025-02-19 16:44:32
gypsum/-2025-02-19 16:44:32
heatmaps/-2025-02-19 16:44:32
Gviz/-2025-02-19 16:44:31
gscreend/-2025-02-19 16:44:31
GSEABenchmarkeR/-2025-02-19 16:44:31
GSReg/-2025-02-19 16:44:31
GSEAlm/-2025-02-19 16:44:31
GSCA/-2025-02-19 16:44:31
GWASTools/-2025-02-19 16:44:31
gwasurvivr/-2025-02-19 16:44:31
GSEAmining/-2025-02-19 16:44:31
GWAS.BAYES/-2025-02-19 16:44:31
GSALightning/-2025-02-19 16:44:31
GUIDEseq/-2025-02-19 16:44:31
GraphPAC/-2025-02-19 16:44:31
GRmetrics/-2025-02-19 16:44:31
GSVA/-2025-02-19 16:44:31
gsean/-2025-02-19 16:44:31
gwascat/-2025-02-19 16:44:31
Guitar/-2025-02-19 16:44:31
GSAR/-2025-02-19 16:44:31
GSEABase/-2025-02-19 16:44:31
GRENITS/-2025-02-19 16:44:31
GSRI/-2025-02-19 16:44:31
gtrellis/-2025-02-19 16:44:31
GreyListChIP/-2025-02-19 16:44:31
groHMM/-2025-02-19 16:44:31
GWENA/-2025-02-19 16:44:31
GSgalgoR/-2025-02-19 16:44:31
gmoviz/-2025-02-19 16:44:30
GOTHiC/-2025-02-19 16:44:30
GrafGen/-2025-02-19 16:44:30
GNOSIS/-2025-02-19 16:44:30
granulator/-2025-02-19 16:44:30
GOSemSim/-2025-02-19 16:44:30
goseq/-2025-02-19 16:44:30
GOpro/-2025-02-19 16:44:30
GNET2/-2025-02-19 16:44:30
GOstats/-2025-02-19 16:44:30
graphite/-2025-02-19 16:44:30
goProfiles/-2025-02-19 16:44:30
goSTAG/-2025-02-19 16:44:30
GRaNIE/-2025-02-19 16:44:30
GMRP/-2025-02-19 16:44:30
graph/-2025-02-19 16:44:30
GraphAT/-2025-02-19 16:44:30
gpls/-2025-02-19 16:44:30
goSorensen/-2025-02-19 16:44:30
gpuMagic/-2025-02-19 16:44:30
graper/-2025-02-19 16:44:30
GOfuncR/-2025-02-19 16:44:30
GPA/-2025-02-19 16:44:30
GOexpress/-2025-02-19 16:44:30
GraphAlignment/-2025-02-19 16:44:30
goTools/-2025-02-19 16:44:30
ggkegg/-2025-02-19 16:44:29
ggmanh/-2025-02-19 16:44:29
GloScope/-2025-02-19 16:44:29
GlobalAncova/-2025-02-19 16:44:29
ginmappeR/-2025-02-19 16:44:29
GLAD/-2025-02-19 16:44:29
Glimma/-2025-02-19 16:44:29
globalSeq/-2025-02-19 16:44:29
ggspavis/-2025-02-19 16:44:29
GIGSEA/-2025-02-19 16:44:29
ggcyto/-2025-02-19 16:44:29
glmGamPoi/-2025-02-19 16:44:29
glmSparseNet/-2025-02-19 16:44:29
ggtreeExtra/-2025-02-19 16:44:29
ggtreeSpace/-2025-02-19 16:44:29
GmicR/-2025-02-19 16:44:29
ggmsa/-2025-02-19 16:44:29
GladiaTOX/-2025-02-19 16:44:29
gmapR/-2025-02-19 16:44:29
GGPA/-2025-02-19 16:44:29
ggtree/-2025-02-19 16:44:29
ggseqalign/-2025-02-19 16:44:29
ggsc/-2025-02-19 16:44:29
gINTomics/-2025-02-19 16:44:29
ggtreeDendro/-2025-02-19 16:44:29
girafe/-2025-02-19 16:44:29
globaltest/-2025-02-19 16:44:29
GenomicRanges/-2025-02-19 16:44:28
GenomicPlot/-2025-02-19 16:44:28
GenomicInteractionNodes/-2025-02-19 16:44:28
GEWIST/-2025-02-19 16:44:28
GenProSeq/-2025-02-19 16:44:28
GEOexplorer/-2025-02-19 16:44:28
gep2pep/-2025-02-19 16:44:28
GenomicTuples/-2025-02-19 16:44:28
getDEE2/-2025-02-19 16:44:28
GEOmetadb/-2025-02-19 16:44:28
ggbio/-2025-02-19 16:44:28
gg4way/-2025-02-19 16:44:28
geyser/-2025-02-19 16:44:28
GEOquery/-2025-02-19 16:44:28
GeoTcgaData/-2025-02-19 16:44:28
GenomicSuperSignature/-2025-02-19 16:44:28
GenomicInteractions/-2025-02-19 16:44:28
GeoDiff/-2025-02-19 16:44:28
geva/-2025-02-19 16:44:28
GEOsubmission/-2025-02-19 16:44:28
GenomicScores/-2025-02-19 16:44:28
GeomxTools/-2025-02-19 16:44:28
GenVisR/-2025-02-19 16:44:28
GenomicOZone/-2025-02-19 16:44:28
GEOfastq/-2025-02-19 16:44:28
geomeTriD/-2025-02-19 16:44:28
gespeR/-2025-02-19 16:44:28
GenomicFeatures/-2025-02-19 16:44:27
GenomAutomorphism/-2025-02-19 16:44:27
GENIE3/-2025-02-19 16:44:27
geneRecommender/-2025-02-19 16:44:27
GenomicDistributions/-2025-02-19 16:44:27
geneXtendeR/-2025-02-19 16:44:27
GeneRegionScan/-2025-02-19 16:44:27
geneplotter/-2025-02-19 16:44:27
GeneTonic/-2025-02-19 16:44:27
genomicInstability/-2025-02-19 16:44:27
GENESIS/-2025-02-19 16:44:27
GeneSelectMMD/-2025-02-19 16:44:27
GeneGA/-2025-02-19 16:44:27
GeneMeta/-2025-02-19 16:44:27
GeneOverlap/-2025-02-19 16:44:27
geneplast/-2025-02-19 16:44:27
geneRxCluster/-2025-02-19 16:44:27
GenomicAlignments/-2025-02-19 16:44:27
GenomicFiles/-2025-02-19 16:44:27
GenomeInfoDb/-2025-02-19 16:44:27
genomeIntervals/-2025-02-19 16:44:27
genomation/-2025-02-19 16:44:27
GeneGeneInteR/-2025-02-19 16:44:27
genomes/-2025-02-19 16:44:27
geNetClassifier/-2025-02-19 16:44:27
GeneticsPed/-2025-02-19 16:44:27
GeneNetworkBuilder/-2025-02-19 16:44:27
GenomicDataCommons/-2025-02-19 16:44:27
genoCN/-2025-02-19 16:44:27
GeneStructureTools/-2025-02-19 16:44:27
gatom/-2025-02-19 16:44:26
gDRstyle/-2025-02-19 16:44:26
genArise/-2025-02-19 16:44:26
gDR/-2025-02-19 16:44:26
GDCRNATools/-2025-02-19 16:44:26
genefu/-2025-02-19 16:44:26
genefilter/-2025-02-19 16:44:26
gemini/-2025-02-19 16:44:26
geneAttribution/-2025-02-19 16:44:26
gcapc/-2025-02-19 16:44:26
GeDi/-2025-02-19 16:44:26
GDSArray/-2025-02-19 16:44:26
GARS/-2025-02-19 16:44:26
gDRimport/-2025-02-19 16:44:26
gDRutils/-2025-02-19 16:44:26
gDNAx/-2025-02-19 16:44:26
gdsfmt/-2025-02-19 16:44:26
gcrma/-2025-02-19 16:44:26
geneClassifiers/-2025-02-19 16:44:26
GeneBreak/-2025-02-19 16:44:26
gDRcore/-2025-02-19 16:44:26
gcatest/-2025-02-19 16:44:26
GBScleanR/-2025-02-19 16:44:26
gemma.R/-2025-02-19 16:44:26
GEM/-2025-02-19 16:44:26
GateFinder/-2025-02-19 16:44:26
gCrisprTools/-2025-02-19 16:44:26
GeneExpressionSignature/-2025-02-19 16:44:26
fmcsR/-2025-02-19 16:44:25
GA4GHshiny/-2025-02-19 16:44:25
funtooNorm/-2025-02-19 16:44:25
gage/-2025-02-19 16:44:25
flowPloidy/-2025-02-19 16:44:25
flowStats/-2025-02-19 16:44:25
gaga/-2025-02-19 16:44:25
GAprediction/-2025-02-19 16:44:25
flowViz/-2025-02-19 16:44:25
funOmics/-2025-02-19 16:44:25
frma/-2025-02-19 16:44:25
GA4GHclient/-2025-02-19 16:44:25
garfield/-2025-02-19 16:44:25
flowWorkspace/-2025-02-19 16:44:25
frmaTools/-2025-02-19 16:44:25
FRASER/-2025-02-19 16:44:25
FRGEpistasis/-2025-02-19 16:44:25
FlowSOM/-2025-02-19 16:44:25
flowTrans/-2025-02-19 16:44:25
G4SNVHunter/-2025-02-19 16:44:25
flowTime/-2025-02-19 16:44:25
fobitools/-2025-02-19 16:44:25
flowVS/-2025-02-19 16:44:25
flowSpecs/-2025-02-19 16:44:25
FuseSOM/-2025-02-19 16:44:25
flowPlots/-2025-02-19 16:44:25
frenchFISH/-2025-02-19 16:44:25
flowPeaks/-2025-02-19 16:44:25
fmrs/-2025-02-19 16:44:25
flowMatch/-2025-02-19 16:44:24
flowMerge/-2025-02-19 16:44:24
flowCyBar/-2025-02-19 16:44:24
flagme/-2025-02-19 16:44:24
flowMeans/-2025-02-19 16:44:24
flowCore/-2025-02-19 16:44:24
FGNet/-2025-02-19 16:44:24
findIPs/-2025-02-19 16:44:24
flowCHIC/-2025-02-19 16:44:24
flowClean/-2025-02-19 16:44:24
FitHiC/-2025-02-19 16:44:24
FISHalyseR/-2025-02-19 16:44:24
flowGraph/-2025-02-19 16:44:24
flowBin/-2025-02-19 16:44:24
flowClust/-2025-02-19 16:44:24
FilterFFPE/-2025-02-19 16:44:24
flowcatchR/-2025-02-19 16:44:24
fgsea/-2025-02-19 16:44:24
FLAMES/-2025-02-19 16:44:24
fishpond/-2025-02-19 16:44:24
flowAI/-2025-02-19 16:44:24
flowFP/-2025-02-19 16:44:24
flowBeads/-2025-02-19 16:44:24
flowGate/-2025-02-19 16:44:24
fgga/-2025-02-19 16:44:24
flowDensity/-2025-02-19 16:44:24
FindIT2/-2025-02-19 16:44:24
flowCut/-2025-02-19 16:44:24
fcScan/-2025-02-19 16:44:23
ExperimentHub/-2025-02-19 16:44:23
FamAgg/-2025-02-19 16:44:23
ExploreModelMatrix/-2025-02-19 16:44:23
faers/-2025-02-19 16:44:23
ExperimentSubset/-2025-02-19 16:44:23
fCCAC/-2025-02-19 16:44:23
FeatSeekR/-2025-02-19 16:44:23
fedup/-2025-02-19 16:44:23
FEAST/-2025-02-19 16:44:23
FELLA/-2025-02-19 16:44:23
fastLiquidAssociation/-2025-02-19 16:44:23
extraChIPs/-2025-02-19 16:44:23
fastseg/-2025-02-19 16:44:23
FastqCleaner/-2025-02-19 16:44:23
ExCluster/-2025-02-19 16:44:23
ffpe/-2025-02-19 16:44:23
famat/-2025-02-19 16:44:23
fdrame/-2025-02-19 16:44:23
ExperimentHubData/-2025-02-19 16:44:23
factR/-2025-02-19 16:44:23
fCI/-2025-02-19 16:44:23
ExpressionAtlas/-2025-02-19 16:44:23
factDesign/-2025-02-19 16:44:23
ExiMiR/-2025-02-19 16:44:23
fenr/-2025-02-19 16:44:23
fastreeR/-2025-02-19 16:44:23
fabia/-2025-02-19 16:44:23
epistack/-2025-02-19 16:44:22
epistasisGA/-2025-02-19 16:44:22
epigraHMM/-2025-02-19 16:44:22
erccdashboard/-2025-02-19 16:44:22
epidecodeR/-2025-02-19 16:44:22
escheR/-2025-02-19 16:44:22
epivizrChart/-2025-02-19 16:44:22
epivizr/-2025-02-19 16:44:22
esetVis/-2025-02-19 16:44:22
epiNEM/-2025-02-19 16:44:22
erma/-2025-02-19 16:44:22
escape/-2025-02-19 16:44:22
epivizrServer/-2025-02-19 16:44:22
epivizrData/-2025-02-19 16:44:22
EpiMix/-2025-02-19 16:44:22
EventPointer/-2025-02-19 16:44:22
EWCE/-2025-02-19 16:44:22
EpipwR/-2025-02-19 16:44:22
epiregulon.extra/-2025-02-19 16:44:22
esATAC/-2025-02-19 16:44:22
epimutacions/-2025-02-19 16:44:22
EpiTxDb/-2025-02-19 16:44:22
epigenomix/-2025-02-19 16:44:22
ERSSA/-2025-02-19 16:44:22
epiregulon/-2025-02-19 16:44:22
EpiDISH/-2025-02-19 16:44:22
evaluomeR/-2025-02-19 16:44:22
epivizrStandalone/-2025-02-19 16:44:22
eudysbiome/-2025-02-19 16:44:22
EBSeq/-2025-02-19 16:44:21
ENmix/-2025-02-19 16:44:21
enrichplot/-2025-02-19 16:44:21
EDASeq/-2025-02-19 16:44:21
EnrichDO/-2025-02-19 16:44:21
epialleleR/-2025-02-19 16:44:21
EnrichmentBrowser/-2025-02-19 16:44:21
EGAD/-2025-02-19 16:44:21
ecolitk/-2025-02-19 16:44:21
EMDomics/-2025-02-19 16:44:21
ELMER/-2025-02-19 16:44:21
enrichViewNet/-2025-02-19 16:44:21
EBImage/-2025-02-19 16:44:21
EnhancedVolcano/-2025-02-19 16:44:21
eds/-2025-02-19 16:44:21
enhancerHomologSearch/-2025-02-19 16:44:21
EGSEA/-2025-02-19 16:44:21
EpiCompare/-2025-02-19 16:44:21
eiR/-2025-02-19 16:44:21
edgeR/-2025-02-19 16:44:21
EBSEA/-2025-02-19 16:44:21
edge/-2025-02-19 16:44:21
EnMCB/-2025-02-19 16:44:21
eisaR/-2025-02-19 16:44:21
EDIRquery/-2025-02-19 16:44:21
ensembldb/-2025-02-19 16:44:21
EnrichedHeatmap/-2025-02-19 16:44:21
EmpiricalBrownsMethod/-2025-02-19 16:44:21
easylift/-2025-02-19 16:44:20
DOSE/-2025-02-19 16:44:20
doseR/-2025-02-19 16:44:20
EBcoexpress/-2025-02-19 16:44:20
dominoSignal/-2025-02-19 16:44:20
easyRNASeq/-2025-02-19 16:44:20
drawProteins/-2025-02-19 16:44:20
DTA/-2025-02-19 16:44:20
dreamlet/-2025-02-19 16:44:20
dStruct/-2025-02-19 16:44:20
doppelgangR/-2025-02-19 16:44:20
DominoEffect/-2025-02-19 16:44:20
dupRadar/-2025-02-19 16:44:20
drugTargetInteractions/-2025-02-19 16:44:20
EBarrays/-2025-02-19 16:44:20
dyebias/-2025-02-19 16:44:20
easier/-2025-02-19 16:44:20
EasyCellType/-2025-02-19 16:44:20
easyreporting/-2025-02-19 16:44:20
DriverNet/-2025-02-19 16:44:20
DynDoc/-2025-02-19 16:44:20
DropletUtils/-2025-02-19 16:44:20
DrugVsDisease/-2025-02-19 16:44:20
DRIMSeq/-2025-02-19 16:44:20
DuplexDiscovereR/-2025-02-19 16:44:20
doubletrouble/-2025-02-19 16:44:20
DSS/-2025-02-19 16:44:20
Dune/-2025-02-19 16:44:20
Doscheda/-2025-02-19 16:44:20
diffHic/-2025-02-19 16:44:19
DifferentialRegulation/-2025-02-19 16:44:19
DMRScan/-2025-02-19 16:44:19
diggit/-2025-02-19 16:44:19
diffuStats/-2025-02-19 16:44:19
DiscoRhythm/-2025-02-19 16:44:19
DMCFB/-2025-02-19 16:44:19
dks/-2025-02-19 16:44:19
DirichletMultinomial/-2025-02-19 16:44:19
DNABarcodes/-2025-02-19 16:44:19
discordant/-2025-02-19 16:44:19
dinoR/-2025-02-19 16:44:19
DNAfusion/-2025-02-19 16:44:19
DNAcopy/-2025-02-19 16:44:19
Dino/-2025-02-19 16:44:19
diffUTR/-2025-02-19 16:44:19
DNAshapeR/-2025-02-19 16:44:19
DMRcate/-2025-02-19 16:44:19
divergence/-2025-02-19 16:44:19
dir.expiry/-2025-02-19 16:44:19
DMRcaller/-2025-02-19 16:44:19
DiffLogo/-2025-02-19 16:44:19
DMCHMM/-2025-02-19 16:44:19
DNABarcodeCompatibility/-2025-02-19 16:44:19
Director/-2025-02-19 16:44:19
diffGeneAnalysis/-2025-02-19 16:44:19
dmrseq/-2025-02-19 16:44:19
dittoSeq/-2025-02-19 16:44:19
distinct/-2025-02-19 16:44:19
diffcoexp/-2025-02-19 16:44:18
DeMAND/-2025-02-19 16:44:18
DEqMS/-2025-02-19 16:44:18
destiny/-2025-02-19 16:44:18
DEWSeq/-2025-02-19 16:44:18
DiffBind/-2025-02-19 16:44:18
DeMixT/-2025-02-19 16:44:18
DFP/-2025-02-19 16:44:18
DepecheR/-2025-02-19 16:44:18
demuxmix/-2025-02-19 16:44:18
DEsingle/-2025-02-19 16:44:18
densvis/-2025-02-19 16:44:18
DepInfeR/-2025-02-19 16:44:18
demuxSNP/-2025-02-19 16:44:18
derfinder/-2025-02-19 16:44:18
DeProViR/-2025-02-19 16:44:18
diffcyt/-2025-02-19 16:44:18
DEScan2/-2025-02-19 16:44:18
DEsubs/-2025-02-19 16:44:18
derfinderHelper/-2025-02-19 16:44:18
DEXSeq/-2025-02-19 16:44:18
DESpace/-2025-02-19 16:44:18
DFplyr/-2025-02-19 16:44:18
DESeq2/-2025-02-19 16:44:18
DExMA/-2025-02-19 16:44:18
DEP/-2025-02-19 16:44:18
derfinderPlot/-2025-02-19 16:44:18
DIAlignR/-2025-02-19 16:44:18
debrowser/-2025-02-19 16:44:17
DelayedDataFrame/-2025-02-19 16:44:17
deltaCaptureC/-2025-02-19 16:44:17
deepSNV/-2025-02-19 16:44:17
DelayedRandomArray/-2025-02-19 16:44:17
DELocal/-2025-02-19 16:44:17
DECIPHER/-2025-02-19 16:44:17
DEFormats/-2025-02-19 16:44:17
decontX/-2025-02-19 16:44:17
decompTumor2Sig/-2025-02-19 16:44:17
DeepPINCS/-2025-02-19 16:44:17
DelayedMatrixStats/-2025-02-19 16:44:17
DeconRNASeq/-2025-02-19 16:44:17
DEGseq/-2025-02-19 16:44:17
DegNorm/-2025-02-19 16:44:17
dce/-2025-02-19 16:44:17
DelayedArray/-2025-02-19 16:44:17
DelayedTensor/-2025-02-19 16:44:17
dearseq/-2025-02-19 16:44:17
debCAM/-2025-02-19 16:44:17
ddCt/-2025-02-19 16:44:17
dcGSA/-2025-02-19 16:44:17
ddPCRclust/-2025-02-19 16:44:17
decontam/-2025-02-19 16:44:17
DeepTarget/-2025-02-19 16:44:17
DEGreport/-2025-02-19 16:44:17
DegCre/-2025-02-19 16:44:17
decoupleR/-2025-02-19 16:44:17
deconvR/-2025-02-19 16:44:17
deltaGseg/-2025-02-19 16:44:17
DAPAR/-2025-02-19 16:44:16
cypress/-2025-02-19 16:44:16
cytofQC/-2025-02-19 16:44:16
DAMEfinder/-2025-02-19 16:44:16
cytolib/-2025-02-19 16:44:16
cycle/-2025-02-19 16:44:16
dcanr/-2025-02-19 16:44:16
cyanoFilter/-2025-02-19 16:44:16
DaMiRseq/-2025-02-19 16:44:16
CytoGLMM/-2025-02-19 16:44:16
dagLogo/-2025-02-19 16:44:16
Damsel/-2025-02-19 16:44:16
cytoKernel/-2025-02-19 16:44:16
CytoML/-2025-02-19 16:44:16
cydar/-2025-02-19 16:44:16
dar/-2025-02-19 16:44:16
daMA/-2025-02-19 16:44:16
DART/-2025-02-19 16:44:16
CytoMDS/-2025-02-19 16:44:16
CyTOFpower/-2025-02-19 16:44:16
cytoMEM/-2025-02-19 16:44:16
dada2/-2025-02-19 16:44:16
CytoPipelineGUI/-2025-02-19 16:44:16
CytoPipeline/-2025-02-19 16:44:16
cytoviewer/-2025-02-19 16:44:16
customProDB/-2025-02-19 16:44:16
DCATS/-2025-02-19 16:44:16
cytomapper/-2025-02-19 16:44:16
CytoDx/-2025-02-19 16:44:16
cqn/-2025-02-19 16:44:15
crisprBase/-2025-02-19 16:44:15
csaw/-2025-02-19 16:44:15
crisprVerse/-2025-02-19 16:44:15
CSSQ/-2025-02-19 16:44:15
ctsGE/-2025-02-19 16:44:15
CTdata/-2025-02-19 16:44:15
cTRAP/-2025-02-19 16:44:15
CRISPRball/-2025-02-19 16:44:15
crossmeta/-2025-02-19 16:44:15
crisprDesign/-2025-02-19 16:44:15
customCMPdb/-2025-02-19 16:44:15
cummeRbund/-2025-02-19 16:44:15
crisprViz/-2025-02-19 16:44:15
crisprShiny/-2025-02-19 16:44:15
CTSV/-2025-02-19 16:44:15
CTexploreR/-2025-02-19 16:44:15
CTDquerier/-2025-02-19 16:44:15
crisprBowtie/-2025-02-19 16:44:15
crlmm/-2025-02-19 16:44:15
ctc/-2025-02-19 16:44:15
csdR/-2025-02-19 16:44:15
CRISPRseek/-2025-02-19 16:44:15
CuratedAtlasQueryR/-2025-02-19 16:44:15
crisprScore/-2025-02-19 16:44:15
crisprBwa/-2025-02-19 16:44:15
CrispRVariants/-2025-02-19 16:44:15
CSAR/-2025-02-19 16:44:15
CRImage/-2025-02-19 16:44:15
cosmiq/-2025-02-19 16:44:14
coRdon/-2025-02-19 16:44:14
convert/-2025-02-19 16:44:14
Cormotif/-2025-02-19 16:44:14
consensusSeekeR/-2025-02-19 16:44:14
CoSIA/-2025-02-19 16:44:14
corral/-2025-02-19 16:44:14
consensusOV/-2025-02-19 16:44:14
COSNet/-2025-02-19 16:44:14
CONSTANd/-2025-02-19 16:44:14
consICA/-2025-02-19 16:44:14
condiments/-2025-02-19 16:44:14
CopyNumberPlots/-2025-02-19 16:44:14
COTAN/-2025-02-19 16:44:14
compSPOT/-2025-02-19 16:44:14
conumee/-2025-02-19 16:44:14
ConsensusClusterPlus/-2025-02-19 16:44:14
cpvSNP/-2025-02-19 16:44:14
coseq/-2025-02-19 16:44:14
consensusDE/-2025-02-19 16:44:14
consensus/-2025-02-19 16:44:14
countsimQC/-2025-02-19 16:44:14
CoreGx/-2025-02-19 16:44:14
covRNA/-2025-02-19 16:44:14
CONFESS/-2025-02-19 16:44:14
cosmosR/-2025-02-19 16:44:14
copa/-2025-02-19 16:44:14
CoverageView/-2025-02-19 16:44:14
covEB/-2025-02-19 16:44:14
concordexR/-2025-02-19 16:44:14
cogena/-2025-02-19 16:44:13
CNTools/-2025-02-19 16:44:13
coMethDMR/-2025-02-19 16:44:13
ComPrAn/-2025-02-19 16:44:13
compcodeR/-2025-02-19 16:44:13
combi/-2025-02-19 16:44:13
cola/-2025-02-19 16:44:13
comapr/-2025-02-19 16:44:13
CODEX/-2025-02-19 16:44:13
CNVPanelizer/-2025-02-19 16:44:13
cnvGSA/-2025-02-19 16:44:13
coGPS/-2025-02-19 16:44:13
CoCiteStats/-2025-02-19 16:44:13
CNViz/-2025-02-19 16:44:13
compEpiTools/-2025-02-19 16:44:13
CNVrd2/-2025-02-19 16:44:13
COCOA/-2025-02-19 16:44:13
codelink/-2025-02-19 16:44:13
CNVfilteR/-2025-02-19 16:44:13
CompoundDb/-2025-02-19 16:44:13
CNVMetrics/-2025-02-19 16:44:13
CoGAPS/-2025-02-19 16:44:13
CNVRanger/-2025-02-19 16:44:13
ComplexHeatmap/-2025-02-19 16:44:13
coMET/-2025-02-19 16:44:13
Cogito/-2025-02-19 16:44:13
COMPASS/-2025-02-19 16:44:13
cogeqc/-2025-02-19 16:44:13
ClusterFoldSimilarity/-2025-02-19 16:44:12
clusterSeq/-2025-02-19 16:44:12
CNORdt/-2025-02-19 16:44:12
Clomial/-2025-02-19 16:44:12
cmapR/-2025-02-19 16:44:12
clippda/-2025-02-19 16:44:12
CNAnorm/-2025-02-19 16:44:12
cn.mops/-2025-02-19 16:44:12
CluMSID/-2025-02-19 16:44:12
clusterExperiment/-2025-02-19 16:44:12
clipper/-2025-02-19 16:44:12
ClustAll/-2025-02-19 16:44:12
clusterProfiler/-2025-02-19 16:44:12
cn.farms/-2025-02-19 16:44:12
CNEr/-2025-02-19 16:44:12
cliProfiler/-2025-02-19 16:44:12
ClusterJudge/-2025-02-19 16:44:12
CMA/-2025-02-19 16:44:12
CNORfeeder/-2025-02-19 16:44:12
ClusterSignificance/-2025-02-19 16:44:12
CNORode/-2025-02-19 16:44:12
clst/-2025-02-19 16:44:12
clstutils/-2025-02-19 16:44:12
CNORfuzzy/-2025-02-19 16:44:12
clustifyr/-2025-02-19 16:44:12
clustComp/-2025-02-19 16:44:12
cliqueMS/-2025-02-19 16:44:12
clusterStab/-2025-02-19 16:44:12
clevRvis/-2025-02-19 16:44:12
ClustIRR/-2025-02-19 16:44:12
cisPath/-2025-02-19 16:44:11
ClassifyR/-2025-02-19 16:44:11
CircSeqAlignTk/-2025-02-19 16:44:11
ChIPexoQual/-2025-02-19 16:44:11
chipenrich/-2025-02-19 16:44:11
cleanUpdTSeq/-2025-02-19 16:44:11
cleaver/-2025-02-19 16:44:11
chromDraw/-2025-02-19 16:44:11
CHRONOS/-2025-02-19 16:44:11
ChromSCape/-2025-02-19 16:44:11
chipseq/-2025-02-19 16:44:11
chromVAR/-2025-02-19 16:44:11
chromstaR/-2025-02-19 16:44:11
chromPlot/-2025-02-19 16:44:11
CleanUpRNAseq/-2025-02-19 16:44:11
ChIPXpress/-2025-02-19 16:44:11
circRNAprofiler/-2025-02-19 16:44:11
CIMICE/-2025-02-19 16:44:11
ChIPsim/-2025-02-19 16:44:11
ChIPanalyser/-2025-02-19 16:44:11
cicero/-2025-02-19 16:44:11
CINdex/-2025-02-19 16:44:11
ChIPseeker/-2025-02-19 16:44:11
chimeraviz/-2025-02-19 16:44:11
chihaya/-2025-02-19 16:44:11
ChIPseqR/-2025-02-19 16:44:11
chopsticks/-2025-02-19 16:44:11
ChIPpeakAnno/-2025-02-19 16:44:11
ChIPComp/-2025-02-19 16:44:11
ChIPQC/-2025-02-19 16:44:11
ChromHeatMap/-2025-02-19 16:44:11
CiteFuse/-2025-02-19 16:44:11
CeTF/-2025-02-19 16:44:10
CGHnormaliter/-2025-02-19 16:44:10
cfdnakit/-2025-02-19 16:44:10
cfDNAPro/-2025-02-19 16:44:10
CGHregions/-2025-02-19 16:44:10
cellscape/-2025-02-19 16:44:10
CFAssay/-2025-02-19 16:44:10
CellNOptR/-2025-02-19 16:44:10
cfTools/-2025-02-19 16:44:10
Cepo/-2025-02-19 16:44:10
ChemmineR/-2025-02-19 16:44:10
ceRNAnetsim/-2025-02-19 16:44:10
chevreulProcess/-2025-02-19 16:44:10
CEMiTool/-2025-02-19 16:44:10
chevreulShiny/-2025-02-19 16:44:10
Chicago/-2025-02-19 16:44:10
CexoR/-2025-02-19 16:44:10
CGHcall/-2025-02-19 16:44:10
cellmigRation/-2025-02-19 16:44:10
ChAMP/-2025-02-19 16:44:10
cellxgenedp/-2025-02-19 16:44:10
CellScore/-2025-02-19 16:44:10
cghMCR/-2025-02-19 16:44:10
CGEN/-2025-02-19 16:44:10
CHETAH/-2025-02-19 16:44:10
CGHbase/-2025-02-19 16:44:10
censcyt/-2025-02-19 16:44:10
chevreulPlot/-2025-02-19 16:44:10
CellMixS/-2025-02-19 16:44:10
CellTrails/-2025-02-19 16:44:10
ChemmineOB/-2025-02-19 16:44:10
CDI/-2025-02-19 16:44:09
CBNplot/-2025-02-19 16:44:09
cbaf/-2025-02-19 16:44:09
cellity/-2025-02-19 16:44:09
CCPROMISE/-2025-02-19 16:44:09
celda/-2025-02-19 16:44:09
canceR/-2025-02-19 16:44:09
cellbaseR/-2025-02-19 16:44:09
CATALYST/-2025-02-19 16:44:09
CellBench/-2025-02-19 16:44:09
ccmap/-2025-02-19 16:44:09
CARNIVAL/-2025-02-19 16:44:09
cBioPortalData/-2025-02-19 16:44:09
CardinalIO/-2025-02-19 16:44:09
celaref/-2025-02-19 16:44:09
cbpManager/-2025-02-19 16:44:09
CellMapper/-2025-02-19 16:44:09
CaMutQC/-2025-02-19 16:44:09
CatsCradle/-2025-02-19 16:44:09
Category/-2025-02-19 16:44:09
CellBarcode/-2025-02-19 16:44:09
categoryCompare/-2025-02-19 16:44:09
ccImpute/-2025-02-19 16:44:09
ccrepe/-2025-02-19 16:44:09
ccfindR/-2025-02-19 16:44:09
CausalR/-2025-02-19 16:44:09
cancerclass/-2025-02-19 16:44:09
CBEA/-2025-02-19 16:44:09
CelliD/-2025-02-19 16:44:09
Cardinal/-2025-02-19 16:44:09
casper/-2025-02-19 16:44:09
CCPlotR/-2025-02-19 16:44:09
cardelino/-2025-02-19 16:44:09
BUScorrect/-2025-02-19 16:44:08
CAFE/-2025-02-19 16:44:08
BulkSignalR/-2025-02-19 16:44:08
BridgeDbR/-2025-02-19 16:44:08
CaDrA/-2025-02-19 16:44:08
breakpointR/-2025-02-19 16:44:08
BUSseq/-2025-02-19 16:44:08
BUS/-2025-02-19 16:44:08
BRAIN/-2025-02-19 16:44:08
bsseq/-2025-02-19 16:44:08
CAEN/-2025-02-19 16:44:08
BREW3R.r/-2025-02-19 16:44:08
BumpyMatrix/-2025-02-19 16:44:08
CAGEr/-2025-02-19 16:44:08
BUSpaRse/-2025-02-19 16:44:08
CAMERA/-2025-02-19 16:44:08
BufferedMatrixMethods/-2025-02-19 16:44:08
calm/-2025-02-19 16:44:08
BUMHMM/-2025-02-19 16:44:08
CAGEfightR/-2025-02-19 16:44:08
branchpointer/-2025-02-19 16:44:08
BSgenomeForge/-2025-02-19 16:44:08
cageminer/-2025-02-19 16:44:08
BPRMeth/-2025-02-19 16:44:08
BubbleTree/-2025-02-19 16:44:08
bumphunter/-2025-02-19 16:44:08
BrowserViz/-2025-02-19 16:44:08
BSgenome/-2025-02-19 16:44:08
bugsigdbr/-2025-02-19 16:44:08
BufferedMatrix/-2025-02-19 16:44:08
broadSeq/-2025-02-19 16:44:08
brendaDb/-2025-02-19 16:44:08
BioMVCClass/-2025-02-19 16:44:07
blacksheepr/-2025-02-19 16:44:07
biodbUniprot/-2025-02-19 16:44:07
BLMA/-2025-02-19 16:44:07
biodbHmdb/-2025-02-19 16:44:07
biosigner/-2025-02-19 16:44:07
BioNet/-2025-02-19 16:44:07
BioGA/-2025-02-19 16:44:07
BioNERO/-2025-02-19 16:44:07
BiSeq/-2025-02-19 16:44:07
biodbNcbi/-2025-02-19 16:44:07
biotmle/-2025-02-19 16:44:07
blima/-2025-02-19 16:44:07
biscuiteer/-2025-02-19 16:44:07
biovizBase/-2025-02-19 16:44:07
BOBaFIT/-2025-02-19 16:44:07
biomformat/-2025-02-19 16:44:07
BiRewire/-2025-02-19 16:44:07
bnbc/-2025-02-19 16:44:07
biomaRt/-2025-02-19 16:44:07
biomvRCNS/-2025-02-19 16:44:07
Biostrings/-2025-02-19 16:44:07
bioDist/-2025-02-19 16:44:07
bluster/-2025-02-19 16:44:07
BioNAR/-2025-02-19 16:44:07
bnem/-2025-02-19 16:44:07
BloodGen3Module/-2025-02-19 16:44:07
borealis/-2025-02-19 16:44:07
biodbNci/-2025-02-19 16:44:07
BioTIP/-2025-02-19 16:44:07
BioQC/-2025-02-19 16:44:07
biodbChebi/-2025-02-19 16:44:06
BiocIO/-2025-02-19 16:44:06
BiocBaseUtils/-2025-02-19 16:44:06
BiocGenerics/-2025-02-19 16:44:06
biocroxytest/-2025-02-19 16:44:06
biocmake/-2025-02-19 16:44:06
BiocHubsShiny/-2025-02-19 16:44:06
BiocWorkflowTools/-2025-02-19 16:44:06
BiocVersion/-2025-02-19 16:44:06
biobroom/-2025-02-19 16:44:06
BiocPkgTools/-2025-02-19 16:44:06
Biobase/-2025-02-19 16:44:06
BiocSet/-2025-02-19 16:44:06
BiocSklearn/-2025-02-19 16:44:06
BioCartaImage/-2025-02-19 16:44:06
BiocFileCache/-2025-02-19 16:44:06
BiocFHIR/-2025-02-19 16:44:06
biodb/-2025-02-19 16:44:06
biocthis/-2025-02-19 16:44:06
BiocCheck/-2025-02-19 16:44:06
BiocNeighbors/-2025-02-19 16:44:06
BiocBook/-2025-02-19 16:44:06
biocGraph/-2025-02-19 16:44:06
BioCor/-2025-02-19 16:44:06
BiocSingular/-2025-02-19 16:44:06
bioCancer/-2025-02-19 16:44:06
biocViews/-2025-02-19 16:44:06
BiocParallel/-2025-02-19 16:44:06
BiocStyle/-2025-02-19 16:44:06
bioassayR/-2025-02-19 16:44:05
beadarray/-2025-02-19 16:44:05
BEAT/-2025-02-19 16:44:05
BicARE/-2025-02-19 16:44:05
BiFET/-2025-02-19 16:44:05
bigmelon/-2025-02-19 16:44:05
beer/-2025-02-19 16:44:05
bcSeq/-2025-02-19 16:44:05
BgeeCall/-2025-02-19 16:44:05
bayNorm/-2025-02-19 16:44:05
BayesSpace/-2025-02-19 16:44:05
beachmat/-2025-02-19 16:44:05
benchdamic/-2025-02-19 16:44:05
beachmat.hdf5/-2025-02-19 16:44:05
baySeq/-2025-02-19 16:44:05
BCRANK/-2025-02-19 16:44:05
BatchQC/-2025-02-19 16:44:05
bgx/-2025-02-19 16:44:05
BG2/-2025-02-19 16:44:05
beachmat.tiledb/-2025-02-19 16:44:05
BeadDataPackR/-2025-02-19 16:44:05
bettr/-2025-02-19 16:44:05
betaHMM/-2025-02-19 16:44:05
BindingSiteFinder/-2025-02-19 16:44:05
BBCAnalyzer/-2025-02-19 16:44:05
BERT/-2025-02-19 16:44:05
BEclear/-2025-02-19 16:44:05
BgeeDB/-2025-02-19 16:44:05
BEARscc/-2025-02-19 16:44:05
BayesKnockdown/-2025-02-19 16:44:05
awst/-2025-02-19 16:44:04
BaalChIP/-2025-02-19 16:44:04
basecallQC/-2025-02-19 16:44:04
attract/-2025-02-19 16:44:04
ATACseqTFEA/-2025-02-19 16:44:04
basilisk/-2025-02-19 16:44:04
ATACseqQC/-2025-02-19 16:44:04
batchelor/-2025-02-19 16:44:04
ballgown/-2025-02-19 16:44:04
bambu/-2025-02-19 16:44:04
autonomics/-2025-02-19 16:44:04
Basic4Cseq/-2025-02-19 16:44:04
bamsignals/-2025-02-19 16:44:04
atena/-2025-02-19 16:44:04
atSNP/-2025-02-19 16:44:04
BadRegionFinder/-2025-02-19 16:44:04
bandle/-2025-02-19 16:44:04
barcodetrackR/-2025-02-19 16:44:04
BASiCStan/-2025-02-19 16:44:04
BASiCS/-2025-02-19 16:44:04
basilisk.utils/-2025-02-19 16:44:04
BANDITS/-2025-02-19 16:44:04
BaseSpaceR/-2025-02-19 16:44:04
AUCell/-2025-02-19 16:44:04
bacon/-2025-02-19 16:44:04
BAGS/-2025-02-19 16:44:04
BADER/-2025-02-19 16:44:04
BasicSTARRseq/-2025-02-19 16:44:04
AWFisher/-2025-02-19 16:44:04
Banksy/-2025-02-19 16:44:04
banocc/-2025-02-19 16:44:04
ASpli/-2025-02-19 16:44:03
AnVIL/-2025-02-19 16:44:03
artMS/-2025-02-19 16:44:03
AnVILBilling/-2025-02-19 16:44:03
arrayMvout/-2025-02-19 16:44:03
ASURAT/-2025-02-19 16:44:03
apComplex/-2025-02-19 16:44:03
AnVILGCP/-2025-02-19 16:44:03
appreci8R/-2025-02-19 16:44:03
ASICS/-2025-02-19 16:44:03
antiProfiles/-2025-02-19 16:44:03
APL/-2025-02-19 16:44:03
apeglm/-2025-02-19 16:44:03
ArrayExpress/-2025-02-19 16:44:03
ASEB/-2025-02-19 16:44:03
assorthead/-2025-02-19 16:44:03
AssessORF/-2025-02-19 16:44:03
ASAFE/-2025-02-19 16:44:03
AnVILWorkflow/-2025-02-19 16:44:03
AnVILAz/-2025-02-19 16:44:03
anota2seq/-2025-02-19 16:44:03
ASGSCA/-2025-02-19 16:44:03
APAlyzer/-2025-02-19 16:44:03
ASSIGN/-2025-02-19 16:44:03
aroma.light/-2025-02-19 16:44:03
ASSET/-2025-02-19 16:44:03
arrayQualityMetrics/-2025-02-19 16:44:03
AnVILBase/-2025-02-19 16:44:03
ARRmNormalization/-2025-02-19 16:44:03
AnVILPublish/-2025-02-19 16:44:03
arrayQuality/-2025-02-19 16:44:03
ANF/-2025-02-19 16:44:02
annotatr/-2025-02-19 16:44:02
AnnotationForge/-2025-02-19 16:44:02
AnnotationFilter/-2025-02-19 16:44:02
alabaster.string/-2025-02-19 16:44:02
altcdfenvs/-2025-02-19 16:44:02
alabaster.vcf/-2025-02-19 16:44:02
alabaster.schemas/-2025-02-19 16:44:02
annotate/-2025-02-19 16:44:02
AnnotationHubData/-2025-02-19 16:44:02
anota/-2025-02-19 16:44:02
AllelicImbalance/-2025-02-19 16:44:02
alabaster.ranges/-2025-02-19 16:44:02
alevinQC/-2025-02-19 16:44:02
AnnotationHub/-2025-02-19 16:44:02
annaffy/-2025-02-19 16:44:02
AlpsNMR/-2025-02-19 16:44:02
ANCOMBC/-2025-02-19 16:44:02
annotationTools/-2025-02-19 16:44:02
AMOUNTAIN/-2025-02-19 16:44:02
alabaster.se/-2025-02-19 16:44:02
AnnotationDbi/-2025-02-19 16:44:02
alabaster.sce/-2025-02-19 16:44:02
alabaster.spatial/-2025-02-19 16:44:02
AlphaMissenseR/-2025-02-19 16:44:02
AMARETTO/-2025-02-19 16:44:02
amplican/-2025-02-19 16:44:02
Anaquin/-2025-02-19 16:44:02
ALDEx2/-2025-02-19 16:44:02
annmap/-2025-02-19 16:44:02
AneuFinder/-2025-02-19 16:44:02
animalcules/-2025-02-19 16:44:02
AlphaBeta/-2025-02-19 16:44:02
airpart/-2025-02-19 16:44:01
ADImpute/-2025-02-19 16:44:01
AffiXcan/-2025-02-19 16:44:01
AGDEX/-2025-02-19 16:44:01
affyPLM/-2025-02-19 16:44:01
alabaster.files/-2025-02-19 16:44:01
affycomp/-2025-02-19 16:44:01
affyContam/-2025-02-19 16:44:01
ADAM/-2025-02-19 16:44:01
alabaster.mae/-2025-02-19 16:44:01
AIMS/-2025-02-19 16:44:01
affxparser/-2025-02-19 16:44:01
adductomicsR/-2025-02-19 16:44:01
affy/-2025-02-19 16:44:01
adverSCarial/-2025-02-19 16:44:01
ADAMgui/-2025-02-19 16:44:01
alabaster.bumpy/-2025-02-19 16:44:01
alabaster.matrix/-2025-02-19 16:44:01
affyILM/-2025-02-19 16:44:01
adSplit/-2025-02-19 16:44:01
affylmGUI/-2025-02-19 16:44:01
AHMassBank/-2025-02-19 16:44:01
ADAPT/-2025-02-19 16:44:01
agilp/-2025-02-19 16:44:01
affyio/-2025-02-19 16:44:01
aggregateBioVar/-2025-02-19 16:44:01
alabaster/-2025-02-19 16:44:01
AffyRNADegradation/-2025-02-19 16:44:01
affycoretools/-2025-02-19 16:44:01
alabaster.base/-2025-02-19 16:44:01
AgiMicroRna/-2025-02-19 16:44:01
a4Reporting/-2025-02-19 16:44:00
a4Base/-2025-02-19 16:44:00
ABSSeq/-2025-02-19 16:44:00
ADaCGH2/-2025-02-19 16:44:00
ABarray/-2025-02-19 16:44:00
a4/-2025-02-19 16:44:00
a4Classif/-2025-02-19 16:44:00
a4Preproc/-2025-02-19 16:44:00
ACME/-2025-02-19 16:44:00
a4Core/-2025-02-19 16:44:00
aCGH/-2025-02-19 16:44:00
ACE/-2025-02-19 16:44:00
abseqR/-2025-02-19 16:44:00
acde/-2025-02-19 16:44:00
OncoSimulR/-2025-02-19 16:43:26
biobtreeR/-2025-02-19 16:42:38
RGMQL/-2025-02-19 16:42:09
R3CPET/-2025-02-19 16:42:05
iBMQ/-2025-02-19 16:41:38
BiGGR/-2025-02-19 16:41:09
Rcollectl/-2025-02-19 16:40:43
NCIgraph/-2025-02-19 16:40:33
HTSeqGenie/-2025-02-19 16:40:20
HilbertVisGUI/-2025-02-19 16:40:20
DEGraph/-2025-02-19 16:40:08
BiocHail/-2025-02-19 16:39:58
zellkonverter/-2025-02-18 16:44:30
zinbwave/-2025-02-18 16:44:30
zFPKM/-2025-02-18 16:44:30
xmapbridge/-2025-02-18 16:44:30
zenith/-2025-02-18 16:44:30
zitools/-2025-02-18 16:44:30
zlibbioc/-2025-02-18 16:44:30
yamss/-2025-02-18 16:44:30
yarn/-2025-02-18 16:44:30
wppi/-2025-02-18 16:44:29
wiggleplotr/-2025-02-18 16:44:29
wpm/-2025-02-18 16:44:29
webbioc/-2025-02-18 16:44:29
xCell2/-2025-02-18 16:44:29
vtpnet/-2025-02-18 16:44:29
wateRmelon/-2025-02-18 16:44:29
xcore/-2025-02-18 16:44:29
xenLite/-2025-02-18 16:44:29
vsclust/-2025-02-18 16:44:29
weaver/-2025-02-18 16:44:29
widgetTools/-2025-02-18 16:44:29
vsn/-2025-02-18 16:44:29
vulcan/-2025-02-18 16:44:29
waddR/-2025-02-18 16:44:29
weitrix/-2025-02-18 16:44:29
wavClusteR/-2025-02-18 16:44:29
xcms/-2025-02-18 16:44:29
uSORT/-2025-02-18 16:44:28
vbmp/-2025-02-18 16:44:28
variancePartition/-2025-02-18 16:44:28
vissE/-2025-02-18 16:44:28
velociraptor/-2025-02-18 16:44:28
visiumStitched/-2025-02-18 16:44:28
veloviz/-2025-02-18 16:44:28
viper/-2025-02-18 16:44:28
vidger/-2025-02-18 16:44:28
updateObject/-2025-02-18 16:44:27
tximport/-2025-02-18 16:44:27
uncoverappLib/-2025-02-18 16:44:27
txdbmaker/-2025-02-18 16:44:27
txcutr/-2025-02-18 16:44:27
tweeDEseq/-2025-02-18 16:44:27
twilight/-2025-02-18 16:44:27
twoddpcr/-2025-02-18 16:44:27
universalmotif/-2025-02-18 16:44:27
unifiedWMWqPCR/-2025-02-18 16:44:27
tximeta/-2025-02-18 16:44:27
tricycle/-2025-02-18 16:44:26
ttgsea/-2025-02-18 16:44:26
tRNAdbImport/-2025-02-18 16:44:26
transomics2cytoscape/-2025-02-18 16:44:26
tRNA/-2025-02-18 16:44:26
traviz/-2025-02-18 16:44:26
traseR/-2025-02-18 16:44:26
treekoR/-2025-02-18 16:44:26
treeclimbR/-2025-02-18 16:44:26
trio/-2025-02-18 16:44:26
triplex/-2025-02-18 16:44:26
treeio/-2025-02-18 16:44:26
tripr/-2025-02-18 16:44:26
trigger/-2025-02-18 16:44:26
tRNAscanImport/-2025-02-18 16:44:26
transite/-2025-02-18 16:44:25
tracktables/-2025-02-18 16:44:25
transcriptR/-2025-02-18 16:44:25
trackViewer/-2025-02-18 16:44:25
transcriptogramer/-2025-02-18 16:44:25
tpSVG/-2025-02-18 16:44:25
topGO/-2025-02-18 16:44:25
topdownr/-2025-02-18 16:44:25
topconfects/-2025-02-18 16:44:25
tradeSeq/-2025-02-18 16:44:25
tRanslatome/-2025-02-18 16:44:25
transmogR/-2025-02-18 16:44:25
tomoseqr/-2025-02-18 16:44:25
tomoda/-2025-02-18 16:44:25
transformGamPoi/-2025-02-18 16:44:25
tidytof/-2025-02-18 16:44:24
timeOmics/-2025-02-18 16:44:24
tidyomics/-2025-02-18 16:44:24
timescape/-2025-02-18 16:44:24
tidySummarizedExperiment/-2025-02-18 16:44:24
tidySingleCellExperiment/-2025-02-18 16:44:24
tLOH/-2025-02-18 16:44:24
tigre/-2025-02-18 16:44:24
timecourse/-2025-02-18 16:44:24
tilingArray/-2025-02-18 16:44:24
tidyFlowCore/-2025-02-18 16:44:24
tidysbml/-2025-02-18 16:44:24
tidyCoverage/-2025-02-18 16:44:24
tkWidgets/-2025-02-18 16:44:24
tidybulk/-2025-02-18 16:44:24
tidySpatialExperiment/-2025-02-18 16:44:24
tanggle/-2025-02-18 16:44:23
tenXplore/-2025-02-18 16:44:23
tadar/-2025-02-18 16:44:23
terraTCGAdata/-2025-02-18 16:44:23
systemPipeTools/-2025-02-18 16:44:23
ternarynet/-2025-02-18 16:44:23
systemPipeShiny/-2025-02-18 16:44:23
target/-2025-02-18 16:44:23
surfaltr/-2025-02-18 16:44:22
survtype/-2025-02-18 16:44:22
switchde/-2025-02-18 16:44:22
sva/-2025-02-18 16:44:22
synapsis/-2025-02-18 16:44:22
survClust/-2025-02-18 16:44:22
supraHex/-2025-02-18 16:44:22
switchBox/-2025-02-18 16:44:22
survcomp/-2025-02-18 16:44:22
synlet/-2025-02-18 16:44:22
svaNUMT/-2025-02-18 16:44:22
syntenet/-2025-02-18 16:44:22
systemPipeR/-2025-02-18 16:44:22
synergyfinder/-2025-02-18 16:44:22
swfdr/-2025-02-18 16:44:22
supersigs/-2025-02-18 16:44:22
synapter/-2025-02-18 16:44:22
svaRetro/-2025-02-18 16:44:22
standR/-2025-02-18 16:44:21
stageR/-2025-02-18 16:44:21
ssviz/-2025-02-18 16:44:21
structToolbox/-2025-02-18 16:44:21
strandCheckR/-2025-02-18 16:44:21
staRank/-2025-02-18 16:44:21
stepNorm/-2025-02-18 16:44:21
subSeq/-2025-02-18 16:44:21
struct/-2025-02-18 16:44:21
ssrch/-2025-02-18 16:44:21
stJoincount/-2025-02-18 16:44:21
statTarget/-2025-02-18 16:44:21
ssPATHS/-2025-02-18 16:44:21
ssize/-2025-02-18 16:44:20
spqn/-2025-02-18 16:44:20
sscu/-2025-02-18 16:44:20
sSNAPPY/-2025-02-18 16:44:20
sSeq/-2025-02-18 16:44:20
sRACIPE/-2025-02-18 16:44:20
squallms/-2025-02-18 16:44:20
splots/-2025-02-18 16:44:20
spoon/-2025-02-18 16:44:20
srnadiff/-2025-02-18 16:44:20
splineTimeR/-2025-02-18 16:44:20
spkTools/-2025-02-18 16:44:19
spikeLI/-2025-02-18 16:44:19
spatzie/-2025-02-18 16:44:19
spillR/-2025-02-18 16:44:19
spicyR/-2025-02-18 16:44:19
spatialSimGP/-2025-02-18 16:44:19
specL/-2025-02-18 16:44:19
speckle/-2025-02-18 16:44:19
spiky/-2025-02-18 16:44:19
spatialFDA/-2025-02-18 16:44:19
spatialHeatmap/-2025-02-18 16:44:19
splatter/-2025-02-18 16:44:19
sparsenetgls/-2025-02-18 16:44:18
sparseMatrixStats/-2025-02-18 16:44:18
sosta/-2025-02-18 16:44:18
spaSim/-2025-02-18 16:44:18
snpStats/-2025-02-18 16:44:18
soGGi/-2025-02-18 16:44:18
snm/-2025-02-18 16:44:18
snapcount/-2025-02-18 16:44:18
sparrow/-2025-02-18 16:44:18
spatialDE/-2025-02-18 16:44:18
snifter/-2025-02-18 16:44:18
simplifyEnrichment/-2025-02-18 16:44:17
smoothclust/-2025-02-18 16:44:17
smartid/-2025-02-18 16:44:17
sizepower/-2025-02-18 16:44:17
smoppix/-2025-02-18 16:44:17
singleCellTK/-2025-02-18 16:44:17
sketchR/-2025-02-18 16:44:17
singscore/-2025-02-18 16:44:17
slalom/-2025-02-18 16:44:17
sitadela/-2025-02-18 16:44:17
simPIC/-2025-02-18 16:44:17
sincell/-2025-02-18 16:44:17
slingshot/-2025-02-18 16:44:17
sitePath/-2025-02-18 16:44:17
simpleSeg/-2025-02-18 16:44:17
skewr/-2025-02-18 16:44:17
signeR/-2025-02-18 16:44:16
sigFeature/-2025-02-18 16:44:16
similaRpeak/-2025-02-18 16:44:16
siggenes/-2025-02-18 16:44:16
signatureSearch/-2025-02-18 16:44:16
shinyepico/-2025-02-18 16:44:16
signifinder/-2025-02-18 16:44:16
shiny.gosling/-2025-02-18 16:44:16
sights/-2025-02-18 16:44:16
sigsquared/-2025-02-18 16:44:16
simona/-2025-02-18 16:44:16
shinyMethyl/-2025-02-18 16:44:16
seqcombo/-2025-02-18 16:44:15
seqCAT/-2025-02-18 16:44:15
semisup/-2025-02-18 16:44:15
seqArchR/-2025-02-18 16:44:15
selectKSigs/-2025-02-18 16:44:15
seqsetvis/-2025-02-18 16:44:15
seq.hotSPOT/-2025-02-18 16:44:15
seqTools/-2025-02-18 16:44:15
seq2pathway/-2025-02-18 16:44:15
seqArchRplus/-2025-02-18 16:44:15
seqLogo/-2025-02-18 16:44:15
seqPattern/-2025-02-18 16:44:15
sevenC/-2025-02-18 16:44:15
sevenbridges/-2025-02-18 16:44:15
sesame/-2025-02-18 16:44:15
scShapes/-2025-02-18 16:44:14
scQTLtools/-2025-02-18 16:44:14
segmenter/-2025-02-18 16:44:14
scviR/-2025-02-18 16:44:14
scry/-2025-02-18 16:44:14
scruff/-2025-02-18 16:44:14
scrapper/-2025-02-18 16:44:14
scPCA/-2025-02-18 16:44:14
seahtrue/-2025-02-18 16:44:14
sechm/-2025-02-18 16:44:14
scTreeViz/-2025-02-18 16:44:14
scRNAseqApp/-2025-02-18 16:44:14
scRepertoire/-2025-02-18 16:44:14
scReClassify/-2025-02-18 16:44:14
segmentSeq/-2025-02-18 16:44:14
scTHI/-2025-02-18 16:44:14
scTensor/-2025-02-18 16:44:14
scRecover/-2025-02-18 16:44:14
scran/-2025-02-18 16:44:14
scuttle/-2025-02-18 16:44:14
scPipe/-2025-02-18 16:44:14
screenCounter/-2025-02-18 16:44:14
scTGIF/-2025-02-18 16:44:14
scone/-2025-02-18 16:44:13
schex/-2025-02-18 16:44:13
scFeatures/-2025-02-18 16:44:13
scDotPlot/-2025-02-18 16:44:13
scoreInvHap/-2025-02-18 16:44:13
scp/-2025-02-18 16:44:13
scoup/-2025-02-18 16:44:13
scFeatureFilter/-2025-02-18 16:44:13
scGPS/-2025-02-18 16:44:13
scds/-2025-02-18 16:44:13
scDiagnostics/-2025-02-18 16:44:13
scHOT/-2025-02-18 16:44:13
scde/-2025-02-18 16:44:13
scDesign3/-2025-02-18 16:44:13
scider/-2025-02-18 16:44:13
scMitoMut/-2025-02-18 16:44:13
scMerge/-2025-02-18 16:44:13
scmap/-2025-02-18 16:44:13
scifer/-2025-02-18 16:44:13
scMultiSim/-2025-02-18 16:44:13
scmeth/-2025-02-18 16:44:13
scMET/-2025-02-18 16:44:13
saseR/-2025-02-18 16:44:12
sarks/-2025-02-18 16:44:12
scAnnotatR/-2025-02-18 16:44:12
scCB2/-2025-02-18 16:44:12
scClassify/-2025-02-18 16:44:12
scDDboost/-2025-02-18 16:44:12
scDblFinder/-2025-02-18 16:44:12
scBFA/-2025-02-18 16:44:12
scBubbletree/-2025-02-18 16:44:12
scDD/-2025-02-18 16:44:12
scanMiR/-2025-02-18 16:44:12
scater/-2025-02-18 16:44:12
scanMiRApp/-2025-02-18 16:44:12
satuRn/-2025-02-18 16:44:12
scDataviz/-2025-02-18 16:44:12
sccomp/-2025-02-18 16:44:12
scatterHatch/-2025-02-18 16:44:12
rTRMui/-2025-02-18 16:44:11
sangeranalyseR/-2025-02-18 16:44:11
safe/-2025-02-18 16:44:11
sangerseqR/-2025-02-18 16:44:11
sampleClassifier/-2025-02-18 16:44:11
rWikiPathways/-2025-02-18 16:44:11
rTRM/-2025-02-18 16:44:11
sagenhaft/-2025-02-18 16:44:11
rtracklayer/-2025-02-18 16:44:11
rpx/-2025-02-18 16:44:10
rRDP/-2025-02-18 16:44:10
rprimer/-2025-02-18 16:44:10
rScudo/-2025-02-18 16:44:10
rqubic/-2025-02-18 16:44:10
rqt/-2025-02-18 16:44:10
ropls/-2025-02-18 16:44:10
rsemmed/-2025-02-18 16:44:10
rols/-2025-02-18 16:44:10
rrvgo/-2025-02-18 16:44:10
rSWeeP/-2025-02-18 16:44:10
rmelting/-2025-02-18 16:44:09
rmspc/-2025-02-18 16:44:09
roastgsa/-2025-02-18 16:44:09
roar/-2025-02-18 16:44:09
rnaseqcomp/-2025-02-18 16:44:09
rnaEditr/-2025-02-18 16:44:09
rGREAT/-2025-02-18 16:44:08
ribor/-2025-02-18 16:44:08
rhdf5filters/-2025-02-18 16:44:08
rhdf5client/-2025-02-18 16:44:08
rhdf5/-2025-02-18 16:44:08
rifi/-2025-02-18 16:44:08
rifiComparative/-2025-02-18 16:44:08
riboSeqR/-2025-02-18 16:44:08
rgsepd/-2025-02-18 16:44:08
ribosomeProfilingQC/-2025-02-18 16:44:08
rhinotypeR/-2025-02-18 16:44:08
rexposome/-2025-02-18 16:44:07
retrofit/-2025-02-18 16:44:07
regioneR/-2025-02-18 16:44:07
rgoslin/-2025-02-18 16:44:07
regionalpcs/-2025-02-18 16:44:07
regioneReloaded/-2025-02-18 16:44:07
rGenomeTracks/-2025-02-18 16:44:07
regsplice/-2025-02-18 16:44:07
rGADEM/-2025-02-18 16:44:07
regionReport/-2025-02-18 16:44:07
rfaRm/-2025-02-18 16:44:07
regutools/-2025-02-18 16:44:07
rfPred/-2025-02-18 16:44:07
reconsi/-2025-02-18 16:44:06
recount/-2025-02-18 16:44:06
recountmethylation/-2025-02-18 16:44:06
receptLoss/-2025-02-18 16:44:06
recoup/-2025-02-18 16:44:06
recount3/-2025-02-18 16:44:06
rebook/-2025-02-18 16:44:06
rBiopaxParser/-2025-02-18 16:44:05
rBLAST/-2025-02-18 16:44:05
rawrr/-2025-02-18 16:44:05
rawDiag/-2025-02-18 16:44:05
rcellminer/-2025-02-18 16:44:05
randRotation/-2025-02-18 16:44:05
rbsurv/-2025-02-18 16:44:05
rCGH/-2025-02-18 16:44:05
r3Cseq/-2025-02-18 16:44:04
qusage/-2025-02-18 16:44:04
qsea/-2025-02-18 16:44:04
randPack/-2025-02-18 16:44:04
qsmooth/-2025-02-18 16:44:04
quantro/-2025-02-18 16:44:04
quantsmooth/-2025-02-18 16:44:04
qvalue/-2025-02-18 16:44:04
quantiseqr/-2025-02-18 16:44:04
qsvaR/-2025-02-18 16:44:04
rain/-2025-02-18 16:44:04
ramwas/-2025-02-18 16:44:04
ramr/-2025-02-18 16:44:04
raer/-2025-02-18 16:44:04
pwalign/-2025-02-18 16:44:03
protGear/-2025-02-18 16:44:03
qpcrNorm/-2025-02-18 16:44:03
ptairMS/-2025-02-18 16:44:03
proteinProfiles/-2025-02-18 16:44:03
qPLEXanalyzer/-2025-02-18 16:44:03
qckitfastq/-2025-02-18 16:44:03
pvac/-2025-02-18 16:44:03
qmtools/-2025-02-18 16:44:03
puma/-2025-02-18 16:44:03
qcmetrics/-2025-02-18 16:44:03
psichomics/-2025-02-18 16:44:03
qpgraph/-2025-02-18 16:44:03
pvca/-2025-02-18 16:44:03
progeny/-2025-02-18 16:44:02
profileScoreDist/-2025-02-18 16:44:02
pram/-2025-02-18 16:44:02
pRolocGUI/-2025-02-18 16:44:02
proBAMr/-2025-02-18 16:44:02
pRoloc/-2025-02-18 16:44:02
powerTCR/-2025-02-18 16:44:02
proActiv/-2025-02-18 16:44:02
preprocessCore/-2025-02-18 16:44:02
profileplyr/-2025-02-18 16:44:02
pqsfinder/-2025-02-18 16:44:02
prebs/-2025-02-18 16:44:02
ppcseq/-2025-02-18 16:44:02
preciseTAD/-2025-02-18 16:44:02
primirTSS/-2025-02-18 16:44:02
proDA/-2025-02-18 16:44:02
procoil/-2025-02-18 16:44:02
projectR/-2025-02-18 16:44:02
plasmut/-2025-02-18 16:44:01
plgem/-2025-02-18 16:44:01
plyranges/-2025-02-18 16:44:01
pmm/-2025-02-18 16:44:01
planet/-2025-02-18 16:44:01
planttfhunter/-2025-02-18 16:44:01
pipeComp/-2025-02-18 16:44:01
plier/-2025-02-18 16:44:01
plotgardener/-2025-02-18 16:44:01
plotGrouper/-2025-02-18 16:44:01
pmp/-2025-02-18 16:44:01
pickgene/-2025-02-18 16:44:01
pogos/-2025-02-18 16:44:01
podkat/-2025-02-18 16:44:01
pipeFrame/-2025-02-18 16:44:01
plyxp/-2025-02-18 16:44:01
plyinteractions/-2025-02-18 16:44:01
peco/-2025-02-18 16:44:00
phantasusLite/-2025-02-18 16:44:00
pgca/-2025-02-18 16:44:00
phosphonormalizer/-2025-02-18 16:44:00
pepStat/-2025-02-18 16:44:00
periodicDNA/-2025-02-18 16:44:00
philr/-2025-02-18 16:44:00
pfamAnalyzeR/-2025-02-18 16:44:00
phenomis/-2025-02-18 16:44:00
phenopath/-2025-02-18 16:44:00
phantasus/-2025-02-18 16:44:00
phenoTest/-2025-02-18 16:44:00
pgxRpi/-2025-02-18 16:44:00
pengls/-2025-02-18 16:44:00
phyloseq/-2025-02-18 16:44:00
pepXMLTab/-2025-02-18 16:44:00
piano/-2025-02-18 16:44:00
pathwayPCA/-2025-02-18 16:43:59
partCNV/-2025-02-18 16:43:59
pcaMethods/-2025-02-18 16:43:59
parglms/-2025-02-18 16:43:59
paxtoolsr/-2025-02-18 16:43:59
panelcn.mops/-2025-02-18 16:43:59
pathlinkR/-2025-02-18 16:43:59
pathview/-2025-02-18 16:43:59
pathifier/-2025-02-18 16:43:59
pcaExplorer/-2025-02-18 16:43:59
pareg/-2025-02-18 16:43:59
pdInfoBuilder/-2025-02-18 16:43:59
pathRender/-2025-02-18 16:43:59
peakPantheR/-2025-02-18 16:43:59
panp/-2025-02-18 16:43:59
parody/-2025-02-18 16:43:59
paircompviz/-2025-02-18 16:43:58
packFinder/-2025-02-18 16:43:58
padma/-2025-02-18 16:43:58
orthos/-2025-02-18 16:43:58
pairkat/-2025-02-18 16:43:58
pairedGSEA/-2025-02-18 16:43:58
optimalFlow/-2025-02-18 16:43:58
pandaR/-2025-02-18 16:43:58
pageRank/-2025-02-18 16:43:58
orthogene/-2025-02-18 16:43:58
ompBAM/-2025-02-18 16:43:57
oncomix/-2025-02-18 16:43:57
ontoProc/-2025-02-18 16:43:57
oppar/-2025-02-18 16:43:57
omXplore/-2025-02-18 16:43:57
oppti/-2025-02-18 16:43:57
omicplotR/-2025-02-18 16:43:57
oncoscanR/-2025-02-18 16:43:57
oposSOM/-2025-02-18 16:43:57
openCyto/-2025-02-18 16:43:57
omicsViewer/-2025-02-18 16:43:57
onlineFDR/-2025-02-18 16:43:57
omada/-2025-02-18 16:43:57
omicsPrint/-2025-02-18 16:43:57
omicRexposome/-2025-02-18 16:43:57
openPrimeR/-2025-02-18 16:43:57
omicade4/-2025-02-18 16:43:57
nondetects/-2025-02-18 16:43:56
nnNorm/-2025-02-18 16:43:56
npGSEA/-2025-02-18 16:43:56
nucleR/-2025-02-18 16:43:56
normr/-2025-02-18 16:43:56
nuCpos/-2025-02-18 16:43:56
oligo/-2025-02-18 16:43:56
octad/-2025-02-18 16:43:56
normalize450K/-2025-02-18 16:43:56
oligoClasses/-2025-02-18 16:43:56
ngsReports/-2025-02-18 16:43:56
occugene/-2025-02-18 16:43:56
nipalsMCIA/-2025-02-18 16:43:56
odseq/-2025-02-18 16:43:56
nullranges/-2025-02-18 16:43:56
nnSVG/-2025-02-18 16:43:56
nucleoSim/-2025-02-18 16:43:56
netSmooth/-2025-02-18 16:43:55
mzR/-2025-02-18 16:43:55
ncRNAtools/-2025-02-18 16:43:55
ndexr/-2025-02-18 16:43:55
nethet/-2025-02-18 16:43:55
netboost/-2025-02-18 16:43:55
netDx/-2025-02-18 16:43:55
mzID/-2025-02-18 16:43:55
netZooR/-2025-02-18 16:43:55
netprioR/-2025-02-18 16:43:55
nempi/-2025-02-18 16:43:55
myvariant/-2025-02-18 16:43:55
ncGTW/-2025-02-18 16:43:55
nearBynding/-2025-02-18 16:43:55
ncdfFlow/-2025-02-18 16:43:55
netresponse/-2025-02-18 16:43:55
multistateQTL/-2025-02-18 16:43:54
multtest/-2025-02-18 16:43:54
multiMiR/-2025-02-18 16:43:54
multiGSEA/-2025-02-18 16:43:54
multiClust/-2025-02-18 16:43:54
mygene/-2025-02-18 16:43:54
multiscan/-2025-02-18 16:43:54
muscat/-2025-02-18 16:43:54
multicrispr/-2025-02-18 16:43:54
multiWGCNA/-2025-02-18 16:43:54
musicatk/-2025-02-18 16:43:54
muscle/-2025-02-18 16:43:54
multiHiCcompare/-2025-02-18 16:43:54
mumosa/-2025-02-18 16:43:54
mslp/-2025-02-18 16:43:53
msgbsR/-2025-02-18 16:43:53
msqrob2/-2025-02-18 16:43:53
msPurity/-2025-02-18 16:43:53
msImpute/-2025-02-18 16:43:53
msmsTests/-2025-02-18 16:43:53
mspms/-2025-02-18 16:43:53
msmsEDA/-2025-02-18 16:43:53
mosbi/-2025-02-18 16:43:52
motifStack/-2025-02-18 16:43:52
motifmatchr/-2025-02-18 16:43:52
mosdef/-2025-02-18 16:43:52
motifTestR/-2025-02-18 16:43:52
msa/-2025-02-18 16:43:52
mpra/-2025-02-18 16:43:52
motifbreakR/-2025-02-18 16:43:52
motifcounter/-2025-02-18 16:43:52
mosaics/-2025-02-18 16:43:52
mixOmics/-2025-02-18 16:43:51
mitch/-2025-02-18 16:43:51
mirTarRnaSeq/-2025-02-18 16:43:51
missRows/-2025-02-18 16:43:51
moanin/-2025-02-18 16:43:51
mnem/-2025-02-18 16:43:51
mitoClone2/-2025-02-18 16:43:51
mist/-2025-02-18 16:43:51
mogsa/-2025-02-18 16:43:51
mistyR/-2025-02-18 16:43:51
monaLisa/-2025-02-18 16:43:51
miRspongeR/-2025-02-18 16:43:51
monocle/-2025-02-18 16:43:51
missMethyl/-2025-02-18 16:43:51
mobileRNA/-2025-02-18 16:43:51
microRNA/-2025-02-18 16:43:50
miRcomp/-2025-02-18 16:43:50
microSTASIS/-2025-02-18 16:43:50
midasHLA/-2025-02-18 16:43:50
minet/-2025-02-18 16:43:50
microbiomeExplorer/-2025-02-18 16:43:50
miRNApath/-2025-02-18 16:43:50
miRBaseConverter/-2025-02-18 16:43:50
microbiomeDASim/-2025-02-18 16:43:50
mirIntegrator/-2025-02-18 16:43:50
miRNAtap/-2025-02-18 16:43:50
miRLAB/-2025-02-18 16:43:50
mina/-2025-02-18 16:43:50
mimager/-2025-02-18 16:43:50
miRNAmeConverter/-2025-02-18 16:43:50
miQC/-2025-02-18 16:43:50
miloR/-2025-02-18 16:43:50
miRSM/-2025-02-18 16:43:50
minfi/-2025-02-18 16:43:50
mia/-2025-02-18 16:43:49
methylGSA/-2025-02-18 16:43:49
methylKit/-2025-02-18 16:43:49
methylPipe/-2025-02-18 16:43:49
miaSim/-2025-02-18 16:43:49
mfa/-2025-02-18 16:43:49
methylMnM/-2025-02-18 16:43:49
methylInheritance/-2025-02-18 16:43:49
methyLImp2/-2025-02-18 16:43:49
methylumi/-2025-02-18 16:43:49
methylSig/-2025-02-18 16:43:49
miaViz/-2025-02-18 16:43:49
methylclock/-2025-02-18 16:43:49
methylCC/-2025-02-18 16:43:49
methylscaper/-2025-02-18 16:43:49
microbiome/-2025-02-18 16:43:49
mgsa/-2025-02-18 16:43:49
metahdep/-2025-02-18 16:43:48
metapod/-2025-02-18 16:43:48
metaCCA/-2025-02-18 16:43:48
metabolomicsWorkbenchR/-2025-02-18 16:43:48
methrix/-2025-02-18 16:43:48
metagenomeSeq/-2025-02-18 16:43:48
methimpute/-2025-02-18 16:43:48
metaMS/-2025-02-18 16:43:48
methInheritSim/-2025-02-18 16:43:48
metaSeq/-2025-02-18 16:43:48
metabomxtr/-2025-02-18 16:43:48
metapone/-2025-02-18 16:43:48
metaseqR2/-2025-02-18 16:43:48
metagene2/-2025-02-18 16:43:48
methodical/-2025-02-18 16:43:48
mCSEA/-2025-02-18 16:43:47
mdp/-2025-02-18 16:43:47
messina/-2025-02-18 16:43:47
metabinR/-2025-02-18 16:43:47
memes/-2025-02-18 16:43:47
meshr/-2025-02-18 16:43:47
megadepth/-2025-02-18 16:43:47
metabCombiner/-2025-02-18 16:43:47
meshes/-2025-02-18 16:43:47
mdqc/-2025-02-18 16:43:47
mbQTL/-2025-02-18 16:43:47
maPredictDSC/-2025-02-18 16:43:46
marr/-2025-02-18 16:43:46
marray/-2025-02-18 16:43:46
mBPCR/-2025-02-18 16:43:46
maser/-2025-02-18 16:43:46
massiR/-2025-02-18 16:43:46
mbkmeans/-2025-02-18 16:43:46
mapscape/-2025-02-18 16:43:46
martini/-2025-02-18 16:43:46
maskBAD/-2025-02-18 16:43:46
matter/-2025-02-18 16:43:46
matchBox/-2025-02-18 16:43:46
maSigPro/-2025-02-18 16:43:46
mastR/-2025-02-18 16:43:46
mariner/-2025-02-18 16:43:46
m6Aboost/-2025-02-18 16:43:45
makecdfenv/-2025-02-18 16:43:45
lute/-2025-02-18 16:43:45
maCorrPlot/-2025-02-18 16:43:45
lpsymphony/-2025-02-18 16:43:45
maftools/-2025-02-18 16:43:45
lpNet/-2025-02-18 16:43:45
magpie/-2025-02-18 16:43:45
maaslin3/-2025-02-18 16:43:45
magrene/-2025-02-18 16:43:45
made4/-2025-02-18 16:43:45
lumi/-2025-02-18 16:43:45
lfa/-2025-02-18 16:43:44
ldblock/-2025-02-18 16:43:44
lisaClust/-2025-02-18 16:43:44
logicFS/-2025-02-18 16:43:44
limmaGUI/-2025-02-18 16:43:44
lemur/-2025-02-18 16:43:44
les/-2025-02-18 16:43:44
limpca/-2025-02-18 16:43:44
lmdme/-2025-02-18 16:43:44
lipidr/-2025-02-18 16:43:44
lineagespot/-2025-02-18 16:43:44
lefser/-2025-02-18 16:43:44
lionessR/-2025-02-18 16:43:44
loci2path/-2025-02-18 16:43:44
levi/-2025-02-18 16:43:44
limma/-2025-02-18 16:43:44
kebabs/-2025-02-18 16:43:43
knowYourCG/-2025-02-18 16:43:43
ivygapSE/-2025-02-18 16:43:43
keggorthology/-2025-02-18 16:43:43
iterativeBMAsurv/-2025-02-18 16:43:43
kissDE/-2025-02-18 16:43:43
isomiRs/-2025-02-18 16:43:43
koinar/-2025-02-18 16:43:43
katdetectr/-2025-02-18 16:43:43
kmcut/-2025-02-18 16:43:43
lapmix/-2025-02-18 16:43:43
iterativeBMA/-2025-02-18 16:43:43
karyoploteR/-2025-02-18 16:43:43
interacCircos/-2025-02-18 16:43:42
interactiveDisplayBase/-2025-02-18 16:43:42
interactiveDisplay/-2025-02-18 16:43:42
isobar/-2025-02-18 16:43:42
ipdDb/-2025-02-18 16:43:42
igvShiny/-2025-02-18 16:43:41
infinityFlow/-2025-02-18 16:43:41
immunoClust/-2025-02-18 16:43:41
immunogenViewer/-2025-02-18 16:43:41
intansv/-2025-02-18 16:43:41
impute/-2025-02-18 16:43:41
imcRtools/-2025-02-18 16:43:41
illuminaio/-2025-02-18 16:43:41
infercnv/-2025-02-18 16:43:41
immApex/-2025-02-18 16:43:41
immunotation/-2025-02-18 16:43:41
runibic/-2025-02-18 16:41:23
rsbml/-2025-02-18 16:41:22
single/-2024-10-24 15:04:43
SummarizedBenchmark/-2024-10-24 15:04:43
Risa/-2024-10-24 15:04:43
RNAinteract/-2024-10-24 15:04:43
psygenet2r/-2024-10-24 15:04:42
polyester/-2024-10-24 15:04:42
RandomWalkRestartMH/-2024-10-24 15:04:42
rDGIdb/-2024-10-24 15:04:42
Pi/-2024-10-24 15:04:42
nanotatoR/-2024-10-24 15:04:41
MQmetrics/-2024-10-24 15:04:41
microbiomeMarker/-2024-10-24 15:04:41
netOmics/-2024-10-24 15:04:41
HTqPCR/-2024-10-24 15:04:40
brainflowprobes/-2024-10-24 15:04:38
BiocOncoTK/-2024-10-24 15:04:38
biodbKegg/-2024-10-24 15:04:38
biodbExpasy/-2024-10-24 15:04:38
CellaRepertorium/-2024-10-24 15:04:38
BRGenomics/-2024-10-24 15:04:38
ATACCoGAPS/-2024-10-24 15:04:37
report.tgz88.6 MiB2025-02-19 16:47:08
long-report.html14.0 MiB2025-02-19 16:45:55
index.html1.3 MiB2025-02-19 16:45:41
kjohnson3-index.html3.3 MiB2025-02-19 16:45:40
lconway-index.html3.3 MiB2025-02-19 16:45:35
palomino7-index.html3.3 MiB2025-02-19 16:45:30
nebbiolo1-index.html2.9 MiB2025-02-19 16:45:27
palomino7-R-instpkgs.html460.6 KiB2025-02-19 16:38:33
lconway-R-instpkgs.html602.1 KiB2025-02-19 16:38:33
kjohnson3-R-instpkgs.html591.5 KiB2025-02-19 16:38:33
nebbiolo1-R-instpkgs.html517.3 KiB2025-02-19 16:38:32
120px-Green_Light_Icon.svg.png7.1 KiB2025-02-19 16:38:32
skipped-index.dcf0 B2025-02-19 16:38:32
meat-index.dcf236.2 KiB2025-02-19 16:38:32
pkg_dep_graph.txt376.9 KiB2025-02-19 16:38:32
PROPAGATION_STATUS_DB.txt686.4 KiB2025-02-19 16:38:32
120px-Red_Light_Icon.svg.png7.0 KiB2025-02-19 16:38:32
report.css11.0 KiB2025-02-19 16:38:32
BUILD_STATUS_DB.txt1.0 MiB2025-02-19 16:38:32
Renviron.bioc3.3 KiB2025-02-19 16:38:32
nebbiolo1-NodeInfo.html6.9 KiB2025-02-19 16:38:32
120px-Blue_Light_Icon.svg.png7.1 KiB2025-02-19 16:38:32
DEVEL3b.png2.6 KiB2025-02-19 16:38:32
kjohnson3-NodeInfo.html6.7 KiB2025-02-19 16:38:32
lconway-NodeInfo.html6.8 KiB2025-02-19 16:38:32
report.js6.0 KiB2025-02-19 16:38:32
palomino7-NodeInfo.html7.0 KiB2025-02-19 16:38:32
kunpeng2-index.html2.0 MiB2025-01-30 18:13:52
kunpeng2-NodeInfo.html7.7 KiB2025-01-30 18:08:43
kunpeng2-R-instpkgs.html531.9 KiB2025-01-30 18:08:43