Package: ExpressionNormalizationWorkflow Version: 1.33.0 Command: E:\biocbuild\bbs-3.21-bioc\R\bin\R.exe CMD INSTALL ExpressionNormalizationWorkflow StartedAt: 2025-02-14 13:01:31 -0500 (Fri, 14 Feb 2025) EndedAt: 2025-02-14 13:01:59 -0500 (Fri, 14 Feb 2025) EllapsedTime: 27.8 seconds RetCode: 0 Status: OK