Welcome to mirrors.dotsrc.org

All our mirrors of open source software are available via http, https, ftp and an onion service. More information about our mirrors including statistics and contact information is available on our mirror info pages.

For information about dotsrc.org and our other services please go to our website.

Index of /bioconductor/checkResults/3.21/bioc-LATEST/

File Name  ↓ File Size  ↓ Date  ↓ 
Parent directory/--
ABSSeq/-2025-01-31 17:21:11
ABarray/-2025-01-31 17:21:11
ACE/-2025-01-31 17:21:11
ACME/-2025-01-31 17:21:11
ADAM/-2025-01-31 17:21:11
ADAMgui/-2025-01-31 17:21:12
ADAPT/-2025-01-31 17:21:12
ADImpute/-2025-01-31 17:21:12
ADaCGH2/-2025-01-31 17:21:11
AGDEX/-2025-01-31 17:21:12
AHMassBank/-2025-01-31 17:21:12
AIMS/-2025-01-31 17:21:12
ALDEx2/-2025-01-31 17:21:13
AMARETTO/-2025-01-31 17:21:13
AMOUNTAIN/-2025-01-31 17:21:13
ANCOMBC/-2025-01-31 17:21:13
ANF/-2025-01-31 17:21:13
APAlyzer/-2025-01-31 17:21:14
APL/-2025-01-31 17:21:14
ARRmNormalization/-2025-01-31 17:21:14
ASAFE/-2025-01-31 17:21:14
ASEB/-2025-01-31 17:21:14
ASGSCA/-2025-01-31 17:21:14
ASICS/-2025-01-31 17:21:15
ASSET/-2025-01-31 17:21:15
ASSIGN/-2025-01-31 17:21:15
ASURAT/-2025-01-31 17:21:15
ASpli/-2025-01-31 17:21:15
ATACCoGAPS/-2024-10-24 15:04:37
ATACseqQC/-2025-01-31 17:21:15
ATACseqTFEA/-2025-01-31 17:21:15
AUCell/-2025-01-31 17:21:15
AWFisher/-2025-01-31 17:21:15
AffiXcan/-2025-01-31 17:21:12
AffyRNADegradation/-2025-01-31 17:21:12
AgiMicroRna/-2025-01-31 17:21:12
AllelicImbalance/-2025-01-31 17:21:13
AlphaBeta/-2025-01-31 17:21:13
AlphaMissenseR/-2025-01-31 17:21:13
AlpsNMR/-2025-01-31 17:21:13
AnVIL/-2025-01-31 17:21:14
AnVILAz/-2025-01-31 17:21:14
AnVILBase/-2025-01-31 17:21:14
AnVILBilling/-2025-01-31 17:21:14
AnVILGCP/-2025-01-31 17:21:14
AnVILPublish/-2025-01-31 17:21:14
AnVILWorkflow/-2025-01-31 17:21:14
Anaquin/-2025-01-31 17:21:13
AneuFinder/-2025-01-31 17:21:13
AnnotationDbi/-2025-01-31 17:21:13
AnnotationFilter/-2025-01-31 17:21:13
AnnotationForge/-2025-01-31 17:21:13
AnnotationHub/-2025-01-31 17:21:13
AnnotationHubData/-2025-01-31 17:21:14
ArrayExpress/-2025-01-31 17:21:14
AssessORF/-2025-01-31 17:21:15
BADER/-2025-01-31 17:21:15
BAGS/-2025-01-31 17:21:15
BANDITS/-2025-01-31 17:21:15
BASiCS/-2025-01-31 17:21:16
BASiCStan/-2025-01-31 17:21:16
BBCAnalyzer/-2025-01-31 17:21:16
BCRANK/-2025-01-31 17:21:16
BEARscc/-2025-01-31 17:21:16
BEAT/-2025-01-31 17:21:16
BERT/-2025-01-31 17:21:17
BEclear/-2025-01-31 17:21:16
BG2/-2025-01-31 17:21:17
BLMA/-2025-01-31 17:21:19
BOBaFIT/-2025-01-31 17:21:19
BPRMeth/-2025-01-31 17:21:19
BRAIN/-2025-01-31 17:21:19
BREW3R.r/-2025-01-31 17:21:19
BRGenomics/-2024-10-24 15:04:38
BSgenome/-2025-01-31 17:21:20
BSgenomeForge/-2025-01-31 17:21:20
BUMHMM/-2025-01-31 17:21:20
BUS/-2025-01-31 17:21:20
BUScorrect/-2025-01-31 17:21:20
BUSpaRse/-2025-01-31 17:21:20
BUSseq/-2025-01-31 17:21:20
BaalChIP/-2025-01-31 17:21:15
BadRegionFinder/-2025-01-31 17:21:15
Banksy/-2025-01-31 17:21:15
BaseSpaceR/-2025-01-31 17:21:16
Basic4Cseq/-2025-01-31 17:21:16
BasicSTARRseq/-2025-01-31 17:21:16
BatchQC/-2025-01-31 17:21:16
BayesKnockdown/-2025-01-31 17:21:16
BayesSpace/-2025-01-31 17:21:16
BeadDataPackR/-2025-01-31 17:21:16
BgeeCall/-2025-01-31 17:21:17
BgeeDB/-2025-01-31 17:21:17
BiFET/-2025-01-31 17:21:17
BiGGR/-2025-01-31 17:18:20
BiRewire/-2025-01-31 17:21:19
BiSeq/-2025-01-31 17:21:19
BicARE/-2025-01-31 17:21:17
BindingSiteFinder/-2025-01-31 17:21:17
BioCartaImage/-2025-01-31 17:21:17
BioCor/-2025-01-31 17:21:18
BioGA/-2025-01-31 17:21:18
BioMVCClass/-2025-01-31 17:21:19
BioNAR/-2025-01-31 17:21:19
BioNERO/-2025-01-31 17:21:19
BioNet/-2025-01-31 17:21:19
BioQC/-2025-01-31 17:21:19
BioTIP/-2025-01-31 17:21:19
Biobase/-2025-01-31 17:21:17
BiocBaseUtils/-2025-01-31 17:21:17
BiocBook/-2025-01-31 17:21:17
BiocCheck/-2025-01-31 17:21:17
BiocFHIR/-2025-01-31 17:21:17
BiocFileCache/-2025-01-31 17:21:17
BiocGenerics/-2025-01-31 17:21:17
BiocHail/-2025-01-31 17:17:10
BiocHubsShiny/-2025-01-31 17:21:17
BiocIO/-2025-01-31 17:21:17
BiocNeighbors/-2025-01-31 17:21:18
BiocOncoTK/-2024-10-24 15:04:38
BiocParallel/-2025-01-31 17:21:18
BiocPkgTools/-2025-01-31 17:21:18
BiocSet/-2025-01-31 17:21:18
BiocSingular/-2025-01-31 17:21:18
BiocSklearn/-2025-01-31 17:21:18
BiocStyle/-2025-01-31 17:21:18
BiocVersion/-2025-01-31 17:21:18
BiocWorkflowTools/-2025-01-31 17:21:18
Biostrings/-2025-01-31 17:21:19
BloodGen3Module/-2025-01-31 17:21:19
BridgeDbR/-2025-01-31 17:21:19
BrowserViz/-2025-01-31 17:21:20
BubbleTree/-2025-01-31 17:21:20
BufferedMatrix/-2025-01-31 17:21:20
BufferedMatrixMethods/-2025-01-31 17:21:20
BulkSignalR/-2025-01-31 17:21:20
BumpyMatrix/-2025-01-31 17:21:20
CAEN/-2025-01-31 17:21:20
CAFE/-2025-01-31 17:21:20
CAGEfightR/-2025-01-31 17:21:20
CAGEr/-2025-01-31 17:21:20
CAMERA/-2025-01-31 17:21:20
CARNIVAL/-2025-01-31 17:21:21
CATALYST/-2025-01-31 17:21:21
CBEA/-2025-01-31 17:21:21
CBNplot/-2025-01-31 17:21:21
CCPROMISE/-2025-01-31 17:21:21
CCPlotR/-2025-01-31 17:21:21
CDI/-2025-01-31 17:21:21
CEMiTool/-2025-01-31 17:21:22
CFAssay/-2025-01-31 17:21:22
CGEN/-2025-01-31 17:21:22
CGHbase/-2025-01-31 17:21:22
CGHcall/-2025-01-31 17:21:22
CGHnormaliter/-2025-01-31 17:21:22
CGHregions/-2025-01-31 17:21:22
CHETAH/-2025-01-31 17:21:22
CHRONOS/-2025-01-31 17:21:23
CIMICE/-2025-01-31 17:21:23
CINdex/-2025-01-31 17:21:23
CMA/-2025-01-31 17:21:24
CNAnorm/-2025-01-31 17:21:24
CNEr/-2025-01-31 17:21:24
CNORdt/-2025-01-31 17:21:24
CNORfeeder/-2025-01-31 17:21:25
CNORfuzzy/-2025-01-31 17:21:25
CNORode/-2025-01-31 17:21:25
CNTools/-2025-01-31 17:21:25
CNVMetrics/-2025-01-31 17:21:25
CNVPanelizer/-2025-01-31 17:21:25
CNVRanger/-2025-01-31 17:21:25
CNVfilteR/-2025-01-31 17:21:25
CNViz/-2025-01-31 17:21:25
CNVrd2/-2025-01-31 17:21:25
COCOA/-2025-01-31 17:21:25
CODEX/-2025-01-31 17:21:25
COMPASS/-2025-01-31 17:21:25
CONFESS/-2025-01-31 17:21:26
CONSTANd/-2025-01-31 17:21:26
COSNet/-2025-01-31 17:21:27
COTAN/-2025-01-31 17:21:27
CRISPRball/-2025-01-31 17:21:27
CRISPRseek/-2025-01-31 17:21:27
CRImage/-2025-01-31 17:21:27
CSAR/-2025-01-31 17:21:27
CSSQ/-2025-01-31 17:21:28
CTDquerier/-2025-01-31 17:21:28
CTSV/-2025-01-31 17:21:28
CTdata/-2025-01-31 17:21:28
CTexploreR/-2025-01-31 17:21:28
CaDrA/-2025-01-31 17:21:20
CaMutQC/-2025-01-31 17:21:20
Cardinal/-2025-01-31 17:21:21
CardinalIO/-2025-01-31 17:21:21
Category/-2025-01-31 17:21:21
CatsCradle/-2025-01-31 17:21:21
CausalR/-2025-01-31 17:21:21
CeTF/-2025-01-31 17:21:22
CellBarcode/-2025-01-31 17:21:21
CellBench/-2025-01-31 17:21:21
CellMapper/-2025-01-31 17:21:21
CellMixS/-2025-01-31 17:21:22
CellNOptR/-2025-01-31 17:21:22
CellScore/-2025-01-31 17:21:22
CellTrails/-2025-01-31 17:21:22
CellaRepertorium/-2024-10-24 15:04:38
CelliD/-2025-01-31 17:21:21
Cepo/-2025-01-31 17:21:22
CexoR/-2025-01-31 17:21:22
ChAMP/-2025-01-31 17:21:22
ChIPComp/-2025-01-31 17:21:23
ChIPQC/-2025-01-31 17:21:23
ChIPXpress/-2025-01-31 17:21:23
ChIPanalyser/-2025-01-31 17:21:23
ChIPexoQual/-2025-01-31 17:21:23
ChIPpeakAnno/-2025-01-31 17:21:23
ChIPseeker/-2025-01-31 17:21:23
ChIPseqR/-2025-01-31 17:21:23
ChIPsim/-2025-01-31 17:21:23
ChemmineOB/-2025-01-31 17:21:22
ChemmineR/-2025-01-31 17:21:22
Chicago/-2025-01-31 17:21:22
ChromHeatMap/-2025-01-31 17:21:23
ChromSCape/-2025-01-31 17:21:23
CircSeqAlignTk/-2025-01-31 17:21:23
CiteFuse/-2025-01-31 17:21:23
ClassifyR/-2025-01-31 17:21:23
CleanUpRNAseq/-2025-01-31 17:21:23
Clomial/-2025-01-31 17:21:24
CluMSID/-2025-01-31 17:21:24
ClustAll/-2025-01-31 17:21:24
ClustIRR/-2025-01-31 17:21:24
ClusterFoldSimilarity/-2025-01-31 17:21:24
ClusterJudge/-2025-01-31 17:21:24
ClusterSignificance/-2025-01-31 17:21:24
CoCiteStats/-2025-01-31 17:21:25
CoGAPS/-2025-01-31 17:21:25
CoSIA/-2025-01-31 17:21:26
Cogito/-2025-01-31 17:21:25
ComPrAn/-2025-01-31 17:21:26
ComplexHeatmap/-2025-01-31 17:21:26
CompoundDb/-2025-01-31 17:21:26
ConsensusClusterPlus/-2025-01-31 17:21:26
CopyNumberPlots/-2025-01-31 17:21:26
CoreGx/-2025-01-31 17:21:26
Cormotif/-2025-01-31 17:21:26
CoverageView/-2025-01-31 17:21:27
CrispRVariants/-2025-01-31 17:21:27
CuratedAtlasQueryR/-2025-01-31 17:21:28
CyTOFpower/-2025-01-31 17:21:28
CytoDx/-2025-01-31 17:21:28
CytoGLMM/-2025-01-31 17:21:28
CytoMDS/-2025-01-31 17:21:28
CytoML/-2025-01-31 17:21:28
CytoPipeline/-2025-01-31 17:21:28
CytoPipelineGUI/-2025-01-31 17:21:29
DAMEfinder/-2025-01-31 17:21:29
DAPAR/-2025-01-31 17:21:29
DART/-2025-01-31 17:21:29
DCATS/-2025-01-31 17:21:29
DECIPHER/-2025-01-31 17:21:29
DEFormats/-2025-01-31 17:21:30
DEGraph/-2025-01-31 17:17:19
DEGreport/-2025-01-31 17:21:30
DEGseq/-2025-01-31 17:21:30
DELocal/-2025-01-31 17:21:30
DEP/-2025-01-31 17:21:30
DEScan2/-2025-01-31 17:21:31
DESeq2/-2025-01-31 17:21:31
DESpace/-2025-01-31 17:21:31
DEWSeq/-2025-01-31 17:21:31
DEXSeq/-2025-01-31 17:21:31
DEqMS/-2025-01-31 17:21:30
DEsingle/-2025-01-31 17:21:31
DEsubs/-2025-01-31 17:21:31
DExMA/-2025-01-31 17:21:31
DFP/-2025-01-31 17:21:31
DFplyr/-2025-01-31 17:21:31
DIAlignR/-2025-01-31 17:21:31
DMCFB/-2025-01-31 17:21:32
DMCHMM/-2025-01-31 17:21:32
DMRScan/-2025-01-31 17:21:32
DMRcaller/-2025-01-31 17:21:32
DMRcate/-2025-01-31 17:21:32
DNABarcodeCompatibility/-2025-01-31 17:21:32
DNABarcodes/-2025-01-31 17:21:32
DNAcopy/-2025-01-31 17:21:32
DNAfusion/-2025-01-31 17:21:32
DNAshapeR/-2025-01-31 17:21:32
DOSE/-2025-01-31 17:21:32
DRIMSeq/-2025-01-31 17:21:33
DSS/-2025-01-31 17:21:33
DTA/-2025-01-31 17:21:33
DaMiRseq/-2025-01-31 17:21:29
Damsel/-2025-01-31 17:21:29
DeMAND/-2025-01-31 17:21:30
DeMixT/-2025-01-31 17:21:30
DeProViR/-2025-01-31 17:21:30
DeconRNASeq/-2025-01-31 17:21:29
DeepPINCS/-2025-01-31 17:21:29
DeepTarget/-2025-01-31 17:21:30
DegCre/-2025-01-31 17:21:30
DegNorm/-2025-01-31 17:21:30
DelayedArray/-2025-01-31 17:21:30
DelayedDataFrame/-2025-01-31 17:21:30
DelayedMatrixStats/-2025-01-31 17:21:30
DelayedRandomArray/-2025-01-31 17:21:30
DelayedTensor/-2025-01-31 17:21:30
DepInfeR/-2025-01-31 17:21:30
DepecheR/-2025-01-31 17:21:30
DiffBind/-2025-01-31 17:21:31
DiffLogo/-2025-01-31 17:21:31
DifferentialRegulation/-2025-01-31 17:21:31
Dino/-2025-01-31 17:21:31
Director/-2025-01-31 17:21:31
DirichletMultinomial/-2025-01-31 17:21:32
DiscoRhythm/-2025-01-31 17:21:32
DominoEffect/-2025-01-31 17:21:32
Doscheda/-2025-01-31 17:21:32
DriverNet/-2025-01-31 17:21:33
DropletUtils/-2025-01-31 17:21:33
DrugVsDisease/-2025-01-31 17:21:33
Dune/-2025-01-31 17:21:33
DuplexDiscovereR/-2025-01-31 17:21:33
DynDoc/-2025-01-31 17:21:33
EBImage/-2025-01-31 17:21:33
EBSEA/-2025-01-31 17:21:33
EBSeq/-2025-01-31 17:21:33
EBarrays/-2025-01-31 17:21:33
EBcoexpress/-2025-01-31 17:21:33
EDASeq/-2025-01-31 17:21:33
EDIRquery/-2025-01-31 17:21:34
EGAD/-2025-01-31 17:21:34
EGSEA/-2025-01-31 17:21:34
ELMER/-2025-01-31 17:21:34
EMDomics/-2025-01-31 17:21:34
ENmix/-2025-01-31 17:21:34
ERSSA/-2025-01-31 17:21:35
EWCE/-2025-01-31 17:21:35
EasyCellType/-2025-01-31 17:21:33
EmpiricalBrownsMethod/-2025-01-31 17:21:34
EnMCB/-2025-01-31 17:21:34
EnhancedVolcano/-2025-01-31 17:21:34
EnrichDO/-2025-01-31 17:21:34
EnrichedHeatmap/-2025-01-31 17:21:34
EnrichmentBrowser/-2025-01-31 17:21:34
EpiCompare/-2025-01-31 17:21:34
EpiDISH/-2025-01-31 17:21:34
EpiMix/-2025-01-31 17:21:34
EpiTxDb/-2025-01-31 17:21:35
EpipwR/-2025-01-31 17:21:35
EventPointer/-2025-01-31 17:21:35
ExCluster/-2025-01-31 17:21:35
ExiMiR/-2025-01-31 17:21:35
ExperimentHub/-2025-01-31 17:21:35
ExperimentHubData/-2025-01-31 17:21:36
ExperimentSubset/-2025-01-31 17:21:36
ExploreModelMatrix/-2025-01-31 17:21:36
ExpressionAtlas/-2025-01-31 17:21:36
FEAST/-2025-01-31 17:21:36
FELLA/-2025-01-31 17:21:36
FGNet/-2025-01-31 17:21:37
FISHalyseR/-2025-01-31 17:21:37
FLAMES/-2025-01-31 17:21:37
FRASER/-2025-01-31 17:21:38
FRGEpistasis/-2025-01-31 17:21:38
FamAgg/-2025-01-31 17:21:36
FastqCleaner/-2025-01-31 17:21:36
FeatSeekR/-2025-01-31 17:21:36
FilterFFPE/-2025-01-31 17:21:37
FindIT2/-2025-01-31 17:21:37
FitHiC/-2025-01-31 17:21:37
FlowSOM/-2025-01-31 17:21:38
FuseSOM/-2025-01-31 17:21:38
G4SNVHunter/-2025-01-31 17:21:38
GA4GHclient/-2025-01-31 17:21:38
GA4GHshiny/-2025-01-31 17:21:38
GARS/-2025-01-31 17:21:39
GAprediction/-2025-01-31 17:21:39
GBScleanR/-2025-01-31 17:21:39
GDCRNATools/-2025-01-31 17:21:39
GDSArray/-2025-01-31 17:21:39
GEM/-2025-01-31 17:21:39
GENESIS/-2025-01-31 17:21:40
GENIE3/-2025-01-31 17:21:40
GEOexplorer/-2025-01-31 17:21:41
GEOfastq/-2025-01-31 17:21:41
GEOmetadb/-2025-01-31 17:21:41
GEOquery/-2025-01-31 17:21:41
GEOsubmission/-2025-01-31 17:21:41
GEWIST/-2025-01-31 17:21:42
GGPA/-2025-01-31 17:21:42
GIGSEA/-2025-01-31 17:21:42
GLAD/-2025-01-31 17:21:42
GMRP/-2025-01-31 17:21:43
GNET2/-2025-01-31 17:21:43
GNOSIS/-2025-01-31 17:21:43
GOSemSim/-2025-01-31 17:21:43
GOTHiC/-2025-01-31 17:21:43
GOexpress/-2025-01-31 17:21:43
GOfuncR/-2025-01-31 17:21:43
GOpro/-2025-01-31 17:21:43
GOstats/-2025-01-31 17:21:43
GPA/-2025-01-31 17:21:43
GRENITS/-2025-01-31 17:21:44
GRaNIE/-2025-01-31 17:21:43
GRmetrics/-2025-01-31 17:21:44
GSALightning/-2025-01-31 17:21:44
GSAR/-2025-01-31 17:21:44
GSCA/-2025-01-31 17:21:44
GSEABase/-2025-01-31 17:21:44
GSEABenchmarkeR/-2025-01-31 17:21:44
GSEAlm/-2025-01-31 17:21:44
GSEAmining/-2025-01-31 17:21:44
GSRI/-2025-01-31 17:21:44
GSReg/-2025-01-31 17:21:44
GSVA/-2025-01-31 17:21:44
GSgalgoR/-2025-01-31 17:21:44
GUIDEseq/-2025-01-31 17:21:44
GWAS.BAYES/-2025-01-31 17:21:45
GWASTools/-2025-01-31 17:21:45
GWENA/-2025-01-31 17:21:45
GateFinder/-2025-01-31 17:21:39
GeDi/-2025-01-31 17:21:39
GenProSeq/-2025-01-31 17:21:41
GenVisR/-2025-01-31 17:21:41
GeneBreak/-2025-01-31 17:21:39
GeneExpressionSignature/-2025-01-31 17:21:40
GeneGA/-2025-01-31 17:21:40
GeneGeneInteR/-2025-01-31 17:21:40
GeneMeta/-2025-01-31 17:21:40
GeneNetworkBuilder/-2025-01-31 17:21:40
GeneOverlap/-2025-01-31 17:21:40
GeneRegionScan/-2025-01-31 17:21:40
GeneSelectMMD/-2025-01-31 17:21:40
GeneStructureTools/-2025-01-31 17:21:40
GeneTonic/-2025-01-31 17:21:40
GeneticsPed/-2025-01-31 17:21:40
GenomAutomorphism/-2025-01-31 17:21:40
GenomeInfoDb/-2025-01-31 17:21:40
GenomicAlignments/-2025-01-31 17:21:40
GenomicDataCommons/-2025-01-31 17:21:41
GenomicDistributions/-2025-01-31 17:21:41
GenomicFeatures/-2025-01-31 17:21:41
GenomicFiles/-2025-01-31 17:21:41
GenomicInteractionNodes/-2025-01-31 17:21:41
GenomicInteractions/-2025-01-31 17:21:41
GenomicOZone/-2025-01-31 17:21:41
GenomicPlot/-2025-01-31 17:21:41
GenomicRanges/-2025-01-31 17:21:41
GenomicScores/-2025-01-31 17:21:41
GenomicSuperSignature/-2025-01-31 17:21:41
GenomicTuples/-2025-01-31 17:21:41
GeoDiff/-2025-01-31 17:21:41
GeoTcgaData/-2025-01-31 17:21:41
GeomxTools/-2025-01-31 17:21:41
GladiaTOX/-2025-01-31 17:21:42
Glimma/-2025-01-31 17:21:42
GloScope/-2025-01-31 17:21:43
GlobalAncova/-2025-01-31 17:21:43
GmicR/-2025-01-31 17:21:43
GrafGen/-2025-01-31 17:21:43
GraphAT/-2025-01-31 17:21:44
GraphAlignment/-2025-01-31 17:21:44
GraphPAC/-2025-01-31 17:21:44
GreyListChIP/-2025-01-31 17:21:44
Guitar/-2025-01-31 17:21:45
Gviz/-2025-01-31 17:21:45
HDF5Array/-2025-01-31 17:21:45
HDTD/-2025-01-31 17:21:45
HELP/-2025-01-31 17:21:45
HEM/-2025-01-31 17:21:45
HERON/-2025-01-31 17:21:45
HGC/-2025-01-31 17:21:45
HIBAG/-2025-01-31 17:21:46
HIPPO/-2025-01-31 17:21:46
HIREewas/-2025-01-31 17:21:46
HMMcopy/-2025-01-31 17:21:46
HPAanalyze/-2025-01-31 17:21:46
HPiP/-2025-01-31 17:21:47
HTSFilter/-2025-01-31 17:21:47
HTSeqGenie/-2025-01-31 17:17:32
HTqPCR/-2024-10-24 15:04:40
Harman/-2025-01-31 17:21:45
HarmonizR/-2025-01-31 17:21:45
Harshlight/-2025-01-31 17:21:45
Heatplus/-2025-01-31 17:21:45
HelloRanges/-2025-01-31 17:21:45
Herper/-2025-01-31 17:21:45
HiCBricks/-2025-01-31 17:21:46
HiCDCPlus/-2025-01-31 17:21:46
HiCDOC/-2025-01-31 17:21:46
HiCExperiment/-2025-01-31 17:21:46
HiCcompare/-2025-01-31 17:21:46
HiContacts/-2025-01-31 17:21:46
HiCool/-2025-01-31 17:21:46
HiLDA/-2025-01-31 17:21:46
HiTC/-2025-01-31 17:21:46
HicAggR/-2025-01-31 17:21:46
HilbertCurve/-2025-01-31 17:21:46
HilbertVis/-2025-01-31 17:21:46
HilbertVisGUI/-2025-01-31 17:17:32
HoloFoodR/-2025-01-31 17:21:46
HuBMAPR/-2025-01-31 17:21:47
HubPub/-2025-01-31 17:21:47
HybridExpress/-2025-01-31 17:21:47
HybridMTest/-2025-01-31 17:21:47
IFAA/-2025-01-31 17:21:48
IHW/-2025-01-31 17:21:48
ILoReg/-2025-01-31 17:21:48
IMAS/-2025-01-31 17:21:48
IMMAN/-2025-01-31 17:21:48
IMPCdata/-2025-01-31 17:21:48
INDEED/-2025-01-31 17:21:48
INPower/-2025-01-31 17:21:49
INSPEcT/-2025-01-31 17:21:49
INTACT/-2025-01-31 17:21:49
IONiseR/-2025-01-31 17:21:49
IPO/-2025-01-31 17:21:49
IRanges/-2025-01-31 17:21:49
ISAnalytics/-2025-01-31 17:21:49
ISLET/-2025-01-31 17:21:50
ISoLDE/-2025-01-31 17:21:50
ITALICS/-2025-01-31 17:21:50
IVAS/-2025-01-31 17:21:50
IWTomics/-2025-01-31 17:21:50
Icens/-2025-01-31 17:21:47
IdeoViz/-2025-01-31 17:21:48
IgGeneUsage/-2025-01-31 17:21:48
InPAS/-2025-01-31 17:21:49
InTAD/-2025-01-31 17:21:49
Informeasure/-2025-01-31 17:21:49
IntEREst/-2025-01-31 17:21:49
InterCellar/-2025-01-31 17:21:49
InteractionSet/-2025-01-31 17:21:49
InteractiveComplexHeatmap/-2025-01-31 17:21:49
IntramiRExploreR/-2025-01-31 17:21:49
IsoBayes/-2025-01-31 17:21:50
IsoCorrectoR/-2025-01-31 17:21:50
IsoCorrectoRGUI/-2025-01-31 17:21:50
IsoformSwitchAnalyzeR/-2025-01-31 17:21:50
KBoost/-2025-01-31 17:21:51
KCsmart/-2025-01-31 17:21:51
KEGGREST/-2025-01-31 17:21:51
KEGGgraph/-2025-01-31 17:21:51
KEGGlincs/-2025-01-31 17:21:51
KinSwingR/-2025-01-31 17:21:51
KnowSeq/-2025-01-31 17:21:51
LACE/-2025-01-31 17:21:51
LBE/-2025-01-31 17:21:51
LEA/-2025-01-31 17:21:51
LOBSTAHS/-2025-01-31 17:21:52
LOLA/-2025-01-31 17:21:52
LPE/-2025-01-31 17:21:52
LRBaseDbi/-2025-01-31 17:21:53
LRcell/-2025-01-31 17:21:53
LedPred/-2025-01-31 17:21:51
LimROTS/-2025-01-31 17:21:52
LinTInd/-2025-01-31 17:21:52
LinkHD/-2025-01-31 17:21:52
Linnorm/-2025-01-31 17:21:52
LiquidAssociation/-2025-01-31 17:21:52
LoomExperiment/-2025-01-31 17:21:52
LymphoSeq/-2025-01-31 17:21:53
M3C/-2025-01-31 17:21:53
M3Drop/-2025-01-31 17:21:53
MACSQuantifyR/-2025-01-31 17:21:53
MACSr/-2025-01-31 17:21:53
MADSEQ/-2025-01-31 17:21:53
MAGAR/-2025-01-31 17:21:53
MAGeCKFlute/-2025-01-31 17:21:53
MAI/-2025-01-31 17:21:53
MAIT/-2025-01-31 17:21:53
MANOR/-2025-01-31 17:21:53
MAPFX/-2025-01-31 17:21:54
MAST/-2025-01-31 17:21:54
MBASED/-2025-01-31 17:21:54
MBAmethyl/-2025-01-31 17:21:54
MBCB/-2025-01-31 17:21:54
MBECS/-2025-01-31 17:21:54
MBQN/-2025-01-31 17:21:55
MBttest/-2025-01-31 17:21:55
MCbiclust/-2025-01-31 17:21:55
MDTS/-2025-01-31 17:21:55
MEAL/-2025-01-31 17:21:55
MEAT/-2025-01-31 17:21:55
MEB/-2025-01-31 17:21:55
MEDIPS/-2025-01-31 17:21:55
MEDME/-2025-01-31 17:21:55
MEIGOR/-2025-01-31 17:21:55
MGFM/-2025-01-31 17:21:57
MGFR/-2025-01-31 17:21:57
MGnifyR/-2025-01-31 17:21:57
MICSQTL/-2025-01-31 17:21:58
MIRA/-2025-01-31 17:21:58
MIRit/-2025-01-31 17:21:59
MLInterfaces/-2025-01-31 17:21:59
MLP/-2025-01-31 17:21:59
MLSeq/-2025-01-31 17:21:59
MMDiff2/-2025-01-31 17:21:59
MMUPHin/-2025-01-31 17:21:59
MODA/-2025-01-31 17:21:59
MOFA2/-2025-01-31 17:22:00
MOGAMUN/-2025-01-31 17:22:00
MOMA/-2025-01-31 17:22:00
MOSClip/-2025-01-31 17:22:00
MOSim/-2025-01-31 17:22:00
MPAC/-2025-01-31 17:22:00
MPFE/-2025-01-31 17:22:00
MPRAnalyze/-2025-01-31 17:22:01
MQmetrics/-2024-10-24 15:04:41
MSA2dist/-2025-01-31 17:22:01
MSPrep/-2025-01-31 17:22:01
MSnID/-2025-01-31 17:22:01
MSnbase/-2025-01-31 17:22:01
MSstats/-2025-01-31 17:22:02
MSstatsBig/-2025-01-31 17:22:02
MSstatsConvert/-2025-01-31 17:22:02
MSstatsLOBD/-2025-01-31 17:22:02
MSstatsLiP/-2025-01-31 17:22:02
MSstatsPTM/-2025-01-31 17:22:02
MSstatsQC/-2025-01-31 17:22:02
MSstatsQCgui/-2025-01-31 17:22:02
MSstatsShiny/-2025-01-31 17:22:02
MSstatsTMT/-2025-01-31 17:22:02
MVCClass/-2025-01-31 17:22:03
MWASTools/-2025-01-31 17:22:03
Maaslin2/-2025-01-31 17:21:53
Macarron/-2025-01-31 17:21:53
MantelCorr/-2025-01-31 17:21:53
MassArray/-2025-01-31 17:21:54
MassSpecWavelet/-2025-01-31 17:21:54
MatrixGenerics/-2025-01-31 17:21:54
MatrixQCvis/-2025-01-31 17:21:54
MatrixRider/-2025-01-31 17:21:54
MeSHDbi/-2025-01-31 17:21:55
MeasurementError.cor/-2025-01-31 17:21:55
Melissa/-2025-01-31 17:21:55
Mergeomics/-2025-01-31 17:21:55
MesKit/-2025-01-31 17:21:55
MetCirc/-2025-01-31 17:21:56
MetID/-2025-01-31 17:21:57
MetMashR/-2025-01-31 17:21:57
MetNet/-2025-01-31 17:21:57
MetaCyto/-2025-01-31 17:21:56
MetaNeighbor/-2025-01-31 17:21:56
MetaPhOR/-2025-01-31 17:21:56
MetaboAnnotation/-2025-01-31 17:21:56
MetaboCoreUtils/-2025-01-31 17:21:56
MetaboSignal/-2025-01-31 17:21:56
MethPed/-2025-01-31 17:21:56
MethReg/-2025-01-31 17:21:56
MethTargetedNGS/-2025-01-31 17:21:57
MethylAid/-2025-01-31 17:21:57
MethylMix/-2025-01-31 17:21:57
MethylSeekR/-2025-01-31 17:21:57
Mfuzz/-2025-01-31 17:21:57
MiChip/-2025-01-31 17:21:58
MiPP/-2025-01-31 17:21:58
MiRaGE/-2025-01-31 17:21:58
MicrobiomeProfiler/-2025-01-31 17:21:58
MicrobiotaProcess/-2025-01-31 17:21:58
MineICA/-2025-01-31 17:21:58
MinimumDistance/-2025-01-31 17:21:58
ModCon/-2025-01-31 17:21:59
Modstrings/-2025-01-31 17:22:00
MoleculeExperiment/-2025-01-31 17:22:00
Moonlight2R/-2025-01-31 17:22:00
MoonlightR/-2025-01-31 17:22:00
Motif2Site/-2025-01-31 17:22:00
MotifDb/-2025-01-31 17:22:00
MotifPeeker/-2025-01-31 17:22:00
MouseFM/-2025-01-31 17:22:00
MsBackendMassbank/-2025-01-31 17:22:01
MsBackendMetaboLights/-2025-01-31 17:22:01
MsBackendMgf/-2025-01-31 17:22:01
MsBackendMsp/-2025-01-31 17:22:01
MsBackendRawFileReader/-2025-01-31 17:22:01
MsBackendSql/-2025-01-31 17:22:01
MsCoreUtils/-2025-01-31 17:22:01
MsDataHub/-2025-01-31 17:22:01
MsExperiment/-2025-01-31 17:22:01
MsFeatures/-2025-01-31 17:22:01
MsQuality/-2025-01-31 17:22:02
MuData/-2025-01-31 17:22:02
Mulcom/-2025-01-31 17:22:02
MultiAssayExperiment/-2025-01-31 17:22:02
MultiBaC/-2025-01-31 17:22:02
MultiDataSet/-2025-01-31 17:22:02
MultiMed/-2025-01-31 17:22:02
MultiRNAflow/-2025-01-31 17:22:03
MultimodalExperiment/-2025-01-31 17:22:03
MungeSumstats/-2025-01-31 17:22:03
MutationalPatterns/-2025-01-31 17:22:03
NADfinder/-2025-01-31 17:22:03
NBAMSeq/-2025-01-31 17:22:04
NCIgraph/-2025-01-31 17:17:46
NOISeq/-2025-01-31 17:22:04
NPARC/-2025-01-31 17:22:05
NTW/-2025-01-31 17:22:05
NanoMethViz/-2025-01-31 17:22:03
NanoStringDiff/-2025-01-31 17:22:03
NanoStringNCTools/-2025-01-31 17:22:03
NanoTube/-2025-01-31 17:22:03
Nebulosa/-2025-01-31 17:22:04
NetActivity/-2025-01-31 17:22:04
NetPathMiner/-2025-01-31 17:22:04
NetSAM/-2025-01-31 17:22:04
NeuCA/-2025-01-31 17:22:04
NewWave/-2025-01-31 17:22:04
NoRCE/-2025-01-31 17:22:04
NormalyzerDE/-2025-01-31 17:22:05
NormqPCR/-2025-01-31 17:22:05
NuPoP/-2025-01-31 17:22:05
OCplus/-2025-01-31 17:22:05
OGRE/-2025-01-31 17:22:05
OLIN/-2025-01-31 17:22:05
OLINgui/-2025-01-31 17:22:05
OMICsPCA/-2025-01-31 17:22:06
OPWeight/-2025-01-31 17:22:06
ORFhunteR/-2025-01-31 17:22:07
ORFik/-2025-01-31 17:22:07
OSAT/-2025-01-31 17:22:07
OTUbase/-2025-01-31 17:22:07
OUTRIDER/-2025-01-31 17:22:07
OVESEG/-2025-01-31 17:22:07
OmaDB/-2025-01-31 17:22:05
OmicCircos/-2025-01-31 17:22:06
OmicsMLRepoR/-2025-01-31 17:22:06
Omixer/-2025-01-31 17:22:06
OmnipathR/-2025-01-31 17:22:06
OncoScore/-2025-01-31 17:22:06
OncoSimulR/-2025-01-31 17:20:37
OpenStats/-2025-01-31 17:22:06
OrderedList/-2025-01-31 17:22:06
Organism.dplyr/-2025-01-31 17:22:07
OrganismDbi/-2025-01-31 17:22:07
Oscope/-2025-01-31 17:22:07
OutSplice/-2025-01-31 17:22:07
PAA/-2025-01-31 17:22:07
PADOG/-2025-01-31 17:22:07
PAIRADISE/-2025-01-31 17:22:07
PANR/-2025-01-31 17:22:08
PAST/-2025-01-31 17:22:08
PCAN/-2025-01-31 17:22:08
PCAtools/-2025-01-31 17:22:08
PDATK/-2025-01-31 17:22:08
PECA/-2025-01-31 17:22:09
PICS/-2025-01-31 17:22:10
PING/-2025-01-31 17:22:10
PIPETS/-2025-01-31 17:22:10
PIUMA/-2025-01-31 17:22:10
PLPE/-2025-01-31 17:22:10
PLSDAbatch/-2025-01-31 17:22:10
POMA/-2025-01-31 17:22:11
POWSC/-2025-01-31 17:22:11
PPInfer/-2025-01-31 17:22:11
PREDA/-2025-01-31 17:22:11
PROMISE/-2025-01-31 17:22:12
PRONE/-2025-01-31 17:22:12
PROPER/-2025-01-31 17:22:12
PROPS/-2025-01-31 17:22:12
PROcess/-2025-01-31 17:22:11
PSMatch/-2025-01-31 17:22:12
PWMEnrich/-2025-01-31 17:22:13
PanViz/-2025-01-31 17:22:08
PanomiR/-2025-01-31 17:22:08
Path2PPI/-2025-01-31 17:22:08
PathNet/-2025-01-31 17:22:08
PathoStat/-2025-01-31 17:22:08
PeacoQC/-2025-01-31 17:22:09
Pedixplorer/-2025-01-31 17:22:09
PepSetTest/-2025-01-31 17:22:09
PepsNMR/-2025-01-31 17:22:09
PhIPData/-2025-01-31 17:22:09
PharmacoGx/-2025-01-31 17:22:09
PhenStat/-2025-01-31 17:22:09
PhenoGeneRanker/-2025-01-31 17:22:09
PhosR/-2025-01-31 17:22:10
PhyloProfile/-2025-01-31 17:22:10
Pi/-2024-10-24 15:04:42
Pigengene/-2025-01-31 17:22:10
Pirat/-2025-01-31 17:22:10
PoDCall/-2025-01-31 17:22:11
PolySTest/-2025-01-31 17:22:11
Polytect/-2025-01-31 17:22:11
PrInCE/-2025-01-31 17:22:11
Prostar/-2025-01-31 17:22:12
ProtGenerics/-2025-01-31 17:22:12
ProteoDisco/-2025-01-31 17:22:12
ProteoMM/-2025-01-31 17:22:12
PureCN/-2025-01-31 17:22:12
Pviz/-2025-01-31 17:22:12
QDNAseq/-2025-01-31 17:22:13
QFeatures/-2025-01-31 17:22:13
QSutils/-2025-01-31 17:22:13
QTLExperiment/-2025-01-31 17:22:13
QUBIC/-2025-01-31 17:22:13
Qtlizer/-2025-01-31 17:22:13
QuartPAC/-2025-01-31 17:22:13
QuasR/-2025-01-31 17:22:13
QuaternaryProd/-2025-01-31 17:22:13
R3CPET/-2025-01-31 17:19:15
R453Plus1Toolbox/-2025-01-31 17:22:14
R4RNA/-2025-01-31 17:22:14
RAIDS/-2025-01-31 17:22:14
RAREsim/-2025-01-31 17:22:14
RBGL/-2025-01-31 17:22:14
RBM/-2025-01-31 17:22:14
RBioFormats/-2025-01-31 17:22:14
RBioinf/-2025-01-31 17:22:14
RCAS/-2025-01-31 17:22:15
RCASPAR/-2025-01-31 17:22:15
RCM/-2025-01-31 17:22:15
RCSL/-2025-01-31 17:22:15
RCX/-2025-01-31 17:22:15
RCy3/-2025-01-31 17:22:15
RCyjs/-2025-01-31 17:22:15
RDRToolbox/-2025-01-31 17:22:15
REBET/-2025-01-31 17:22:16
REDseq/-2025-01-31 17:22:16
REMP/-2025-01-31 17:22:16
RESOLVE/-2025-01-31 17:22:17
RGMQL/-2025-01-31 17:19:20
RGSEA/-2025-01-31 17:22:17
RGraph2js/-2025-01-31 17:22:17
RITAN/-2025-01-31 17:22:18
RIVER/-2025-01-31 17:22:18
RImmPort/-2025-01-31 17:22:18
RJMCMCNucleosomes/-2025-01-31 17:22:18
RLMM/-2025-01-31 17:22:18
RLassoCox/-2025-01-31 17:22:18
RMassBank/-2025-01-31 17:22:18
RNAAgeCalc/-2025-01-31 17:22:18
RNASeqPower/-2025-01-31 17:22:19
RNAdecay/-2025-01-31 17:22:18
RNAinteract/-2024-10-24 15:04:43
RNAmodR/-2025-01-31 17:22:18
RNAmodR.AlkAnilineSeq/-2025-01-31 17:22:18
RNAmodR.ML/-2025-01-31 17:22:19
RNAmodR.RiboMethSeq/-2025-01-31 17:22:19
RNAsense/-2025-01-31 17:22:19
RNAseqCovarImpute/-2025-01-31 17:22:19
ROC/-2025-01-31 17:22:19
ROCpAI/-2025-01-31 17:22:19
ROSeq/-2025-01-31 17:22:19
ROTS/-2025-01-31 17:22:19
ROntoTools/-2025-01-31 17:22:19
RPA/-2025-01-31 17:22:19
RProtoBufLib/-2025-01-31 17:22:19
RRHO/-2025-01-31 17:22:20
RSVSim/-2025-01-31 17:22:20
RSeqAn/-2025-01-31 17:22:20
RTCA/-2025-01-31 17:22:20
RTCGA/-2025-01-31 17:22:20
RTCGAToolbox/-2025-01-31 17:22:20
RTN/-2025-01-31 17:22:20
RTNduals/-2025-01-31 17:22:20
RTNsurvival/-2025-01-31 17:22:20
RTopper/-2025-01-31 17:22:20
RUVSeq/-2025-01-31 17:22:21
RUVcorr/-2025-01-31 17:22:21
RUVnormalize/-2025-01-31 17:22:21
RVS/-2025-01-31 17:22:21
RadioGx/-2025-01-31 17:22:14
RaggedExperiment/-2025-01-31 17:22:14
RandomWalkRestartMH/-2024-10-24 15:04:42
RankProd/-2025-01-31 17:22:14
RareVariantVis/-2025-01-31 17:22:14
Rarr/-2025-01-31 17:22:14
RbcBook1/-2025-01-31 17:22:14
Rbec/-2025-01-31 17:22:14
Rbowtie/-2025-01-31 17:22:15
Rbowtie2/-2025-01-31 17:22:15
Rbwa/-2025-01-31 17:22:15
RcisTarget/-2025-01-31 17:22:15
Rcollectl/-2025-01-31 17:17:55
Rcpi/-2025-01-31 17:22:15
Rcwl/-2025-01-31 17:22:15
RcwlPipelines/-2025-01-31 17:22:15
Rdisop/-2025-01-31 17:22:15
ReUseData/-2025-01-31 17:22:17
ReactomeContentService4R/-2025-01-31 17:22:15
ReactomeGSA/-2025-01-31 17:22:15
ReactomeGraph4R/-2025-01-31 17:22:15
ReactomePA/-2025-01-31 17:22:15
ReadqPCR/-2025-01-31 17:22:16
RedeR/-2025-01-31 17:22:16
RedisParam/-2025-01-31 17:22:16
ReducedExperiment/-2025-01-31 17:22:16
RegEnrich/-2025-01-31 17:22:16
RegionalST/-2025-01-31 17:22:16
RepViz/-2025-01-31 17:22:16
Repitools/-2025-01-31 17:22:16
ReportingTools/-2025-01-31 17:22:16
ResidualMatrix/-2025-01-31 17:22:17
Rfastp/-2025-01-31 17:22:17
RgnTX/-2025-01-31 17:22:17
Rgraphviz/-2025-01-31 17:22:17
Rhdf5lib/-2025-01-31 17:22:17
Rhisat2/-2025-01-31 17:22:17
Rhtslib/-2025-01-31 17:22:17
RiboCrypt/-2025-01-31 17:22:17
RiboDiPA/-2025-01-31 17:22:18
RiboProfiling/-2025-01-31 17:22:18
Risa/-2024-10-24 15:04:43
Rmagpie/-2025-01-31 17:22:18
Rmmquant/-2025-01-31 17:22:18
RnBeads/-2025-01-31 17:22:19
RnaSeqSampleSize/-2025-01-31 17:22:19
Rnits/-2025-01-31 17:22:19
RolDE/-2025-01-31 17:22:19
Rqc/-2025-01-31 17:22:20
Rsamtools/-2025-01-31 17:22:20
Rsubread/-2025-01-31 17:22:20
Rtpca/-2025-01-31 17:22:20
Rtreemix/-2025-01-31 17:22:20
Rvisdiff/-2025-01-31 17:22:21
S4Arrays/-2025-01-31 17:22:21
S4Vectors/-2025-01-31 17:22:21
SAIGEgds/-2025-01-31 17:22:21
SANTA/-2025-01-31 17:22:21
SARC/-2025-01-31 17:22:21
SBGNview/-2025-01-31 17:22:21
SBMLR/-2025-01-31 17:22:22
SC3/-2025-01-31 17:22:22
SCAN.UPC/-2025-01-31 17:22:22
SCANVIS/-2025-01-31 17:22:22
SCArray/-2025-01-31 17:22:22
SCArray.sat/-2025-01-31 17:22:22
SCBN/-2025-01-31 17:22:22
SCFA/-2025-01-31 17:22:23
SCOPE/-2025-01-31 17:22:24
SCnorm/-2025-01-31 17:22:24
SDAMS/-2025-01-31 17:22:25
SELEX/-2025-01-31 17:22:25
SEtools/-2025-01-31 17:22:26
SGCP/-2025-01-31 17:22:26
SGSeq/-2025-01-31 17:22:26
SIAMCAT/-2025-01-31 17:22:26
SICtools/-2025-01-31 17:22:26
SIM/-2025-01-31 17:22:27
SIMAT/-2025-01-31 17:22:27
SIMD/-2025-01-31 17:22:27
SIMLR/-2025-01-31 17:22:27
SLqPCR/-2025-01-31 17:22:28
SMAD/-2025-01-31 17:22:28
SMITE/-2025-01-31 17:22:28
SNAGEE/-2025-01-31 17:22:28
SNPRelate/-2025-01-31 17:22:29
SNPediaR/-2025-01-31 17:22:28
SNPhood/-2025-01-31 17:22:29
SOMNiBUS/-2025-01-31 17:22:29
SPEM/-2025-01-31 17:22:30
SPIA/-2025-01-31 17:22:30
SPIAT/-2025-01-31 17:22:30
SPLINTER/-2025-01-31 17:22:31
SPONGE/-2025-01-31 17:22:31
SPOTlight/-2025-01-31 17:22:31
SPsimSeq/-2025-01-31 17:22:31
SQLDataFrame/-2025-01-31 17:22:31
SRAdb/-2025-01-31 17:22:31
STATegRa/-2025-01-31 17:22:32
STRINGdb/-2025-01-31 17:22:32
STdeconvolve/-2025-01-31 17:22:32
SUITOR/-2025-01-31 17:22:32
SVMDO/-2025-01-31 17:22:33
SWATH2stats/-2025-01-31 17:22:33
SamSPECTRAL/-2025-01-31 17:22:21
Scale4C/-2025-01-31 17:22:22
ScaledMatrix/-2025-01-31 17:22:22
Sconify/-2025-01-31 17:22:24
ScreenR/-2025-01-31 17:22:24
SemDist/-2025-01-31 17:22:25
SeqArray/-2025-01-31 17:22:25
SeqGSEA/-2025-01-31 17:22:26
SeqGate/-2025-01-31 17:22:25
SeqSQC/-2025-01-31 17:22:26
SeqVarTools/-2025-01-31 17:22:26
SharedObject/-2025-01-31 17:22:26
ShortRead/-2025-01-31 17:22:26
SiPSiC/-2025-01-31 17:22:28
SigCheck/-2025-01-31 17:22:26
SigFuge/-2025-01-31 17:22:26
SigsPack/-2025-01-31 17:22:27
SimBu/-2025-01-31 17:22:27
SimFFPE/-2025-01-31 17:22:27
SingleCellAlleleExperiment/-2025-01-31 17:22:27
SingleCellExperiment/-2025-01-31 17:22:27
SingleCellSignalR/-2025-01-31 17:22:27
SingleMoleculeFootprinting/-2025-01-31 17:22:28
SingleR/-2025-01-31 17:22:28
SomaticSignatures/-2025-01-31 17:22:29
SpaNorm/-2025-01-31 17:22:29
SpaceMarkers/-2025-01-31 17:22:29
SpacePAC/-2025-01-31 17:22:29
Spaniel/-2025-01-31 17:22:29
SparseArray/-2025-01-31 17:22:29
SparseSignatures/-2025-01-31 17:22:29
SpatialCPie/-2025-01-31 17:22:29
SpatialDecon/-2025-01-31 17:22:29
SpatialExperiment/-2025-01-31 17:22:29
SpatialExperimentIO/-2025-01-31 17:22:29
SpatialFeatureExperiment/-2025-01-31 17:22:30
SpatialOmicsOverlay/-2025-01-31 17:22:30
SpeCond/-2025-01-31 17:22:30
Spectra/-2025-01-31 17:22:30
SpectraQL/-2025-01-31 17:22:30
SpectralTAD/-2025-01-31 17:22:30
SpliceWiz/-2025-01-31 17:22:30
SplicingFactory/-2025-01-31 17:22:30
SplicingGraphs/-2025-01-31 17:22:30
SplineDV/-2025-01-31 17:22:31
SpotClean/-2025-01-31 17:22:31
SpotSweeper/-2025-01-31 17:22:31
StabMap/-2025-01-31 17:22:32
Statial/-2025-01-31 17:22:32
Streamer/-2025-01-31 17:22:32
Structstrings/-2025-01-31 17:22:32
StructuralVariantAnnotation/-2025-01-31 17:22:32
SubCellBarCode/-2025-01-31 17:22:32
SummarizedBenchmark/-2024-10-24 15:04:43
SummarizedExperiment/-2025-01-31 17:22:32
Summix/-2025-01-31 17:22:32
SurfR/-2025-01-31 17:22:33
SwathXtend/-2025-01-31 17:22:33
SynExtend/-2025-01-31 17:22:33
SynMut/-2025-01-31 17:22:33
TADCompare/-2025-01-31 17:22:34
TAPseq/-2025-01-31 17:22:34
TBSignatureProfiler/-2025-01-31 17:22:34
TCC/-2025-01-31 17:22:34
TCGAbiolinks/-2025-01-31 17:22:34
TCGAutils/-2025-01-31 17:22:34
TCseq/-2025-01-31 17:22:34
TDbasedUFE/-2025-01-31 17:22:34
TDbasedUFEadv/-2025-01-31 17:22:34
TEKRABber/-2025-01-31 17:22:34
TENxIO/-2025-01-31 17:22:34
TEQC/-2025-01-31 17:22:34
TFARM/-2025-01-31 17:22:34
TFBSTools/-2025-01-31 17:22:35
TFEA.ChIP/-2025-01-31 17:22:35
TFHAZ/-2025-01-31 17:22:35
TFutils/-2025-01-31 17:22:35
TIN/-2025-01-31 17:22:35
TMSig/-2025-01-31 17:22:36
TMixClust/-2025-01-31 17:22:36
TOAST/-2025-01-31 17:22:36
TOP/-2025-01-31 17:22:36
TPP/-2025-01-31 17:22:36
TPP2D/-2025-01-31 17:22:36
TREG/-2025-01-31 17:22:37
TRESS/-2025-01-31 17:22:37
TRONCO/-2025-01-31 17:22:38
TSAR/-2025-01-31 17:22:38
TSCAN/-2025-01-31 17:22:38
TTMap/-2025-01-31 17:22:38
TVTB/-2025-01-31 17:22:38
TargetDecoy/-2025-01-31 17:22:34
TargetScore/-2025-01-31 17:22:34
TargetSearch/-2025-01-31 17:22:34
TileDBArray/-2025-01-31 17:22:35
TissueEnrich/-2025-01-31 17:22:35
TitanCNA/-2025-01-31 17:22:35
TnT/-2025-01-31 17:22:36
ToxicoGx/-2025-01-31 17:22:36
TrIdent/-2025-01-31 17:22:37
TrajectoryGeometry/-2025-01-31 17:22:36
TrajectoryUtils/-2025-01-31 17:22:36
TransView/-2025-01-31 17:22:37
TreeAndLeaf/-2025-01-31 17:22:37
TreeSummarizedExperiment/-2025-01-31 17:22:37
Trendy/-2025-01-31 17:22:37
TurboNorm/-2025-01-31 17:22:38
TypeInfo/-2025-01-31 17:22:38
UCSC.utils/-2025-01-31 17:22:38
UCell/-2025-01-31 17:22:38
UMI4Cats/-2025-01-31 17:22:38
UNDO/-2025-01-31 17:22:38
UPDhmm/-2025-01-31 17:22:39
Ularcirc/-2025-01-31 17:22:38
UniProt.ws/-2025-01-31 17:22:39
Uniquorn/-2025-01-31 17:22:39
VAExprs/-2025-01-31 17:22:39
VCFArray/-2025-01-31 17:22:39
VDJdive/-2025-01-31 17:22:39
VERSO/-2025-01-31 17:22:39
VaSP/-2025-01-31 17:22:39
VanillaICE/-2025-01-31 17:22:39
VarCon/-2025-01-31 17:22:39
VariantAnnotation/-2025-01-31 17:22:39
VariantExperiment/-2025-01-31 17:22:39
VariantFiltering/-2025-01-31 17:22:39
VariantTools/-2025-01-31 17:22:39
VegaMC/-2025-01-31 17:22:39
VennDetail/-2025-01-31 17:22:39
ViSEAGO/-2025-01-31 17:22:40
VisiumIO/-2025-01-31 17:22:40
Voyager/-2025-01-31 17:22:40
VplotR/-2025-01-31 17:22:40
Wrench/-2025-01-31 17:22:40
XDE/-2025-01-31 17:22:41
XINA/-2025-01-31 17:22:41
XNAString/-2025-01-31 17:22:41
XVector/-2025-01-31 17:22:41
Xeva/-2025-01-31 17:22:41
YAPSA/-2025-01-31 17:22:41
ZygosityPredictor/-2025-01-31 17:22:41
a4/-2025-01-31 17:21:11
a4Base/-2025-01-31 17:21:11
a4Classif/-2025-01-31 17:21:11
a4Core/-2025-01-31 17:21:11
a4Preproc/-2025-01-31 17:21:11
a4Reporting/-2025-01-31 17:21:11
aCGH/-2025-01-31 17:21:11
abseqR/-2025-01-31 17:21:11
acde/-2025-01-31 17:21:11
adSplit/-2025-01-31 17:21:12
adductomicsR/-2025-01-31 17:21:12
adverSCarial/-2025-01-31 17:21:12
affxparser/-2025-01-31 17:21:12
affy/-2025-01-31 17:21:12
affyContam/-2025-01-31 17:21:12
affyILM/-2025-01-31 17:21:12
affyPLM/-2025-01-31 17:21:12
affycomp/-2025-01-31 17:21:12
affycoretools/-2025-01-31 17:21:12
affyio/-2025-01-31 17:21:12
affylmGUI/-2025-01-31 17:21:12
aggregateBioVar/-2025-01-31 17:21:12
agilp/-2025-01-31 17:21:12
airpart/-2025-01-31 17:21:12
alabaster/-2025-01-31 17:21:12
alabaster.base/-2025-01-31 17:21:12
alabaster.bumpy/-2025-01-31 17:21:12
alabaster.files/-2025-01-31 17:21:12
alabaster.mae/-2025-01-31 17:21:12
alabaster.matrix/-2025-01-31 17:21:13
alabaster.ranges/-2025-01-31 17:21:13
alabaster.sce/-2025-01-31 17:21:13
alabaster.schemas/-2025-01-31 17:21:13
alabaster.se/-2025-01-31 17:21:13
alabaster.spatial/-2025-01-31 17:21:13
alabaster.string/-2025-01-31 17:21:13
alabaster.vcf/-2025-01-31 17:21:13
alevinQC/-2025-01-31 17:21:13
altcdfenvs/-2025-01-31 17:21:13
amplican/-2025-01-31 17:21:13
animalcules/-2025-01-31 17:21:13
annaffy/-2025-01-31 17:21:13
annmap/-2025-01-31 17:21:13
annotate/-2025-01-31 17:21:13
annotationTools/-2025-01-31 17:21:14
annotatr/-2025-01-31 17:21:14
anota/-2025-01-31 17:21:14
anota2seq/-2025-01-31 17:21:14
antiProfiles/-2025-01-31 17:21:14
apComplex/-2025-01-31 17:21:14
apeglm/-2025-01-31 17:21:14
appreci8R/-2025-01-31 17:21:14
aroma.light/-2025-01-31 17:21:14
arrayMvout/-2025-01-31 17:21:14
arrayQuality/-2025-01-31 17:21:14
arrayQualityMetrics/-2025-01-31 17:21:14
artMS/-2025-01-31 17:21:14
assorthead/-2025-01-31 17:21:15
atSNP/-2025-01-31 17:21:15
atena/-2025-01-31 17:21:15
attract/-2025-01-31 17:21:15
autonomics/-2025-01-31 17:21:15
awst/-2025-01-31 17:21:15
bacon/-2025-01-31 17:21:15
ballgown/-2025-01-31 17:21:15
bambu/-2025-01-31 17:21:15
bamsignals/-2025-01-31 17:21:15
bandle/-2025-01-31 17:21:15
banocc/-2025-01-31 17:21:16
barcodetrackR/-2025-01-31 17:21:16
basecallQC/-2025-01-31 17:21:16
basilisk/-2025-01-31 17:21:16
basilisk.utils/-2025-01-31 17:21:16
batchelor/-2025-01-31 17:21:16
bayNorm/-2025-01-31 17:21:16
baySeq/-2025-01-31 17:21:16
bcSeq/-2025-01-31 17:21:16
beachmat/-2025-01-31 17:21:16
beachmat.hdf5/-2025-01-31 17:21:16
beachmat.tiledb/-2025-01-31 17:21:16
beadarray/-2025-01-31 17:21:16
beer/-2025-01-31 17:21:17
benchdamic/-2025-01-31 17:21:17
betaHMM/-2025-01-31 17:21:17
bettr/-2025-01-31 17:21:17
bgx/-2025-01-31 17:21:17
bigmelon/-2025-01-31 17:21:17
bioCancer/-2025-01-31 17:21:17
bioDist/-2025-01-31 17:21:18
bioassayR/-2025-01-31 17:21:17
biobroom/-2025-01-31 17:21:17
biobtreeR/-2025-01-31 17:19:48
biocGraph/-2025-01-31 17:21:17
biocViews/-2025-01-31 17:21:18
biocroxytest/-2025-01-31 17:21:18
biocthis/-2025-01-31 17:21:18
biodb/-2025-01-31 17:21:18
biodbChebi/-2025-01-31 17:21:18
biodbExpasy/-2024-10-24 15:04:38
biodbHmdb/-2025-01-31 17:21:18
biodbKegg/-2024-10-24 15:04:38
biodbNcbi/-2025-01-31 17:21:18
biodbNci/-2025-01-31 17:21:18
biodbUniprot/-2025-01-31 17:21:18
biomaRt/-2025-01-31 17:21:18
biomformat/-2025-01-31 17:21:18
biomvRCNS/-2025-01-31 17:21:19
biosigner/-2025-01-31 17:21:19
biotmle/-2025-01-31 17:21:19
biovizBase/-2025-01-31 17:21:19
biscuiteer/-2025-01-31 17:21:19
blacksheepr/-2025-01-31 17:21:19
blima/-2025-01-31 17:21:19
bluster/-2025-01-31 17:21:19
bnbc/-2025-01-31 17:21:19
bnem/-2025-01-31 17:21:19
borealis/-2025-01-31 17:21:19
brainflowprobes/-2024-10-24 15:04:38
branchpointer/-2025-01-31 17:21:19
breakpointR/-2025-01-31 17:21:19
brendaDb/-2025-01-31 17:21:19
broadSeq/-2025-01-31 17:21:20
bsseq/-2025-01-31 17:21:20
bugsigdbr/-2025-01-31 17:21:20
bumphunter/-2025-01-31 17:21:20
cBioPortalData/-2025-01-31 17:21:21
cTRAP/-2025-01-31 17:21:28
cageminer/-2025-01-31 17:21:20
calm/-2025-01-31 17:21:20
canceR/-2025-01-31 17:21:20
cancerclass/-2025-01-31 17:21:20
cardelino/-2025-01-31 17:21:21
casper/-2025-01-31 17:21:21
categoryCompare/-2025-01-31 17:21:21
cbaf/-2025-01-31 17:21:21
cbpManager/-2025-01-31 17:21:21
ccImpute/-2025-01-31 17:21:21
ccfindR/-2025-01-31 17:21:21
ccmap/-2025-01-31 17:21:21
ccrepe/-2025-01-31 17:21:21
ceRNAnetsim/-2025-01-31 17:21:22
celaref/-2025-01-31 17:21:21
celda/-2025-01-31 17:21:21
cellbaseR/-2025-01-31 17:21:21
cellity/-2025-01-31 17:21:21
cellmigRation/-2025-01-31 17:21:21
cellscape/-2025-01-31 17:21:22
cellxgenedp/-2025-01-31 17:21:22
censcyt/-2025-01-31 17:21:22
cfDNAPro/-2025-01-31 17:21:22
cfTools/-2025-01-31 17:21:22
cfdnakit/-2025-01-31 17:21:22
cghMCR/-2025-01-31 17:21:22
chihaya/-2025-01-31 17:21:22
chimeraviz/-2025-01-31 17:21:23
chipenrich/-2025-01-31 17:21:23
chipseq/-2025-01-31 17:21:23
chopsticks/-2025-01-31 17:21:23
chromDraw/-2025-01-31 17:21:23
chromPlot/-2025-01-31 17:21:23
chromVAR/-2025-01-31 17:21:23
chromstaR/-2025-01-31 17:21:23
cicero/-2025-01-31 17:21:23
circRNAprofiler/-2025-01-31 17:21:23
cisPath/-2025-01-31 17:21:23
cleanUpdTSeq/-2025-01-31 17:21:23
cleaver/-2025-01-31 17:21:24
clevRvis/-2025-01-31 17:21:24
cliProfiler/-2025-01-31 17:21:24
clippda/-2025-01-31 17:21:24
clipper/-2025-01-31 17:21:24
cliqueMS/-2025-01-31 17:21:24
clst/-2025-01-31 17:21:24
clstutils/-2025-01-31 17:21:24
clustComp/-2025-01-31 17:21:24
clusterExperiment/-2025-01-31 17:21:24
clusterProfiler/-2025-01-31 17:21:24
clusterSeq/-2025-01-31 17:21:24
clusterStab/-2025-01-31 17:21:24
clustifyr/-2025-01-31 17:21:24
cmapR/-2025-01-31 17:21:24
cn.farms/-2025-01-31 17:21:24
cn.mops/-2025-01-31 17:21:24
cnvGSA/-2025-01-31 17:21:25
coGPS/-2025-01-31 17:21:25
coMET/-2025-01-31 17:21:25
coMethDMR/-2025-01-31 17:21:25
coRdon/-2025-01-31 17:21:26
codelink/-2025-01-31 17:21:25
cogena/-2025-01-31 17:21:25
cogeqc/-2025-01-31 17:21:25
cola/-2025-01-31 17:21:25
comapr/-2025-01-31 17:21:25
combi/-2025-01-31 17:21:25
compEpiTools/-2025-01-31 17:21:26
compSPOT/-2025-01-31 17:21:26
compcodeR/-2025-01-31 17:21:26
concordexR/-2025-01-31 17:21:26
condiments/-2025-01-31 17:21:26
consICA/-2025-01-31 17:21:26
consensus/-2025-01-31 17:21:26
consensusDE/-2025-01-31 17:21:26
consensusOV/-2025-01-31 17:21:26
consensusSeekeR/-2025-01-31 17:21:26
conumee/-2025-01-31 17:21:26
convert/-2025-01-31 17:21:26
copa/-2025-01-31 17:21:26
corral/-2025-01-31 17:21:26
coseq/-2025-01-31 17:21:26
cosmiq/-2025-01-31 17:21:26
cosmosR/-2025-01-31 17:21:27
countsimQC/-2025-01-31 17:21:27
covEB/-2025-01-31 17:21:27
covRNA/-2025-01-31 17:21:27
cpvSNP/-2025-01-31 17:21:27
cqn/-2025-01-31 17:21:27
crisprBase/-2025-01-31 17:21:27
crisprBowtie/-2025-01-31 17:21:27
crisprBwa/-2025-01-31 17:21:27
crisprDesign/-2025-01-31 17:21:27
crisprScore/-2025-01-31 17:21:27
crisprShiny/-2025-01-31 17:21:27
crisprVerse/-2025-01-31 17:21:27
crisprViz/-2025-01-31 17:21:27
crlmm/-2025-01-31 17:21:27
crossmeta/-2025-01-31 17:21:27
csaw/-2025-01-31 17:21:27
csdR/-2025-01-31 17:21:27
ctc/-2025-01-31 17:21:28
ctsGE/-2025-01-31 17:21:28
cummeRbund/-2025-01-31 17:21:28
customCMPdb/-2025-01-31 17:21:28
customProDB/-2025-01-31 17:21:28
cyanoFilter/-2025-01-31 17:21:28
cycle/-2025-01-31 17:21:28
cydar/-2025-01-31 17:21:28
cypress/-2025-01-31 17:21:28
cytoKernel/-2025-01-31 17:21:28
cytoMEM/-2025-01-31 17:21:28
cytofQC/-2025-01-31 17:21:28
cytolib/-2025-01-31 17:21:28
cytomapper/-2025-01-31 17:21:28
cytoviewer/-2025-01-31 17:21:29
dStruct/-2025-01-31 17:21:33
daMA/-2025-01-31 17:21:29
dada2/-2025-01-31 17:21:29
dagLogo/-2025-01-31 17:21:29
dar/-2025-01-31 17:21:29
dcGSA/-2025-01-31 17:21:29
dcanr/-2025-01-31 17:21:29
dce/-2025-01-31 17:21:29
ddCt/-2025-01-31 17:21:29
ddPCRclust/-2025-01-31 17:21:29
dearseq/-2025-01-31 17:21:29
debCAM/-2025-01-31 17:21:29
debrowser/-2025-01-31 17:21:29
decompTumor2Sig/-2025-01-31 17:21:29
decontX/-2025-01-31 17:21:29
decontam/-2025-01-31 17:21:29
deconvR/-2025-01-31 17:21:29
decoupleR/-2025-01-31 17:21:29
deepSNV/-2025-01-31 17:21:30
deltaCaptureC/-2025-01-31 17:21:30
deltaGseg/-2025-01-31 17:21:30
demuxSNP/-2025-01-31 17:21:30
demuxmix/-2025-01-31 17:21:30
densvis/-2025-01-31 17:21:30
derfinder/-2025-01-31 17:21:30
derfinderHelper/-2025-01-31 17:21:30
derfinderPlot/-2025-01-31 17:21:31
destiny/-2025-01-31 17:21:31
diffGeneAnalysis/-2025-01-31 17:21:31
diffHic/-2025-01-31 17:21:31
diffUTR/-2025-01-31 17:21:31
diffcoexp/-2025-01-31 17:21:31
diffcyt/-2025-01-31 17:21:31
diffuStats/-2025-01-31 17:21:31
diggit/-2025-01-31 17:21:31
dinoR/-2025-01-31 17:21:31
dir.expiry/-2025-01-31 17:21:31
discordant/-2025-01-31 17:21:32
distinct/-2025-01-31 17:21:32
dittoSeq/-2025-01-31 17:21:32
divergence/-2025-01-31 17:21:32
dks/-2025-01-31 17:21:32
dmrseq/-2025-01-31 17:21:32
dominoSignal/-2025-01-31 17:21:32
doppelgangR/-2025-01-31 17:21:32
doseR/-2025-01-31 17:21:32
doubletrouble/-2025-01-31 17:21:32
drawProteins/-2025-01-31 17:21:32
dreamlet/-2025-01-31 17:21:32
drugTargetInteractions/-2025-01-31 17:21:33
dupRadar/-2025-01-31 17:21:33
dyebias/-2025-01-31 17:21:33
easier/-2025-01-31 17:21:33
easyRNASeq/-2025-01-31 17:21:33
easylift/-2025-01-31 17:21:33
easyreporting/-2025-01-31 17:21:33
ecolitk/-2025-01-31 17:21:33
edge/-2025-01-31 17:21:33
edgeR/-2025-01-31 17:21:34
eds/-2025-01-31 17:21:34
eiR/-2025-01-31 17:21:34
eisaR/-2025-01-31 17:21:34
enhancerHomologSearch/-2025-01-31 17:21:34
enrichViewNet/-2025-01-31 17:21:34
enrichplot/-2025-01-31 17:21:34
ensembldb/-2025-01-31 17:21:34
epiNEM/-2025-01-31 17:21:35
epialleleR/-2025-01-31 17:21:34
epidecodeR/-2025-01-31 17:21:34
epigenomix/-2025-01-31 17:21:34
epigraHMM/-2025-01-31 17:21:34
epimutacions/-2025-01-31 17:21:35
epiregulon/-2025-01-31 17:21:35
epiregulon.extra/-2025-01-31 17:21:35
epistack/-2025-01-31 17:21:35
epistasisGA/-2025-01-31 17:21:35
epivizr/-2025-01-31 17:21:35
epivizrChart/-2025-01-31 17:21:35
epivizrData/-2025-01-31 17:21:35
epivizrServer/-2025-01-31 17:21:35
epivizrStandalone/-2025-01-31 17:21:35
erccdashboard/-2025-01-31 17:21:35
erma/-2025-01-31 17:21:35
esATAC/-2025-01-31 17:21:35
escape/-2025-01-31 17:21:35
escheR/-2025-01-31 17:21:35
esetVis/-2025-01-31 17:21:35
eudysbiome/-2025-01-31 17:21:35
evaluomeR/-2025-01-31 17:21:35
extraChIPs/-2025-01-31 17:21:36
fCCAC/-2025-01-31 17:21:36
fCI/-2025-01-31 17:21:36
fabia/-2025-01-31 17:21:36
factDesign/-2025-01-31 17:21:36
factR/-2025-01-31 17:21:36
faers/-2025-01-31 17:21:36
famat/-2025-01-31 17:21:36
fastLiquidAssociation/-2025-01-31 17:21:36
fastreeR/-2025-01-31 17:21:36
fastseg/-2025-01-31 17:21:36
fcScan/-2025-01-31 17:21:36
fdrame/-2025-01-31 17:21:36
fedup/-2025-01-31 17:21:36
fenr/-2025-01-31 17:21:36
ffpe/-2025-01-31 17:21:36
fgga/-2025-01-31 17:21:36
fgsea/-2025-01-31 17:21:37
findIPs/-2025-01-31 17:21:37
fishpond/-2025-01-31 17:21:37
flagme/-2025-01-31 17:21:37
flowAI/-2025-01-31 17:21:37
flowBeads/-2025-01-31 17:21:37
flowBin/-2025-01-31 17:21:37
flowCHIC/-2025-01-31 17:21:37
flowClean/-2025-01-31 17:21:37
flowClust/-2025-01-31 17:21:37
flowCore/-2025-01-31 17:21:37
flowCut/-2025-01-31 17:21:37
flowCyBar/-2025-01-31 17:21:37
flowDensity/-2025-01-31 17:21:37
flowFP/-2025-01-31 17:21:37
flowGate/-2025-01-31 17:21:37
flowGraph/-2025-01-31 17:21:37
flowMatch/-2025-01-31 17:21:37
flowMeans/-2025-01-31 17:21:37
flowMerge/-2025-01-31 17:21:38
flowPeaks/-2025-01-31 17:21:38
flowPloidy/-2025-01-31 17:21:38
flowPlots/-2025-01-31 17:21:38
flowSpecs/-2025-01-31 17:21:38
flowStats/-2025-01-31 17:21:38
flowTime/-2025-01-31 17:21:38
flowTrans/-2025-01-31 17:21:38
flowVS/-2025-01-31 17:21:38
flowViz/-2025-01-31 17:21:38
flowWorkspace/-2025-01-31 17:21:38
flowcatchR/-2025-01-31 17:21:37
fmcsR/-2025-01-31 17:21:38
fmrs/-2025-01-31 17:21:38
fobitools/-2025-01-31 17:21:38
frenchFISH/-2025-01-31 17:21:38
frma/-2025-01-31 17:21:38
frmaTools/-2025-01-31 17:21:38
funOmics/-2025-01-31 17:21:38
funtooNorm/-2025-01-31 17:21:38
gCrisprTools/-2025-01-31 17:21:39
gDNAx/-2025-01-31 17:21:39
gDR/-2025-01-31 17:21:39
gDRcore/-2025-01-31 17:21:39
gDRimport/-2025-01-31 17:21:39
gDRstyle/-2025-01-31 17:21:39
gDRutils/-2025-01-31 17:21:39
gINTomics/-2025-01-31 17:21:42
gaga/-2025-01-31 17:21:38
gage/-2025-01-31 17:21:38
garfield/-2025-01-31 17:21:39
gatom/-2025-01-31 17:21:39
gcapc/-2025-01-31 17:21:39
gcatest/-2025-01-31 17:21:39
gcrma/-2025-01-31 17:21:39
gdsfmt/-2025-01-31 17:21:39
geNetClassifier/-2025-01-31 17:21:40
gemini/-2025-01-31 17:21:39
gemma.R/-2025-01-31 17:21:39
genArise/-2025-01-31 17:21:39
geneAttribution/-2025-01-31 17:21:39
geneClassifiers/-2025-01-31 17:21:40
geneRecommender/-2025-01-31 17:21:40
geneRxCluster/-2025-01-31 17:21:40
geneXtendeR/-2025-01-31 17:21:40
genefilter/-2025-01-31 17:21:40
genefu/-2025-01-31 17:21:40
geneplast/-2025-01-31 17:21:40
geneplotter/-2025-01-31 17:21:40
genoCN/-2025-01-31 17:21:40
genomation/-2025-01-31 17:21:40
genomeIntervals/-2025-01-31 17:21:40
genomes/-2025-01-31 17:21:40
genomicInstability/-2025-01-31 17:21:41
geomeTriD/-2025-01-31 17:21:41
gep2pep/-2025-01-31 17:21:41
gespeR/-2025-01-31 17:21:41
getDEE2/-2025-01-31 17:21:42
geva/-2025-01-31 17:21:42
geyser/-2025-01-31 17:21:42
gg4way/-2025-01-31 17:21:42
ggbio/-2025-01-31 17:21:42
ggcyto/-2025-01-31 17:21:42
ggkegg/-2025-01-31 17:21:42
ggmanh/-2025-01-31 17:21:42
ggmsa/-2025-01-31 17:21:42
ggsc/-2025-01-31 17:21:42
ggseqalign/-2025-01-31 17:21:42
ggspavis/-2025-01-31 17:21:42
ggtree/-2025-01-31 17:21:42
ggtreeDendro/-2025-01-31 17:21:42
ggtreeExtra/-2025-01-31 17:21:42
ggtreeSpace/-2025-01-31 17:21:42
ginmappeR/-2025-01-31 17:21:42
girafe/-2025-01-31 17:21:42
glmGamPoi/-2025-01-31 17:21:42
glmSparseNet/-2025-01-31 17:21:43
globalSeq/-2025-01-31 17:21:43
globaltest/-2025-01-31 17:21:43
gmapR/-2025-01-31 17:21:43
gmoviz/-2025-01-31 17:21:43
goProfiles/-2025-01-31 17:21:43
goSTAG/-2025-01-31 17:21:43
goSorensen/-2025-01-31 17:21:43
goTools/-2025-01-31 17:21:43
goseq/-2025-01-31 17:21:43
gpls/-2025-01-31 17:21:43
gpuMagic/-2025-01-31 17:21:43
granulator/-2025-01-31 17:21:44
graper/-2025-01-31 17:21:44
graph/-2025-01-31 17:21:44
graphite/-2025-01-31 17:21:44
groHMM/-2025-01-31 17:21:44
gscreend/-2025-01-31 17:21:44
gsean/-2025-01-31 17:21:44
gtrellis/-2025-01-31 17:21:44
gwascat/-2025-01-31 17:21:45
gwasurvivr/-2025-01-31 17:21:45
gypsum/-2025-01-31 17:21:45
h5mread/-2025-01-31 17:21:45
h5vc/-2025-01-31 17:21:45
hapFabia/-2025-01-31 17:21:45
hca/-2025-01-31 17:21:45
hdxmsqc/-2025-01-31 17:21:45
heatmaps/-2025-01-31 17:21:45
hermes/-2025-01-31 17:21:45
hiAnnotator/-2025-01-31 17:21:45
hiReadsProcessor/-2025-01-31 17:21:46
hicVennDiagram/-2025-01-31 17:21:46
hierGWAS/-2025-01-31 17:21:46
hierinf/-2025-01-31 17:21:46
hipathia/-2025-01-31 17:21:46
hmdbQuery/-2025-01-31 17:21:46
hoodscanR/-2025-01-31 17:21:46
hopach/-2025-01-31 17:21:46
hpar/-2025-01-31 17:21:46
hummingbird/-2025-01-31 17:21:47
hypeR/-2025-01-31 17:21:47
hyperdraw/-2025-01-31 17:21:47
hypergraph/-2025-01-31 17:21:47
iASeq/-2025-01-31 17:21:47
iBBiG/-2025-01-31 17:21:47
iBMQ/-2025-01-31 17:18:50
iCARE/-2025-01-31 17:21:47
iCNV/-2025-01-31 17:21:47
iCOBRA/-2025-01-31 17:21:47
iCheck/-2025-01-31 17:21:47
iChip/-2025-01-31 17:21:47
iClusterPlus/-2025-01-31 17:21:47
iGC/-2025-01-31 17:21:48
iNETgrate/-2025-01-31 17:21:48
iPAC/-2025-01-31 17:21:49
iPath/-2025-01-31 17:21:49
iSEE/-2025-01-31 17:21:49
iSEEde/-2025-01-31 17:21:50
iSEEfier/-2025-01-31 17:21:50
iSEEhex/-2025-01-31 17:21:50
iSEEhub/-2025-01-31 17:21:50
iSEEindex/-2025-01-31 17:21:50
iSEEpathways/-2025-01-31 17:21:50
iSEEtree/-2025-01-31 17:21:50
iSEEu/-2025-01-31 17:21:50
iSeq/-2025-01-31 17:21:50
iasva/-2025-01-31 17:21:47
ibh/-2025-01-31 17:21:47
icetea/-2025-01-31 17:21:47
ideal/-2025-01-31 17:21:47
idiogram/-2025-01-31 17:21:48
idpr/-2025-01-31 17:21:48
idr2d/-2025-01-31 17:21:48
igvR/-2025-01-31 17:21:48
igvShiny/-2025-01-31 17:21:48
illuminaio/-2025-01-31 17:21:48
imcRtools/-2025-01-31 17:21:48
immApex/-2025-01-31 17:21:48
immunoClust/-2025-01-31 17:21:48
immunogenViewer/-2025-01-31 17:21:48
immunotation/-2025-01-31 17:21:48
impute/-2025-01-31 17:21:48
infercnv/-2025-01-31 17:21:48
infinityFlow/-2025-01-31 17:21:48
intansv/-2025-01-31 17:21:49
interacCircos/-2025-01-31 17:21:49
interactiveDisplay/-2025-01-31 17:21:49
interactiveDisplayBase/-2025-01-31 17:21:49
ipdDb/-2025-01-31 17:21:49
isobar/-2025-01-31 17:21:50
isomiRs/-2025-01-31 17:21:50
iterativeBMA/-2025-01-31 17:21:50
iterativeBMAsurv/-2025-01-31 17:21:50
ivygapSE/-2025-01-31 17:21:50
karyoploteR/-2025-01-31 17:21:50
katdetectr/-2025-01-31 17:21:51
kebabs/-2025-01-31 17:21:51
keggorthology/-2025-01-31 17:21:51
kissDE/-2025-01-31 17:21:51
kmcut/-2025-01-31 17:21:51
knowYourCG/-2025-01-31 17:21:51
koinar/-2025-01-31 17:21:51
lapmix/-2025-01-31 17:21:51
ldblock/-2025-01-31 17:21:51
lefser/-2025-01-31 17:21:51
lemur/-2025-01-31 17:21:51
les/-2025-01-31 17:21:51
levi/-2025-01-31 17:21:51
lfa/-2025-01-31 17:21:51
limma/-2025-01-31 17:21:52
limmaGUI/-2025-01-31 17:21:52
limpca/-2025-01-31 17:21:52
lineagespot/-2025-01-31 17:21:52
lionessR/-2025-01-31 17:21:52
lipidr/-2025-01-31 17:21:52
lisaClust/-2025-01-31 17:21:52
lmdme/-2025-01-31 17:21:52
loci2path/-2025-01-31 17:21:52
logicFS/-2025-01-31 17:21:52
lpNet/-2025-01-31 17:21:52
lpsymphony/-2025-01-31 17:21:52
lumi/-2025-01-31 17:21:53
lute/-2025-01-31 17:21:53
m6Aboost/-2025-01-31 17:21:53
mBPCR/-2025-01-31 17:21:55
mCSEA/-2025-01-31 17:21:55
maCorrPlot/-2025-01-31 17:21:53
maPredictDSC/-2025-01-31 17:21:54
maSigPro/-2025-01-31 17:21:54
maaslin3/-2025-01-31 17:21:53
made4/-2025-01-31 17:21:53
maftools/-2025-01-31 17:21:53
magpie/-2025-01-31 17:21:53
magrene/-2025-01-31 17:21:53
makecdfenv/-2025-01-31 17:21:53
mapscape/-2025-01-31 17:21:54
mariner/-2025-01-31 17:21:54
marr/-2025-01-31 17:21:54
marray/-2025-01-31 17:21:54
martini/-2025-01-31 17:21:54
maser/-2025-01-31 17:21:54
maskBAD/-2025-01-31 17:21:54
massiR/-2025-01-31 17:21:54
mastR/-2025-01-31 17:21:54
matchBox/-2025-01-31 17:21:54
matter/-2025-01-31 17:21:54
mbQTL/-2025-01-31 17:21:55
mbkmeans/-2025-01-31 17:21:54
mdp/-2025-01-31 17:21:55
mdqc/-2025-01-31 17:21:55
megadepth/-2025-01-31 17:21:55
memes/-2025-01-31 17:21:55
meshes/-2025-01-31 17:21:55
meshr/-2025-01-31 17:21:55
messina/-2025-01-31 17:21:55
metaCCA/-2025-01-31 17:21:56
metaMS/-2025-01-31 17:21:56
metaSeq/-2025-01-31 17:21:56
metabCombiner/-2025-01-31 17:21:56
metabinR/-2025-01-31 17:21:56
metabolomicsWorkbenchR/-2025-01-31 17:21:56
metabomxtr/-2025-01-31 17:21:56
metagene2/-2025-01-31 17:21:56
metagenomeSeq/-2025-01-31 17:21:56
metahdep/-2025-01-31 17:21:56
metapod/-2025-01-31 17:21:56
metapone/-2025-01-31 17:21:56
metaseqR2/-2025-01-31 17:21:56
methInheritSim/-2025-01-31 17:21:56
methimpute/-2025-01-31 17:21:56
methodical/-2025-01-31 17:21:56
methrix/-2025-01-31 17:21:57
methyLImp2/-2025-01-31 17:21:57
methylCC/-2025-01-31 17:21:57
methylGSA/-2025-01-31 17:21:57
methylInheritance/-2025-01-31 17:21:57
methylKit/-2025-01-31 17:21:57
methylMnM/-2025-01-31 17:21:57
methylPipe/-2025-01-31 17:21:57
methylSig/-2025-01-31 17:21:57
methylclock/-2025-01-31 17:21:57
methylscaper/-2025-01-31 17:21:57
methylumi/-2025-01-31 17:21:57
mfa/-2025-01-31 17:21:57
mgsa/-2025-01-31 17:21:57
miQC/-2025-01-31 17:21:58
miRBaseConverter/-2025-01-31 17:21:58
miRLAB/-2025-01-31 17:21:59
miRNAmeConverter/-2025-01-31 17:21:59
miRNApath/-2025-01-31 17:21:59
miRNAtap/-2025-01-31 17:21:59
miRSM/-2025-01-31 17:21:59
miRcomp/-2025-01-31 17:21:58
miRspongeR/-2025-01-31 17:21:59
mia/-2025-01-31 17:21:57
miaSim/-2025-01-31 17:21:58
miaViz/-2025-01-31 17:21:58
microRNA/-2025-01-31 17:21:58
microSTASIS/-2025-01-31 17:21:58
microbiome/-2025-01-31 17:21:58
microbiomeDASim/-2025-01-31 17:21:58
microbiomeExplorer/-2025-01-31 17:21:58
microbiomeMarker/-2024-10-24 15:04:41
midasHLA/-2025-01-31 17:21:58
miloR/-2025-01-31 17:21:58
mimager/-2025-01-31 17:21:58
mina/-2025-01-31 17:21:58
minet/-2025-01-31 17:21:58
minfi/-2025-01-31 17:21:58
mirIntegrator/-2025-01-31 17:21:58
mirTarRnaSeq/-2025-01-31 17:21:59
missMethyl/-2025-01-31 17:21:59
missRows/-2025-01-31 17:21:59
mist/-2025-01-31 17:21:59
mistyR/-2025-01-31 17:21:59
mitch/-2025-01-31 17:21:59
mitoClone2/-2025-01-31 17:21:59
mixOmics/-2025-01-31 17:21:59
mnem/-2025-01-31 17:21:59
moanin/-2025-01-31 17:21:59
mobileRNA/-2025-01-31 17:21:59
mogsa/-2025-01-31 17:22:00
monaLisa/-2025-01-31 17:22:00
monocle/-2025-01-31 17:22:00
mosaics/-2025-01-31 17:22:00
mosbi/-2025-01-31 17:22:00
mosdef/-2025-01-31 17:22:00
motifStack/-2025-01-31 17:22:00
motifTestR/-2025-01-31 17:22:00
motifbreakR/-2025-01-31 17:22:00
motifcounter/-2025-01-31 17:22:00
motifmatchr/-2025-01-31 17:22:00
mpra/-2025-01-31 17:22:01
msImpute/-2025-01-31 17:22:01
msPurity/-2025-01-31 17:22:02
msa/-2025-01-31 17:22:01
msgbsR/-2025-01-31 17:22:01
mslp/-2025-01-31 17:22:01
msmsEDA/-2025-01-31 17:22:01
msmsTests/-2025-01-31 17:22:01
mspms/-2025-01-31 17:22:01
msqrob2/-2025-01-31 17:22:02
multiClust/-2025-01-31 17:22:02
multiGSEA/-2025-01-31 17:22:02
multiHiCcompare/-2025-01-31 17:22:02
multiMiR/-2025-01-31 17:22:02
multiWGCNA/-2025-01-31 17:22:03
multicrispr/-2025-01-31 17:22:02
multiscan/-2025-01-31 17:22:03
multistateQTL/-2025-01-31 17:22:03
multtest/-2025-01-31 17:22:03
mumosa/-2025-01-31 17:22:03
muscat/-2025-01-31 17:22:03
muscle/-2025-01-31 17:22:03
musicatk/-2025-01-31 17:22:03
mygene/-2025-01-31 17:22:03
myvariant/-2025-01-31 17:22:03
mzID/-2025-01-31 17:22:03
mzR/-2025-01-31 17:22:03
nanotatoR/-2024-10-24 15:04:41
ncGTW/-2025-01-31 17:22:04
ncRNAtools/-2025-01-31 17:22:04
ncdfFlow/-2025-01-31 17:22:04
ndexr/-2025-01-31 17:22:04
nearBynding/-2025-01-31 17:22:04
nempi/-2025-01-31 17:22:04
netDx/-2025-01-31 17:22:04
netOmics/-2024-10-24 15:04:41
netSmooth/-2025-01-31 17:22:04
netZooR/-2025-01-31 17:22:04
netboost/-2025-01-31 17:22:04
nethet/-2025-01-31 17:22:04
netprioR/-2025-01-31 17:22:04
netresponse/-2025-01-31 17:22:04
ngsReports/-2025-01-31 17:22:04
nipalsMCIA/-2025-01-31 17:22:04
nnNorm/-2025-01-31 17:22:04
nnSVG/-2025-01-31 17:22:04
nondetects/-2025-01-31 17:22:04
normalize450K/-2025-01-31 17:22:05
normr/-2025-01-31 17:22:05
npGSEA/-2025-01-31 17:22:05
nuCpos/-2025-01-31 17:22:05
nucleR/-2025-01-31 17:22:05
nucleoSim/-2025-01-31 17:22:05
nullranges/-2025-01-31 17:22:05
occugene/-2025-01-31 17:22:05
octad/-2025-01-31 17:22:05
odseq/-2025-01-31 17:22:05
oligo/-2025-01-31 17:22:05
oligoClasses/-2025-01-31 17:22:05
omXplore/-2025-01-31 17:22:06
omada/-2025-01-31 17:22:05
omicRexposome/-2025-01-31 17:22:06
omicade4/-2025-01-31 17:22:05
omicplotR/-2025-01-31 17:22:06
omicsPrint/-2025-01-31 17:22:06
omicsViewer/-2025-01-31 17:22:06
ompBAM/-2025-01-31 17:22:06
oncomix/-2025-01-31 17:22:06
oncoscanR/-2025-01-31 17:22:06
onlineFDR/-2025-01-31 17:22:06
ontoProc/-2025-01-31 17:22:06
openCyto/-2025-01-31 17:22:06
openPrimeR/-2025-01-31 17:22:06
oposSOM/-2025-01-31 17:22:06
oppar/-2025-01-31 17:22:06
oppti/-2025-01-31 17:22:06
optimalFlow/-2025-01-31 17:22:06
orthogene/-2025-01-31 17:22:07
orthos/-2025-01-31 17:22:07
pRoloc/-2025-01-31 17:22:12
pRolocGUI/-2025-01-31 17:22:12
packFinder/-2025-01-31 17:22:07
padma/-2025-01-31 17:22:07
pageRank/-2025-01-31 17:22:07
paircompviz/-2025-01-31 17:22:07
pairedGSEA/-2025-01-31 17:22:07
pairkat/-2025-01-31 17:22:07
pandaR/-2025-01-31 17:22:07
panelcn.mops/-2025-01-31 17:22:08
panp/-2025-01-31 17:22:08
pareg/-2025-01-31 17:22:08
parglms/-2025-01-31 17:22:08
parody/-2025-01-31 17:22:08
partCNV/-2025-01-31 17:22:08
pathRender/-2025-01-31 17:22:08
pathifier/-2025-01-31 17:22:08
pathlinkR/-2025-01-31 17:22:08
pathview/-2025-01-31 17:22:08
pathwayPCA/-2025-01-31 17:22:08
paxtoolsr/-2025-01-31 17:22:08
pcaExplorer/-2025-01-31 17:22:08
pcaMethods/-2025-01-31 17:22:08
pdInfoBuilder/-2025-01-31 17:22:08
peakPantheR/-2025-01-31 17:22:09
peco/-2025-01-31 17:22:09
pengls/-2025-01-31 17:22:09
pepStat/-2025-01-31 17:22:09
pepXMLTab/-2025-01-31 17:22:09
periodicDNA/-2025-01-31 17:22:09
pfamAnalyzeR/-2025-01-31 17:22:09
pgca/-2025-01-31 17:22:09
pgxRpi/-2025-01-31 17:22:09
phantasus/-2025-01-31 17:22:09
phantasusLite/-2025-01-31 17:22:09
phenoTest/-2025-01-31 17:22:09
phenomis/-2025-01-31 17:22:09
phenopath/-2025-01-31 17:22:09
philr/-2025-01-31 17:22:09
phosphonormalizer/-2025-01-31 17:22:10
phyloseq/-2025-01-31 17:22:10
piano/-2025-01-31 17:22:10
pickgene/-2025-01-31 17:22:10
pipeComp/-2025-01-31 17:22:10
pipeFrame/-2025-01-31 17:22:10
planet/-2025-01-31 17:22:10
planttfhunter/-2025-01-31 17:22:10
plasmut/-2025-01-31 17:22:10
plgem/-2025-01-31 17:22:10
plier/-2025-01-31 17:22:10
plotGrouper/-2025-01-31 17:22:10
plotgardener/-2025-01-31 17:22:10
plyinteractions/-2025-01-31 17:22:10
plyranges/-2025-01-31 17:22:10
plyxp/-2025-01-31 17:22:10
pmm/-2025-01-31 17:22:11
pmp/-2025-01-31 17:22:11
podkat/-2025-01-31 17:22:11
pogos/-2025-01-31 17:22:11
polyester/-2024-10-24 15:04:42
powerTCR/-2025-01-31 17:22:11
ppcseq/-2025-01-31 17:22:11
pqsfinder/-2025-01-31 17:22:11
pram/-2025-01-31 17:22:11
prebs/-2025-01-31 17:22:11
preciseTAD/-2025-01-31 17:22:11
preprocessCore/-2025-01-31 17:22:11
primirTSS/-2025-01-31 17:22:11
proActiv/-2025-01-31 17:22:11
proBAMr/-2025-01-31 17:22:11
proDA/-2025-01-31 17:22:11
procoil/-2025-01-31 17:22:11
profileScoreDist/-2025-01-31 17:22:12
profileplyr/-2025-01-31 17:22:12
progeny/-2025-01-31 17:22:12
projectR/-2025-01-31 17:22:12
protGear/-2025-01-31 17:22:12
proteinProfiles/-2025-01-31 17:22:12
psichomics/-2025-01-31 17:22:12
psygenet2r/-2024-10-24 15:04:42
ptairMS/-2025-01-31 17:22:12
puma/-2025-01-31 17:22:12
pvac/-2025-01-31 17:22:12
pvca/-2025-01-31 17:22:12
pwalign/-2025-01-31 17:22:12
qPLEXanalyzer/-2025-01-31 17:22:13
qckitfastq/-2025-01-31 17:22:13
qcmetrics/-2025-01-31 17:22:13
qmtools/-2025-01-31 17:22:13
qpcrNorm/-2025-01-31 17:22:13
qpgraph/-2025-01-31 17:22:13
qsea/-2025-01-31 17:22:13
qsmooth/-2025-01-31 17:22:13
qsvaR/-2025-01-31 17:22:13
quantiseqr/-2025-01-31 17:22:13
quantro/-2025-01-31 17:22:13
quantsmooth/-2025-01-31 17:22:13
qusage/-2025-01-31 17:22:13
qvalue/-2025-01-31 17:22:13
r3Cseq/-2025-01-31 17:22:14
rBLAST/-2025-01-31 17:22:14
rBiopaxParser/-2025-01-31 17:22:14
rCGH/-2025-01-31 17:22:15
rDGIdb/-2024-10-24 15:04:42
rGADEM/-2025-01-31 17:22:17
rGREAT/-2025-01-31 17:22:17
rGenomeTracks/-2025-01-31 17:22:17
rRDP/-2025-01-31 17:22:20
rSWeeP/-2025-01-31 17:22:20
rScudo/-2025-01-31 17:22:20
rTRM/-2025-01-31 17:22:20
rTRMui/-2025-01-31 17:22:21
rWikiPathways/-2025-01-31 17:22:21
raer/-2025-01-31 17:22:14
rain/-2025-01-31 17:22:14
ramr/-2025-01-31 17:22:14
ramwas/-2025-01-31 17:22:14
randPack/-2025-01-31 17:22:14
randRotation/-2025-01-31 17:22:14
rawDiag/-2025-01-31 17:22:14
rawrr/-2025-01-31 17:22:14
rbsurv/-2025-01-31 17:22:15
rcellminer/-2025-01-31 17:22:15
rebook/-2025-01-31 17:22:16
receptLoss/-2025-01-31 17:22:16
reconsi/-2025-01-31 17:22:16
recount/-2025-01-31 17:22:16
recount3/-2025-01-31 17:22:16
recountmethylation/-2025-01-31 17:22:16
recoup/-2025-01-31 17:22:16
regionReport/-2025-01-31 17:22:16
regionalpcs/-2025-01-31 17:22:16
regioneR/-2025-01-31 17:22:16
regioneReloaded/-2025-01-31 17:22:16
regsplice/-2025-01-31 17:22:16
regutools/-2025-01-31 17:22:16
retrofit/-2025-01-31 17:22:17
rexposome/-2025-01-31 17:22:17
rfPred/-2025-01-31 17:22:17
rfaRm/-2025-01-31 17:22:17
rgoslin/-2025-01-31 17:22:17
rgsepd/-2025-01-31 17:22:17
rhdf5/-2025-01-31 17:22:17
rhdf5client/-2025-01-31 17:22:17
rhdf5filters/-2025-01-31 17:22:17
rhinotypeR/-2025-01-31 17:22:17
riboSeqR/-2025-01-31 17:22:18
ribor/-2025-01-31 17:22:18
ribosomeProfilingQC/-2025-01-31 17:22:18
rifi/-2025-01-31 17:22:18
rifiComparative/-2025-01-31 17:22:18
rmelting/-2025-01-31 17:22:18
rmspc/-2025-01-31 17:22:18
rnaEditr/-2025-01-31 17:22:18
rnaseqcomp/-2025-01-31 17:22:19
roar/-2025-01-31 17:22:19
roastgsa/-2025-01-31 17:22:19
rols/-2025-01-31 17:22:19
ropls/-2025-01-31 17:22:19
rprimer/-2025-01-31 17:22:19
rpx/-2025-01-31 17:22:19
rqt/-2025-01-31 17:22:20
rqubic/-2025-01-31 17:22:20
rrvgo/-2025-01-31 17:22:20
rsbml/-2025-01-31 17:19:22
rsemmed/-2025-01-31 17:22:20
rtracklayer/-2025-01-31 17:22:20
runibic/-2025-01-31 17:19:23
sRACIPE/-2025-01-31 17:22:31
sSNAPPY/-2025-01-31 17:22:31
sSeq/-2025-01-31 17:22:31
safe/-2025-01-31 17:22:21
sagenhaft/-2025-01-31 17:22:21
sampleClassifier/-2025-01-31 17:22:21
sangeranalyseR/-2025-01-31 17:22:21
sangerseqR/-2025-01-31 17:22:21
sarks/-2025-01-31 17:22:21
saseR/-2025-01-31 17:22:21
satuRn/-2025-01-31 17:22:21
scAnnotatR/-2025-01-31 17:22:22
scBFA/-2025-01-31 17:22:22
scBubbletree/-2025-01-31 17:22:22
scCB2/-2025-01-31 17:22:22
scClassify/-2025-01-31 17:22:22
scDD/-2025-01-31 17:22:23
scDDboost/-2025-01-31 17:22:23
scDataviz/-2025-01-31 17:22:22
scDblFinder/-2025-01-31 17:22:22
scDesign3/-2025-01-31 17:22:23
scDiagnostics/-2025-01-31 17:22:23
scDotPlot/-2025-01-31 17:22:23
scFeatureFilter/-2025-01-31 17:22:23
scFeatures/-2025-01-31 17:22:23
scGPS/-2025-01-31 17:22:23
scHOT/-2025-01-31 17:22:23
scMET/-2025-01-31 17:22:23
scMerge/-2025-01-31 17:22:23
scMitoMut/-2025-01-31 17:22:24
scMultiSim/-2025-01-31 17:22:24
scPCA/-2025-01-31 17:22:24
scPipe/-2025-01-31 17:22:24
scQTLtools/-2025-01-31 17:22:24
scRNAseqApp/-2025-01-31 17:22:24
scReClassify/-2025-01-31 17:22:24
scRecover/-2025-01-31 17:22:24
scRepertoire/-2025-01-31 17:22:24
scShapes/-2025-01-31 17:22:24
scTGIF/-2025-01-31 17:22:25
scTHI/-2025-01-31 17:22:25
scTensor/-2025-01-31 17:22:25
scTreeViz/-2025-01-31 17:22:25
scanMiR/-2025-01-31 17:22:22
scanMiRApp/-2025-01-31 17:22:22
scater/-2025-01-31 17:22:22
scatterHatch/-2025-01-31 17:22:22
sccomp/-2025-01-31 17:22:22
scde/-2025-01-31 17:22:23
scds/-2025-01-31 17:22:23
schex/-2025-01-31 17:22:23
scider/-2025-01-31 17:22:23
scifer/-2025-01-31 17:22:23
scmap/-2025-01-31 17:22:23
scmeth/-2025-01-31 17:22:23
scone/-2025-01-31 17:22:24
scoreInvHap/-2025-01-31 17:22:24
scoup/-2025-01-31 17:22:24
scp/-2025-01-31 17:22:24
scran/-2025-01-31 17:22:24
scrapper/-2025-01-31 17:22:24
screenCounter/-2025-01-31 17:22:24
scruff/-2025-01-31 17:22:24
scry/-2025-01-31 17:22:24
scuttle/-2025-01-31 17:22:25
scviR/-2025-01-31 17:22:25
seahtrue/-2025-01-31 17:22:25
sechm/-2025-01-31 17:22:25
segmentSeq/-2025-01-31 17:22:25
segmenter/-2025-01-31 17:22:25
selectKSigs/-2025-01-31 17:22:25
semisup/-2025-01-31 17:22:25
seq.hotSPOT/-2025-01-31 17:22:25
seq2pathway/-2025-01-31 17:22:25
seqArchR/-2025-01-31 17:22:25
seqArchRplus/-2025-01-31 17:22:25
seqCAT/-2025-01-31 17:22:25
seqLogo/-2025-01-31 17:22:26
seqPattern/-2025-01-31 17:22:26
seqTools/-2025-01-31 17:22:26
seqcombo/-2025-01-31 17:22:25
seqsetvis/-2025-01-31 17:22:26
sesame/-2025-01-31 17:22:26
sevenC/-2025-01-31 17:22:26
sevenbridges/-2025-01-31 17:22:26
shiny.gosling/-2025-01-31 17:22:26
shinyMethyl/-2025-01-31 17:22:26
shinyepico/-2025-01-31 17:22:26
sigFeature/-2025-01-31 17:22:26
siggenes/-2025-01-31 17:22:27
sights/-2025-01-31 17:22:27
signatureSearch/-2025-01-31 17:22:27
signeR/-2025-01-31 17:22:27
signifinder/-2025-01-31 17:22:27
sigsquared/-2025-01-31 17:22:27
simPIC/-2025-01-31 17:22:27
similaRpeak/-2025-01-31 17:22:27
simona/-2025-01-31 17:22:27
simpleSeg/-2025-01-31 17:22:27
simplifyEnrichment/-2025-01-31 17:22:27
sincell/-2025-01-31 17:22:27
single/-2024-10-24 15:04:43
singleCellTK/-2025-01-31 17:22:27
singscore/-2025-01-31 17:22:28
sitadela/-2025-01-31 17:22:28
sitePath/-2025-01-31 17:22:28
sizepower/-2025-01-31 17:22:28
sketchR/-2025-01-31 17:22:28
skewr/-2025-01-31 17:22:28
slalom/-2025-01-31 17:22:28
slingshot/-2025-01-31 17:22:28
smartid/-2025-01-31 17:22:28
smoothclust/-2025-01-31 17:22:28
smoppix/-2025-01-31 17:22:28
snapcount/-2025-01-31 17:22:28
snifter/-2025-01-31 17:22:28
snm/-2025-01-31 17:22:28
snpStats/-2025-01-31 17:22:29
soGGi/-2025-01-31 17:22:29
sosta/-2025-01-31 17:22:29
spaSim/-2025-01-31 17:22:29
sparrow/-2025-01-31 17:22:29
sparseMatrixStats/-2025-01-31 17:22:29
sparsenetgls/-2025-01-31 17:22:29
spatialDE/-2025-01-31 17:22:29
spatialFDA/-2025-01-31 17:22:29
spatialHeatmap/-2025-01-31 17:22:30
spatialSimGP/-2025-01-31 17:22:30
spatzie/-2025-01-31 17:22:30
specL/-2025-01-31 17:22:30
speckle/-2025-01-31 17:22:30
spicyR/-2025-01-31 17:22:30
spikeLI/-2025-01-31 17:22:30
spiky/-2025-01-31 17:22:30
spillR/-2025-01-31 17:22:30
spkTools/-2025-01-31 17:22:30
splatter/-2025-01-31 17:22:30
splineTimeR/-2025-01-31 17:22:31
splots/-2025-01-31 17:22:31
spoon/-2025-01-31 17:22:31
spqn/-2025-01-31 17:22:31
squallms/-2025-01-31 17:22:31
srnadiff/-2025-01-31 17:22:31
ssPATHS/-2025-01-31 17:22:31
sscu/-2025-01-31 17:22:31
ssize/-2025-01-31 17:22:31
ssrch/-2025-01-31 17:22:31
ssviz/-2025-01-31 17:22:32
stJoincount/-2025-01-31 17:22:32
staRank/-2025-01-31 17:22:32
stageR/-2025-01-31 17:22:32
standR/-2025-01-31 17:22:32
statTarget/-2025-01-31 17:22:32
stepNorm/-2025-01-31 17:22:32
strandCheckR/-2025-01-31 17:22:32
struct/-2025-01-31 17:22:32
structToolbox/-2025-01-31 17:22:32
subSeq/-2025-01-31 17:22:32
supersigs/-2025-01-31 17:22:33
supraHex/-2025-01-31 17:22:33
surfaltr/-2025-01-31 17:22:33
survClust/-2025-01-31 17:22:33
survcomp/-2025-01-31 17:22:33
survtype/-2025-01-31 17:22:33
sva/-2025-01-31 17:22:33
svaNUMT/-2025-01-31 17:22:33
svaRetro/-2025-01-31 17:22:33
swfdr/-2025-01-31 17:22:33
switchBox/-2025-01-31 17:22:33
switchde/-2025-01-31 17:22:33
synapsis/-2025-01-31 17:22:33
synapter/-2025-01-31 17:22:33
synergyfinder/-2025-01-31 17:22:33
synlet/-2025-01-31 17:22:33
syntenet/-2025-01-31 17:22:33
systemPipeR/-2025-01-31 17:22:33
systemPipeShiny/-2025-01-31 17:22:34
systemPipeTools/-2025-01-31 17:22:34
tLOH/-2025-01-31 17:22:36
tRNA/-2025-01-31 17:22:38
tRNAdbImport/-2025-01-31 17:22:38
tRNAscanImport/-2025-01-31 17:22:38
tRanslatome/-2025-01-31 17:22:37
tadar/-2025-01-31 17:22:34
tanggle/-2025-01-31 17:22:34
target/-2025-01-31 17:22:34
tenXplore/-2025-01-31 17:22:34
ternarynet/-2025-01-31 17:22:34
terraTCGAdata/-2025-01-31 17:22:34
tidyCoverage/-2025-01-31 17:22:35
tidyFlowCore/-2025-01-31 17:22:35
tidySingleCellExperiment/-2025-01-31 17:22:35
tidySpatialExperiment/-2025-01-31 17:22:35
tidySummarizedExperiment/-2025-01-31 17:22:35
tidybulk/-2025-01-31 17:22:35
tidyomics/-2025-01-31 17:22:35
tidysbml/-2025-01-31 17:22:35
tidytof/-2025-01-31 17:22:35
tigre/-2025-01-31 17:22:35
tilingArray/-2025-01-31 17:22:35
timeOmics/-2025-01-31 17:22:35
timecourse/-2025-01-31 17:22:35
timescape/-2025-01-31 17:22:35
tkWidgets/-2025-01-31 17:22:35
tomoda/-2025-01-31 17:22:36
tomoseqr/-2025-01-31 17:22:36
topGO/-2025-01-31 17:22:36
topconfects/-2025-01-31 17:22:36
topdownr/-2025-01-31 17:22:36
tpSVG/-2025-01-31 17:22:36
trackViewer/-2025-01-31 17:22:36
tracktables/-2025-01-31 17:22:36
tradeSeq/-2025-01-31 17:22:36
transcriptR/-2025-01-31 17:22:36
transcriptogramer/-2025-01-31 17:22:36
transformGamPoi/-2025-01-31 17:22:37
transite/-2025-01-31 17:22:37
transmogR/-2025-01-31 17:22:37
transomics2cytoscape/-2025-01-31 17:22:37
traseR/-2025-01-31 17:22:37
traviz/-2025-01-31 17:22:37
treeclimbR/-2025-01-31 17:22:37
treeio/-2025-01-31 17:22:37
treekoR/-2025-01-31 17:22:37
tricycle/-2025-01-31 17:22:37
trigger/-2025-01-31 17:22:37
trio/-2025-01-31 17:22:37
triplex/-2025-01-31 17:22:37
tripr/-2025-01-31 17:22:37
ttgsea/-2025-01-31 17:22:38
tweeDEseq/-2025-01-31 17:22:38
twilight/-2025-01-31 17:22:38
twoddpcr/-2025-01-31 17:22:38
txcutr/-2025-01-31 17:22:38
txdbmaker/-2025-01-31 17:22:38
tximeta/-2025-01-31 17:22:38
tximport/-2025-01-31 17:22:38
uSORT/-2025-01-31 17:22:39
uncoverappLib/-2025-01-31 17:22:38
unifiedWMWqPCR/-2025-01-31 17:22:39
universalmotif/-2025-01-31 17:22:39
updateObject/-2025-01-31 17:22:39
variancePartition/-2025-01-31 17:22:39
vbmp/-2025-01-31 17:22:39
velociraptor/-2025-01-31 17:22:39
veloviz/-2025-01-31 17:22:39
vidger/-2025-01-31 17:22:40
viper/-2025-01-31 17:22:40
visiumStitched/-2025-01-31 17:22:40
vissE/-2025-01-31 17:22:40
vsclust/-2025-01-31 17:22:40
vsn/-2025-01-31 17:22:40
vtpnet/-2025-01-31 17:22:40
vulcan/-2025-01-31 17:22:40
waddR/-2025-01-31 17:22:40
wateRmelon/-2025-01-31 17:22:40
wavClusteR/-2025-01-31 17:22:40
weaver/-2025-01-31 17:22:40
webbioc/-2025-01-31 17:22:40
weitrix/-2025-01-31 17:22:40
widgetTools/-2025-01-31 17:22:40
wiggleplotr/-2025-01-31 17:22:40
wpm/-2025-01-31 17:22:40
wppi/-2025-01-31 17:22:40
xCell2/-2025-01-31 17:22:41
xcms/-2025-01-31 17:22:41
xcore/-2025-01-31 17:22:41
xenLite/-2025-01-31 17:22:41
xmapbridge/-2025-01-31 17:22:41
yamss/-2025-01-31 17:22:41
yarn/-2025-01-31 17:22:41
zFPKM/-2025-01-31 17:22:41
zellkonverter/-2025-01-31 17:22:41
zenith/-2025-01-31 17:22:41
zinbwave/-2025-01-31 17:22:41
zitools/-2025-01-31 17:22:41
zlibbioc/-2025-01-31 17:22:41
120px-Blue_Light_Icon.svg.png7.1 KiB2025-01-31 17:15:44
120px-Green_Light_Icon.svg.png7.1 KiB2025-01-31 17:15:44
120px-Red_Light_Icon.svg.png7.0 KiB2025-01-31 17:15:44
BUILD_STATUS_DB.txt1.0 MiB2025-01-31 17:15:43
DEVEL3b.png2.6 KiB2025-01-31 17:15:44
PROPAGATION_STATUS_DB.txt714.4 KiB2025-01-31 17:15:43
Renviron.bioc3.3 KiB2025-01-31 17:15:44
index.html1.3 MiB2025-01-31 17:22:56
kjohnson3-NodeInfo.html6.7 KiB2025-01-31 17:15:44
kjohnson3-R-instpkgs.html589.4 KiB2025-01-31 17:15:44
kjohnson3-index.html3.3 MiB2025-01-31 17:22:56
kunpeng2-NodeInfo.html7.7 KiB2025-01-30 18:08:43
kunpeng2-R-instpkgs.html531.9 KiB2025-01-30 18:08:43
kunpeng2-index.html2.0 MiB2025-01-30 18:13:52
lconway-NodeInfo.html6.8 KiB2025-01-31 17:15:44
lconway-R-instpkgs.html600.0 KiB2025-01-31 17:15:44
lconway-index.html3.3 MiB2025-01-31 17:22:50
long-report.html14.0 MiB2025-01-31 17:23:11
meat-index.dcf235.5 KiB2025-01-31 17:15:43
nebbiolo1-NodeInfo.html6.9 KiB2025-01-31 17:15:44
nebbiolo1-R-instpkgs.html515.4 KiB2025-01-31 17:15:44
nebbiolo1-index.html2.9 MiB2025-01-31 17:22:43
palomino7-NodeInfo.html7.0 KiB2025-01-31 17:15:44
palomino7-R-instpkgs.html458.9 KiB2025-01-31 17:15:44
palomino7-index.html3.3 MiB2025-01-31 17:22:46
pkg_dep_graph.txt375.6 KiB2025-01-31 17:15:44
report.css11.0 KiB2025-01-31 17:15:44
report.js6.0 KiB2025-01-31 17:15:44
report.tgz87.3 MiB2025-01-31 17:24:22
skipped-index.dcf0 B2025-01-31 17:15:43