Package: hgu2beta7 Version: 1.44.0 Command: /home/biocbuild/bbs-3.19-bioc/R/bin/R CMD check --install=check:hgu2beta7.install-out.txt --library=/home/biocbuild/bbs-3.19-bioc/R/site-library --timings hgu2beta7_1.44.0.tar.gz StartedAt: 2024-10-17 11:32:35 -0400 (Thu, 17 Oct 2024) EndedAt: 2024-10-17 11:32:51 -0400 (Thu, 17 Oct 2024) EllapsedTime: 15.9 seconds RetCode: 0 Status: WARNINGS CheckDir: hgu2beta7.Rcheck Warnings: 4