Package: MMAPPR2data Version: 1.18.0 Maintainer: Jonathon Hill MaintainerEmail: jhill at byu.edu git_url: https://git.bioconductor.org/packages/MMAPPR2data git_branch: RELEASE_3_19 git_last_commit: 02075fb git_last_commit_date: 2024-04-30 10:51:59 -0400 (Tue, 30 Apr 2024)