Package: ontoProcData Version: 0.99.9904 Command: /home/biocbuild/bbs-3.19-bioc/R/bin/R CMD check --install=check:ontoProcData.install-out.txt --library=/home/biocbuild/bbs-3.19-bioc/R/site-library --timings ontoProcData_0.99.9904.tar.gz StartedAt: 2024-10-16 06:34:28 -0400 (Wed, 16 Oct 2024) EndedAt: 2024-10-16 06:34:44 -0400 (Wed, 16 Oct 2024) EllapsedTime: 16.0 seconds RetCode: 1 Status: ERROR CheckDir: ontoProcData.Rcheck Warnings: NA