Package: UCSCRepeatMasker Version: 3.17.3 Command: /home/biocbuild/bbs-3.19-bioc/R/bin/R CMD check --install=check:UCSCRepeatMasker.install-out.txt --library=/home/biocbuild/bbs-3.19-bioc/R/site-library --timings UCSCRepeatMasker_3.17.3.tar.gz StartedAt: 2024-10-16 06:35:04 -0400 (Wed, 16 Oct 2024) EndedAt: 2024-10-16 06:37:04 -0400 (Wed, 16 Oct 2024) EllapsedTime: 119.2 seconds RetCode: 1 Status: ERROR CheckDir: UCSCRepeatMasker.Rcheck Warnings: NA