Package: recountWorkflow Version: 1.26.0 Command: /Library/Frameworks/R.framework/Resources/bin/R CMD build --keep-empty-dirs --no-resave-data recountWorkflow StartedAt: 2024-04-16 11:23:16 -0400 (Tue, 16 Apr 2024) EndedAt: 2024-04-16 12:12:31 -0400 (Tue, 16 Apr 2024) EllapsedTime: 2954.6 seconds RetCode: 1 Status: ERROR PackageFile: None PackageFileSize: NA