Package: COHCAPanno Version: 1.38.0 Maintainer: Charles Warden MaintainerEmail: cwarden45 at gmail.com git_url: https://git.bioconductor.org/packages/COHCAPanno git_branch: RELEASE_3_18 git_last_commit: 5784d61 git_last_commit_date: 2023-10-24 09:07:20 -0400 (Tue, 24 Oct 2023)