Package: sequencing Version: 1.24.0 Command: /home/biocbuild/bbs-3.17-bioc/R/bin/R CMD INSTALL sequencing StartedAt: 2023-10-13 08:00:11 -0400 (Fri, 13 Oct 2023) EndedAt: 2023-10-13 08:00:41 -0400 (Fri, 13 Oct 2023) EllapsedTime: 29.7 seconds RetCode: 0 Status: OK