git_url: https://git.bioconductor.org/packages/sequencing git_branch: RELEASE_3_17 git_last_commit: f65c252 git_last_commit_date: 2023-04-25 09:45:56 -0400 (Tue, 25 Apr 2023) Package: sequencing Version: 1.24.0 Maintainer: Bioconductor Package Maintainer MaintainerEmail: maintainer at bioconductor.org