Package: rnaseqGene Version: 1.24.0 Command: /home/biocbuild/bbs-3.17-bioc/R/bin/R CMD build --keep-empty-dirs --no-resave-data rnaseqGene StartedAt: 2023-10-13 08:03:01 -0400 (Fri, 13 Oct 2023) EndedAt: 2023-10-13 08:06:28 -0400 (Fri, 13 Oct 2023) EllapsedTime: 207.5 seconds RetCode: 0 Status: OK PackageFile: rnaseqGene_1.24.0.tar.gz PackageFileSize: 1.232 MiB