git_url: https://git.bioconductor.org/packages/rnaseqGene git_branch: RELEASE_3_17 git_last_commit: b874d54 git_last_commit_date: 2023-04-25 09:45:49 -0400 (Tue, 25 Apr 2023) Package: rnaseqGene Version: 1.24.0 Maintainer: Michael Love MaintainerEmail: michaelisaiahlove at gmail.com