Package: highthroughputassays Version: 1.24.0 Command: /home/biocbuild/bbs-3.17-bioc/R/bin/R CMD build --keep-empty-dirs --no-resave-data highthroughputassays StartedAt: 2023-10-13 08:02:50 -0400 (Fri, 13 Oct 2023) EndedAt: 2023-10-13 08:03:17 -0400 (Fri, 13 Oct 2023) EllapsedTime: 26.6 seconds RetCode: 0 Status: OK PackageFile: highthroughputassays_1.24.0.tar.gz PackageFileSize: 419.9 KiB