git_url: https://git.bioconductor.org/packages/TCGAWorkflow git_branch: RELEASE_3_17 git_last_commit: 1c1b1c1 git_last_commit_date: 2023-07-25 14:48:16 -0400 (Tue, 25 Jul 2023) Package: TCGAWorkflow Version: 1.24.1 Maintainer: Tiago Chedraoui Silva MaintainerEmail: tiagochst at gmail.com