git_url: https://git.bioconductor.org/packages/ExpressionNormalizationWorkflow git_branch: RELEASE_3_17 git_last_commit: f187612 git_last_commit_date: 2023-04-25 09:45:25 -0400 (Tue, 25 Apr 2023) Package: ExpressionNormalizationWorkflow Version: 1.26.0 Maintainer: Karthikeyan Murugesan MaintainerEmail: karthikeyanm60 at yahoo.com