Package: xcore Version: 1.4.0 Command: rm -rf xcore.buildbin-libdir && mkdir xcore.buildbin-libdir && /Users/biocbuild/BBS/utils/build-universal.sh xcore_1.4.0.tar.gz /Library/Frameworks/R.framework/Resources/bin/R xcore.buildbin-libdir StartedAt: 2023-10-19 18:11:09 -0400 (Thu, 19 Oct 2023) EndedAt: 2023-10-19 18:12:09 -0400 (Thu, 19 Oct 2023) EllapsedTime: 60.8 seconds RetCode: 0 Status: OK PackageFile: xcore_1.4.0.tgz PackageFileSize: 1.896 MiB