Package: viper Version: 1.34.0 Command: /Library/Frameworks/R.framework/Resources/bin/R CMD build --keep-empty-dirs --no-resave-data viper StartedAt: 2023-10-17 00:26:58 -0400 (Tue, 17 Oct 2023) EndedAt: 2023-10-17 00:34:28 -0400 (Tue, 17 Oct 2023) EllapsedTime: 450.7 seconds RetCode: 0 Status: OK PackageFile: viper_1.34.0.tar.gz PackageFileSize: 503.5 KiB