Package: twilight Version: 1.76.0 Command: /Library/Frameworks/R.framework/Resources/bin/R CMD check --install=check:twilight.install-out.txt --library=/Library/Frameworks/R.framework/Resources/library --no-vignettes --timings twilight_1.76.0.tar.gz StartedAt: 2023-10-19 08:46:32 -0400 (Thu, 19 Oct 2023) EndedAt: 2023-10-19 08:47:45 -0400 (Thu, 19 Oct 2023) EllapsedTime: 72.8 seconds RetCode: 0 Status: WARNINGS CheckDir: twilight.Rcheck Warnings: 1