Package: tomoda Version: 1.10.0 Command: rm -rf tomoda.buildbin-libdir && mkdir tomoda.buildbin-libdir && /Users/biocbuild/BBS/utils/build-universal.sh tomoda_1.10.0.tar.gz /Library/Frameworks/R.framework/Resources/bin/R tomoda.buildbin-libdir StartedAt: 2023-10-19 17:52:30 -0400 (Thu, 19 Oct 2023) EndedAt: 2023-10-19 17:53:32 -0400 (Thu, 19 Oct 2023) EllapsedTime: 61.5 seconds RetCode: 0 Status: OK PackageFile: tomoda_1.10.0.tgz PackageFileSize: 2.798 MiB