Package: scTreeViz Version: 1.6.0 Command: /Library/Frameworks/R.framework/Resources/bin/R CMD INSTALL scTreeViz StartedAt: 2023-10-15 19:10:47 -0400 (Sun, 15 Oct 2023) EndedAt: 2023-10-15 19:12:48 -0400 (Sun, 15 Oct 2023) EllapsedTime: 121.5 seconds RetCode: 0 Status: OK