Package: roar Version: 1.36.0 Command: /Library/Frameworks/R.framework/Resources/bin/R CMD INSTALL roar StartedAt: 2023-10-15 16:21:15 -0400 (Sun, 15 Oct 2023) EndedAt: 2023-10-15 16:22:11 -0400 (Sun, 15 Oct 2023) EllapsedTime: 55.2 seconds RetCode: 0 Status: OK