git_url: https://git.bioconductor.org/packages/pathwayPCA git_branch: RELEASE_3_17 git_last_commit: 68921ca git_last_commit_date: 2023-06-29 10:15:15 -0400 (Thu, 29 Jun 2023) Package: pathwayPCA Version: 1.16.1 Maintainer: Gabriel Odom MaintainerEmail: gabriel.odom at med.miami.edu