Package: orthogene Version: 1.6.1 Command: rm -rf orthogene.buildbin-libdir && mkdir orthogene.buildbin-libdir && /Users/biocbuild/BBS/utils/build-universal.sh orthogene_1.6.1.tar.gz /Library/Frameworks/R.framework/Resources/bin/R orthogene.buildbin-libdir StartedAt: 2023-10-19 15:41:28 -0400 (Thu, 19 Oct 2023) EndedAt: 2023-10-19 15:41:59 -0400 (Thu, 19 Oct 2023) EllapsedTime: 30.2 seconds RetCode: 0 Status: OK PackageFile: orthogene_1.6.1.tgz PackageFileSize: 2.764 MiB