Package: miaViz Version: 1.8.0 Command: rm -rf miaViz.buildbin-libdir && mkdir miaViz.buildbin-libdir && /Users/biocbuild/BBS/utils/build-universal.sh miaViz_1.8.0.tar.gz /Library/Frameworks/R.framework/Resources/bin/R miaViz.buildbin-libdir StartedAt: 2023-10-19 14:52:56 -0400 (Thu, 19 Oct 2023) EndedAt: 2023-10-19 14:54:39 -0400 (Thu, 19 Oct 2023) EllapsedTime: 103.4 seconds RetCode: 0 Status: OK PackageFile: miaViz_1.8.0.tgz PackageFileSize: 2.628 MiB