Package: macat Version: 1.74.0 Command: rm -rf macat.buildbin-libdir && mkdir macat.buildbin-libdir && /Users/biocbuild/BBS/utils/build-universal.sh macat_1.74.0.tar.gz /Library/Frameworks/R.framework/Resources/bin/R macat.buildbin-libdir StartedAt: 2023-10-19 14:28:49 -0400 (Thu, 19 Oct 2023) EndedAt: 2023-10-19 14:29:31 -0400 (Thu, 19 Oct 2023) EllapsedTime: 42.5 seconds RetCode: 0 Status: OK PackageFile: macat_1.74.0.tgz PackageFileSize: 1.033 MiB