Package: graph Version: 1.78.0 Command: /Library/Frameworks/R.framework/Resources/bin/R CMD build --keep-empty-dirs --no-resave-data graph StartedAt: 2023-10-16 05:15:10 -0400 (Mon, 16 Oct 2023) EndedAt: 2023-10-16 05:16:05 -0400 (Mon, 16 Oct 2023) EllapsedTime: 55.1 seconds RetCode: 0 Status: OK PackageFile: graph_1.78.0.tar.gz PackageFileSize: 1.323 MiB