Package: funtooNorm Version: 1.24.0 Command: /Library/Frameworks/R.framework/Resources/bin/R CMD check --install=check:funtooNorm.install-out.txt --library=/Library/Frameworks/R.framework/Resources/library --no-vignettes --timings funtooNorm_1.24.0.tar.gz StartedAt: 2023-10-17 20:25:52 -0400 (Tue, 17 Oct 2023) EndedAt: 2023-10-17 20:38:03 -0400 (Tue, 17 Oct 2023) EllapsedTime: 730.4 seconds RetCode: 0 Status: WARNINGS CheckDir: funtooNorm.Rcheck Warnings: 2