Package: flowMeans Version: 1.60.0 Command: /Library/Frameworks/R.framework/Resources/bin/R CMD INSTALL flowMeans StartedAt: 2023-10-15 15:41:23 -0400 (Sun, 15 Oct 2023) EndedAt: 2023-10-15 15:41:48 -0400 (Sun, 15 Oct 2023) EllapsedTime: 24.9 seconds RetCode: 0 Status: OK